{"text_format":"1","workbook":"xlsx","n_sheets":4,"sheets":["名簿","カレンダー","メール","説明"],"not_rendered":{"charts":0,"images":2,"macros":1,"external_links":0,"defined_names":15,"comments":1,"pivot_tables":0},"unopened":[],"bounds":{"document_bytes":16777216,"sheet_cells":100000,"rows_first":2000,"rows_last":500,"rows_between":2000,"halvings":0,"cell_chars":16384,"cell_head_chars":4096},"cells_cut":0,"cells_raw":0,"read":"whole","date_system":"1900"}

{"sheet":"名簿","index":0,"n_rows":505,"n_cols":11,"rows_kept":505,"cut":false,"hidden":false,"merged":[]}
[]
[null,"名　簿"]
[null,null,"※「月」、「月日」、「年齢」は、生年月日より自動計算されます。値の入力はしないでください。"]
[null,"社員番号","月","月日","氏　名","生年月日","年齢","役職","部署","メールアドレス","補　足"]
[null,null,{"$f":"IF(ISBLANK(課題[[#This Row],[生年月日]]),0,MONTH(課題[[#This Row],[生年月日]]))","v":0},{"$f":"TEXT(課題[[#This Row],[生年月日]],\"mmdd\")","v":"0100"},null,null,{"$f":"IF(ISBLANK(課題[[#This Row],[生年月日]]),\"\",DATEDIF(課題[[#This Row],[生年月日]],TODAY(),\"Y\"))","v":""}]
[null,null,{"$f":"IF(ISBLANK(課題[[#This Row],[生年月日]]),0,MONTH(課題[[#This Row],[生年月日]]))","v":0},{"$f":"TEXT(課題[[#This Row],[生年月日]],\"mmdd\")","v":"0100"},null,null,{"$f":"IF(ISBLANK(課題[[#This Row],[生年月日]]),\"\",DATEDIF(課題[[#This Row],[生年月日]],TODAY(),\"Y\"))","v":""}]
[null,null,{"$f":"IF(ISBLANK(課題[[#This Row],[生年月日]]),0,MONTH(課題[[#This Row],[生年月日]]))","v":0},{"$f":"TEXT(課題[[#This Row],[生年月日]],\"mmdd\")","v":"0100"},null,null,{"$f":"IF(ISBLANK(課題[[#This Row],[生年月日]]),\"\",DATEDIF(課題[[#This Row],[生年月日]],TODAY(),\"Y\"))","v":""}]
[null,null,{"$f":"IF(ISBLANK(課題[[#This Row],[生年月日]]),0,MONTH(課題[[#This Row],[生年月日]]))","v":0},{"$f":"TEXT(課題[[#This Row],[生年月日]],\"mmdd\")","v":"0100"},null,null,{"$f":"IF(ISBLANK(課題[[#This Row],[生年月日]]),\"\",DATEDIF(課題[[#This Row],[生年月日]],TODAY(),\"Y\"))","v":""}]
[null,null,{"$f":"IF(ISBLANK(課題[[#This Row],[生年月日]]),0,MONTH(課題[[#This Row],[生年月日]]))","v":0},{"$f":"TEXT(課題[[#This Row],[生年月日]],\"mmdd\")","v":"0100"},null,null,{"$f":"IF(ISBLANK(課題[[#This Row],[生年月日]]),\"\",DATEDIF(課題[[#This Row],[生年月日]],TODAY(),\"Y\"))","v":""}]
[null,null,{"$f":"IF(ISBLANK(課題[[#This Row],[生年月日]]),0,MONTH(課題[[#This Row],[生年月日]]))","v":0},{"$f":"TEXT(課題[[#This Row],[生年月日]],\"mmdd\")","v":"0100"},null,null,{"$f":"IF(ISBLANK(課題[[#This Row],[生年月日]]),\"\",DATEDIF(課題[[#This Row],[生年月日]],TODAY(),\"Y\"))","v":""}]
[null,null,{"$f":"IF(ISBLANK(課題[[#This Row],[生年月日]]),0,MONTH(課題[[#This Row],[生年月日]]))","v":0},{"$f":"TEXT(課題[[#This Row],[生年月日]],\"mmdd\")","v":"0100"},null,null,{"$f":"IF(ISBLANK(課題[[#This Row],[生年月日]]),\"\",DATEDIF(課題[[#This Row],[生年月日]],TODAY(),\"Y\"))","v":""}]
[null,null,{"$f":"IF(ISBLANK(課題[[#This Row],[生年月日]]),0,MONTH(課題[[#This Row],[生年月日]]))","v":0},{"$f":"TEXT(課題[[#This Row],[生年月日]],\"mmdd\")","v":"0100"},null,null,{"$f":"IF(ISBLANK(課題[[#This Row],[生年月日]]),\"\",DATEDIF(課題[[#This Row],[生年月日]],TODAY(),\"Y\"))","v":""}]
[null,null,{"$f":"IF(ISBLANK(課題[[#This Row],[生年月日]]),0,MONTH(課題[[#This Row],[生年月日]]))","v":0},{"$f":"TEXT(課題[[#This Row],[生年月日]],\"mmdd\")","v":"0100"},null,null,{"$f":"IF(ISBLANK(課題[[#This Row],[生年月日]]),\"\",DATEDIF(課題[[#This Row],[生年月日]],TODAY(),\"Y\"))","v":""}]
[null,null,{"$f":"IF(ISBLANK(課題[[#This Row],[生年月日]]),0,MONTH(課題[[#This Row],[生年月日]]))","v":0},{"$f":"TEXT(課題[[#This Row],[生年月日]],\"mmdd\")","v":"0100"},null,null,{"$f":"IF(ISBLANK(課題[[#This Row],[生年月日]]),\"\",DATEDIF(課題[[#This Row],[生年月日]],TODAY(),\"Y\"))","v":""}]
[null,null,{"$f":"IF(ISBLANK(課題[[#This Row],[生年月日]]),0,MONTH(課題[[#This Row],[生年月日]]))","v":0},{"$f":"TEXT(課題[[#This Row],[生年月日]],\"mmdd\")","v":"0100"},null,null,{"$f":"IF(ISBLANK(課題[[#This Row],[生年月日]]),\"\",DATEDIF(課題[[#This Row],[生年月日]],TODAY(),\"Y\"))","v":""}]
[null,null,{"$f":"IF(ISBLANK(課題[[#This Row],[生年月日]]),0,MONTH(課題[[#This Row],[生年月日]]))","v":0},{"$f":"TEXT(課題[[#This Row],[生年月日]],\"mmdd\")","v":"0100"},null,null,{"$f":"IF(ISBLANK(課題[[#This Row],[生年月日]]),\"\",DATEDIF(課題[[#This Row],[生年月日]],TODAY(),\"Y\"))","v":""}]
[null,null,{"$f":"IF(ISBLANK(課題[[#This Row],[生年月日]]),0,MONTH(課題[[#This Row],[生年月日]]))","v":0},{"$f":"TEXT(課題[[#This Row],[生年月日]],\"mmdd\")","v":"0100"},null,null,{"$f":"IF(ISBLANK(課題[[#This Row],[生年月日]]),\"\",DATEDIF(課題[[#This Row],[生年月日]],TODAY(),\"Y\"))","v":""}]
[null,null,{"$f":"IF(ISBLANK(課題[[#This Row],[生年月日]]),0,MONTH(課題[[#This Row],[生年月日]]))","v":0},{"$f":"TEXT(課題[[#This Row],[生年月日]],\"mmdd\")","v":"0100"},null,null,{"$f":"IF(ISBLANK(課題[[#This Row],[生年月日]]),\"\",DATEDIF(課題[[#This Row],[生年月日]],TODAY(),\"Y\"))","v":""}]
[null,null,{"$f":"IF(ISBLANK(課題[[#This Row],[生年月日]]),0,MONTH(課題[[#This Row],[生年月日]]))","v":0},{"$f":"TEXT(課題[[#This Row],[生年月日]],\"mmdd\")","v":"0100"},null,null,{"$f":"IF(ISBLANK(課題[[#This Row],[生年月日]]),\"\",DATEDIF(課題[[#This Row],[生年月日]],TODAY(),\"Y\"))","v":""}]
[null,null,{"$f":"IF(ISBLANK(課題[[#This Row],[生年月日]]),0,MONTH(課題[[#This Row],[生年月日]]))","v":0},{"$f":"TEXT(課題[[#This Row],[生年月日]],\"mmdd\")","v":"0100"},null,null,{"$f":"IF(ISBLANK(課題[[#This Row],[生年月日]]),\"\",DATEDIF(課題[[#This Row],[生年月日]],TODAY(),\"Y\"))","v":""}]
[null,null,{"$f":"IF(ISBLANK(課題[[#This Row],[生年月日]]),0,MONTH(課題[[#This Row],[生年月日]]))","v":0},{"$f":"TEXT(課題[[#This Row],[生年月日]],\"mmdd\")","v":"0100"},null,null,{"$f":"IF(ISBLANK(課題[[#This Row],[生年月日]]),\"\",DATEDIF(課題[[#This Row],[生年月日]],TODAY(),\"Y\"))","v":""}]
[null,null,{"$f":"IF(ISBLANK(課題[[#This Row],[生年月日]]),0,MONTH(課題[[#This Row],[生年月日]]))","v":0},{"$f":"TEXT(課題[[#This Row],[生年月日]],\"mmdd\")","v":"0100"},null,null,{"$f":"IF(ISBLANK(課題[[#This Row],[生年月日]]),\"\",DATEDIF(課題[[#This Row],[生年月日]],TODAY(),\"Y\"))","v":""}]
[null,null,{"$f":"IF(ISBLANK(課題[[#This Row],[生年月日]]),0,MONTH(課題[[#This Row],[生年月日]]))","v":0},{"$f":"TEXT(課題[[#This Row],[生年月日]],\"mmdd\")","v":"0100"},null,null,{"$f":"IF(ISBLANK(課題[[#This Row],[生年月日]]),\"\",DATEDIF(課題[[#This Row],[生年月日]],TODAY(),\"Y\"))","v":""}]
[null,null,{"$f":"IF(ISBLANK(課題[[#This Row],[生年月日]]),0,MONTH(課題[[#This Row],[生年月日]]))","v":0},{"$f":"TEXT(課題[[#This Row],[生年月日]],\"mmdd\")","v":"0100"},null,null,{"$f":"IF(ISBLANK(課題[[#This Row],[生年月日]]),\"\",DATEDIF(課題[[#This Row],[生年月日]],TODAY(),\"Y\"))","v":""}]
[null,null,{"$f":"IF(ISBLANK(課題[[#This Row],[生年月日]]),0,MONTH(課題[[#This Row],[生年月日]]))","v":0},{"$f":"TEXT(課題[[#This Row],[生年月日]],\"mmdd\")","v":"0100"},null,null,{"$f":"IF(ISBLANK(課題[[#This Row],[生年月日]]),\"\",DATEDIF(課題[[#This Row],[生年月日]],TODAY(),\"Y\"))","v":""}]
[null,null,{"$f":"IF(ISBLANK(課題[[#This Row],[生年月日]]),0,MONTH(課題[[#This Row],[生年月日]]))","v":0},{"$f":"TEXT(課題[[#This Row],[生年月日]],\"mmdd\")","v":"0100"},null,null,{"$f":"IF(ISBLANK(課題[[#This Row],[生年月日]]),\"\",DATEDIF(課題[[#This Row],[生年月日]],TODAY(),\"Y\"))","v":""}]
[null,null,{"$f":"IF(ISBLANK(課題[[#This Row],[生年月日]]),0,MONTH(課題[[#This Row],[生年月日]]))","v":0},{"$f":"TEXT(課題[[#This Row],[生年月日]],\"mmdd\")","v":"0100"},null,null,{"$f":"IF(ISBLANK(課題[[#This Row],[生年月日]]),\"\",DATEDIF(課題[[#This Row],[生年月日]],TODAY(),\"Y\"))","v":""}]
[null,null,{"$f":"IF(ISBLANK(課題[[#This Row],[生年月日]]),0,MONTH(課題[[#This Row],[生年月日]]))","v":0},{"$f":"TEXT(課題[[#This Row],[生年月日]],\"mmdd\")","v":"0100"},null,null,{"$f":"IF(ISBLANK(課題[[#This Row],[生年月日]]),\"\",DATEDIF(課題[[#This Row],[生年月日]],TODAY(),\"Y\"))","v":""}]
[null,null,{"$f":"IF(ISBLANK(課題[[#This Row],[生年月日]]),0,MONTH(課題[[#This Row],[生年月日]]))","v":0},{"$f":"TEXT(課題[[#This Row],[生年月日]],\"mmdd\")","v":"0100"},null,null,{"$f":"IF(ISBLANK(課題[[#This Row],[生年月日]]),\"\",DATEDIF(課題[[#This Row],[生年月日]],TODAY(),\"Y\"))","v":""}]
[null,null,{"$f":"IF(ISBLANK(課題[[#This Row],[生年月日]]),0,MONTH(課題[[#This Row],[生年月日]]))","v":0},{"$f":"TEXT(課題[[#This Row],[生年月日]],\"mmdd\")","v":"0100"},null,null,{"$f":"IF(ISBLANK(課題[[#This Row],[生年月日]]),\"\",DATEDIF(課題[[#This Row],[生年月日]],TODAY(),\"Y\"))","v":""}]
[null,null,{"$f":"IF(ISBLANK(課題[[#This Row],[生年月日]]),0,MONTH(課題[[#This Row],[生年月日]]))","v":0},{"$f":"TEXT(課題[[#This Row],[生年月日]],\"mmdd\")","v":"0100"},null,null,{"$f":"IF(ISBLANK(課題[[#This Row],[生年月日]]),\"\",DATEDIF(課題[[#This Row],[生年月日]],TODAY(),\"Y\"))","v":""}]
[null,null,{"$f":"IF(ISBLANK(課題[[#This Row],[生年月日]]),0,MONTH(課題[[#This Row],[生年月日]]))","v":0},{"$f":"TEXT(課題[[#This Row],[生年月日]],\"mmdd\")","v":"0100"},null,null,{"$f":"IF(ISBLANK(課題[[#This Row],[生年月日]]),\"\",DATEDIF(課題[[#This Row],[生年月日]],TODAY(),\"Y\"))","v":""}]
[null,null,{"$f":"IF(ISBLANK(課題[[#This Row],[生年月日]]),0,MONTH(課題[[#This Row],[生年月日]]))","v":0},{"$f":"TEXT(課題[[#This Row],[生年月日]],\"mmdd\")","v":"0100"},null,null,{"$f":"IF(ISBLANK(課題[[#This Row],[生年月日]]),\"\",DATEDIF(課題[[#This Row],[生年月日]],TODAY(),\"Y\"))","v":""}]
[null,null,{"$f":"IF(ISBLANK(課題[[#This Row],[生年月日]]),0,MONTH(課題[[#This Row],[生年月日]]))","v":0},{"$f":"TEXT(課題[[#This Row],[生年月日]],\"mmdd\")","v":"0100"},null,null,{"$f":"IF(ISBLANK(課題[[#This Row],[生年月日]]),\"\",DATEDIF(課題[[#This Row],[生年月日]],TODAY(),\"Y\"))","v":""}]
[null,null,{"$f":"IF(ISBLANK(課題[[#This Row],[生年月日]]),0,MONTH(課題[[#This Row],[生年月日]]))","v":0},{"$f":"TEXT(課題[[#This Row],[生年月日]],\"mmdd\")","v":"0100"},null,null,{"$f":"IF(ISBLANK(課題[[#This Row],[生年月日]]),\"\",DATEDIF(課題[[#This Row],[生年月日]],TODAY(),\"Y\"))","v":""}]
[null,null,{"$f":"IF(ISBLANK(課題[[#This Row],[生年月日]]),0,MONTH(課題[[#This Row],[生年月日]]))","v":0},{"$f":"TEXT(課題[[#This Row],[生年月日]],\"mmdd\")","v":"0100"},null,null,{"$f":"IF(ISBLANK(課題[[#This Row],[生年月日]]),\"\",DATEDIF(課題[[#This Row],[生年月日]],TODAY(),\"Y\"))","v":""}]
[null,null,{"$f":"IF(ISBLANK(課題[[#This Row],[生年月日]]),0,MONTH(課題[[#This Row],[生年月日]]))","v":0},{"$f":"TEXT(課題[[#This Row],[生年月日]],\"mmdd\")","v":"0100"},null,null,{"$f":"IF(ISBLANK(課題[[#This Row],[生年月日]]),\"\",DATEDIF(課題[[#This Row],[生年月日]],TODAY(),\"Y\"))","v":""}]
[null,null,{"$f":"IF(ISBLANK(課題[[#This Row],[生年月日]]),0,MONTH(課題[[#This Row],[生年月日]]))","v":0},{"$f":"TEXT(課題[[#This Row],[生年月日]],\"mmdd\")","v":"0100"},null,null,{"$f":"IF(ISBLANK(課題[[#This Row],[生年月日]]),\"\",DATEDIF(課題[[#This Row],[生年月日]],TODAY(),\"Y\"))","v":""}]
[null,null,{"$f":"IF(ISBLANK(課題[[#This Row],[生年月日]]),0,MONTH(課題[[#This Row],[生年月日]]))","v":0},{"$f":"TEXT(課題[[#This Row],[生年月日]],\"mmdd\")","v":"0100"},null,null,{"$f":"IF(ISBLANK(課題[[#This Row],[生年月日]]),\"\",DATEDIF(課題[[#This Row],[生年月日]],TODAY(),\"Y\"))","v":""}]
[null,null,{"$f":"IF(ISBLANK(課題[[#This Row],[生年月日]]),0,MONTH(課題[[#This Row],[生年月日]]))","v":0},{"$f":"TEXT(課題[[#This Row],[生年月日]],\"mmdd\")","v":"0100"},null,null,{"$f":"IF(ISBLANK(課題[[#This Row],[生年月日]]),\"\",DATEDIF(課題[[#This Row],[生年月日]],TODAY(),\"Y\"))","v":""}]
[null,null,{"$f":"IF(ISBLANK(課題[[#This Row],[生年月日]]),0,MONTH(課題[[#This Row],[生年月日]]))","v":0},{"$f":"TEXT(課題[[#This Row],[生年月日]],\"mmdd\")","v":"0100"},null,null,{"$f":"IF(ISBLANK(課題[[#This Row],[生年月日]]),\"\",DATEDIF(課題[[#This Row],[生年月日]],TODAY(),\"Y\"))","v":""}]
[null,null,{"$f":"IF(ISBLANK(課題[[#This Row],[生年月日]]),0,MONTH(課題[[#This Row],[生年月日]]))","v":0},{"$f":"TEXT(課題[[#This Row],[生年月日]],\"mmdd\")","v":"0100"},null,null,{"$f":"IF(ISBLANK(課題[[#This Row],[生年月日]]),\"\",DATEDIF(課題[[#This Row],[生年月日]],TODAY(),\"Y\"))","v":""}]
[null,null,{"$f":"IF(ISBLANK(課題[[#This Row],[生年月日]]),0,MONTH(課題[[#This Row],[生年月日]]))","v":0},{"$f":"TEXT(課題[[#This Row],[生年月日]],\"mmdd\")","v":"0100"},null,null,{"$f":"IF(ISBLANK(課題[[#This Row],[生年月日]]),\"\",DATEDIF(課題[[#This Row],[生年月日]],TODAY(),\"Y\"))","v":""}]
[null,null,{"$f":"IF(ISBLANK(課題[[#This Row],[生年月日]]),0,MONTH(課題[[#This Row],[生年月日]]))","v":0},{"$f":"TEXT(課題[[#This Row],[生年月日]],\"mmdd\")","v":"0100"},null,null,{"$f":"IF(ISBLANK(課題[[#This Row],[生年月日]]),\"\",DATEDIF(課題[[#This Row],[生年月日]],TODAY(),\"Y\"))","v":""}]
[null,null,{"$f":"IF(ISBLANK(課題[[#This Row],[生年月日]]),0,MONTH(課題[[#This Row],[生年月日]]))","v":0},{"$f":"TEXT(課題[[#This Row],[生年月日]],\"mmdd\")","v":"0100"},null,null,{"$f":"IF(ISBLANK(課題[[#This Row],[生年月日]]),\"\",DATEDIF(課題[[#This Row],[生年月日]],TODAY(),\"Y\"))","v":""}]
[null,null,{"$f":"IF(ISBLANK(課題[[#This Row],[生年月日]]),0,MONTH(課題[[#This Row],[生年月日]]))","v":0},{"$f":"TEXT(課題[[#This Row],[生年月日]],\"mmdd\")","v":"0100"},null,null,{"$f":"IF(ISBLANK(課題[[#This Row],[生年月日]]),\"\",DATEDIF(課題[[#This Row],[生年月日]],TODAY(),\"Y\"))","v":""}]
[null,null,{"$f":"IF(ISBLANK(課題[[#This Row],[生年月日]]),0,MONTH(課題[[#This Row],[生年月日]]))","v":0},{"$f":"TEXT(課題[[#This Row],[生年月日]],\"mmdd\")","v":"0100"},null,null,{"$f":"IF(ISBLANK(課題[[#This Row],[生年月日]]),\"\",DATEDIF(課題[[#This Row],[生年月日]],TODAY(),\"Y\"))","v":""}]
[null,null,{"$f":"IF(ISBLANK(課題[[#This Row],[生年月日]]),0,MONTH(課題[[#This Row],[生年月日]]))","v":0},{"$f":"TEXT(課題[[#This Row],[生年月日]],\"mmdd\")","v":"0100"},null,null,{"$f":"IF(ISBLANK(課題[[#This Row],[生年月日]]),\"\",DATEDIF(課題[[#This Row],[生年月日]],TODAY(),\"Y\"))","v":""}]
[null,null,{"$f":"IF(ISBLANK(課題[[#This Row],[生年月日]]),0,MONTH(課題[[#This Row],[生年月日]]))","v":0},{"$f":"TEXT(課題[[#This Row],[生年月日]],\"mmdd\")","v":"0100"},null,null,{"$f":"IF(ISBLANK(課題[[#This Row],[生年月日]]),\"\",DATEDIF(課題[[#This Row],[生年月日]],TODAY(),\"Y\"))","v":""}]
[null,null,{"$f":"IF(ISBLANK(課題[[#This Row],[生年月日]]),0,MONTH(課題[[#This Row],[生年月日]]))","v":0},{"$f":"TEXT(課題[[#This Row],[生年月日]],\"mmdd\")","v":"0100"},null,null,{"$f":"IF(ISBLANK(課題[[#This Row],[生年月日]]),\"\",DATEDIF(課題[[#This Row],[生年月日]],TODAY(),\"Y\"))","v":""}]
[null,null,{"$f":"IF(ISBLANK(課題[[#This Row],[生年月日]]),0,MONTH(課題[[#This Row],[生年月日]]))","v":0},{"$f":"TEXT(課題[[#This Row],[生年月日]],\"mmdd\")","v":"0100"},null,null,{"$f":"IF(ISBLANK(課題[[#This Row],[生年月日]]),\"\",DATEDIF(課題[[#This Row],[生年月日]],TODAY(),\"Y\"))","v":""}]
[null,null,{"$f":"IF(ISBLANK(課題[[#This Row],[生年月日]]),0,MONTH(課題[[#This Row],[生年月日]]))","v":0},{"$f":"TEXT(課題[[#This Row],[生年月日]],\"mmdd\")","v":"0100"},null,null,{"$f":"IF(ISBLANK(課題[[#This Row],[生年月日]]),\"\",DATEDIF(課題[[#This Row],[生年月日]],TODAY(),\"Y\"))","v":""}]
[null,null,{"$f":"IF(ISBLANK(課題[[#This Row],[生年月日]]),0,MONTH(課題[[#This Row],[生年月日]]))","v":0},{"$f":"TEXT(課題[[#This Row],[生年月日]],\"mmdd\")","v":"0100"},null,null,{"$f":"IF(ISBLANK(課題[[#This Row],[生年月日]]),\"\",DATEDIF(課題[[#This Row],[生年月日]],TODAY(),\"Y\"))","v":""}]
[null,null,{"$f":"IF(ISBLANK(課題[[#This Row],[生年月日]]),0,MONTH(課題[[#This Row],[生年月日]]))","v":0},{"$f":"TEXT(課題[[#This Row],[生年月日]],\"mmdd\")","v":"0100"},null,null,{"$f":"IF(ISBLANK(課題[[#This Row],[生年月日]]),\"\",DATEDIF(課題[[#This Row],[生年月日]],TODAY(),\"Y\"))","v":""}]
[null,null,{"$f":"IF(ISBLANK(課題[[#This Row],[生年月日]]),0,MONTH(課題[[#This Row],[生年月日]]))","v":0},{"$f":"TEXT(課題[[#This Row],[生年月日]],\"mmdd\")","v":"0100"},null,null,{"$f":"IF(ISBLANK(課題[[#This Row],[生年月日]]),\"\",DATEDIF(課題[[#This Row],[生年月日]],TODAY(),\"Y\"))","v":""}]
[null,null,{"$f":"IF(ISBLANK(課題[[#This Row],[生年月日]]),0,MONTH(課題[[#This Row],[生年月日]]))","v":0},{"$f":"TEXT(課題[[#This Row],[生年月日]],\"mmdd\")","v":"0100"},null,null,{"$f":"IF(ISBLANK(課題[[#This Row],[生年月日]]),\"\",DATEDIF(課題[[#This Row],[生年月日]],TODAY(),\"Y\"))","v":""}]
[null,null,{"$f":"IF(ISBLANK(課題[[#This Row],[生年月日]]),0,MONTH(課題[[#This Row],[生年月日]]))","v":0},{"$f":"TEXT(課題[[#This Row],[生年月日]],\"mmdd\")","v":"0100"},null,null,{"$f":"IF(ISBLANK(課題[[#This Row],[生年月日]]),\"\",DATEDIF(課題[[#This Row],[生年月日]],TODAY(),\"Y\"))","v":""}]
[null,null,{"$f":"IF(ISBLANK(課題[[#This Row],[生年月日]]),0,MONTH(課題[[#This Row],[生年月日]]))","v":0},{"$f":"TEXT(課題[[#This Row],[生年月日]],\"mmdd\")","v":"0100"},null,null,{"$f":"IF(ISBLANK(課題[[#This Row],[生年月日]]),\"\",DATEDIF(課題[[#This Row],[生年月日]],TODAY(),\"Y\"))","v":""}]
[null,null,{"$f":"IF(ISBLANK(課題[[#This Row],[生年月日]]),0,MONTH(課題[[#This Row],[生年月日]]))","v":0},{"$f":"TEXT(課題[[#This Row],[生年月日]],\"mmdd\")","v":"0100"},null,null,{"$f":"IF(ISBLANK(課題[[#This Row],[生年月日]]),\"\",DATEDIF(課題[[#This Row],[生年月日]],TODAY(),\"Y\"))","v":""}]
[null,null,{"$f":"IF(ISBLANK(課題[[#This Row],[生年月日]]),0,MONTH(課題[[#This Row],[生年月日]]))","v":0},{"$f":"TEXT(課題[[#This Row],[生年月日]],\"mmdd\")","v":"0100"},null,null,{"$f":"IF(ISBLANK(課題[[#This Row],[生年月日]]),\"\",DATEDIF(課題[[#This Row],[生年月日]],TODAY(),\"Y\"))","v":""}]
[null,null,{"$f":"IF(ISBLANK(課題[[#This Row],[生年月日]]),0,MONTH(課題[[#This Row],[生年月日]]))","v":0},{"$f":"TEXT(課題[[#This Row],[生年月日]],\"mmdd\")","v":"0100"},null,null,{"$f":"IF(ISBLANK(課題[[#This Row],[生年月日]]),\"\",DATEDIF(課題[[#This Row],[生年月日]],TODAY(),\"Y\"))","v":""}]
[null,null,{"$f":"IF(ISBLANK(課題[[#This Row],[生年月日]]),0,MONTH(課題[[#This Row],[生年月日]]))","v":0},{"$f":"TEXT(課題[[#This Row],[生年月日]],\"mmdd\")","v":"0100"},null,null,{"$f":"IF(ISBLANK(課題[[#This Row],[生年月日]]),\"\",DATEDIF(課題[[#This Row],[生年月日]],TODAY(),\"Y\"))","v":""}]
[null,null,{"$f":"IF(ISBLANK(課題[[#This Row],[生年月日]]),0,MONTH(課題[[#This Row],[生年月日]]))","v":0},{"$f":"TEXT(課題[[#This Row],[生年月日]],\"mmdd\")","v":"0100"},null,null,{"$f":"IF(ISBLANK(課題[[#This Row],[生年月日]]),\"\",DATEDIF(課題[[#This Row],[生年月日]],TODAY(),\"Y\"))","v":""}]
[null,null,{"$f":"IF(ISBLANK(課題[[#This Row],[生年月日]]),0,MONTH(課題[[#This Row],[生年月日]]))","v":0},{"$f":"TEXT(課題[[#This Row],[生年月日]],\"mmdd\")","v":"0100"},null,null,{"$f":"IF(ISBLANK(課題[[#This Row],[生年月日]]),\"\",DATEDIF(課題[[#This Row],[生年月日]],TODAY(),\"Y\"))","v":""}]
[null,null,{"$f":"IF(ISBLANK(課題[[#This Row],[生年月日]]),0,MONTH(課題[[#This Row],[生年月日]]))","v":0},{"$f":"TEXT(課題[[#This Row],[生年月日]],\"mmdd\")","v":"0100"},null,null,{"$f":"IF(ISBLANK(課題[[#This Row],[生年月日]]),\"\",DATEDIF(課題[[#This Row],[生年月日]],TODAY(),\"Y\"))","v":""}]
[null,null,{"$f":"IF(ISBLANK(課題[[#This Row],[生年月日]]),0,MONTH(課題[[#This Row],[生年月日]]))","v":0},{"$f":"TEXT(課題[[#This Row],[生年月日]],\"mmdd\")","v":"0100"},null,null,{"$f":"IF(ISBLANK(課題[[#This Row],[生年月日]]),\"\",DATEDIF(課題[[#This Row],[生年月日]],TODAY(),\"Y\"))","v":""}]
[null,null,{"$f":"IF(ISBLANK(課題[[#This Row],[生年月日]]),0,MONTH(課題[[#This Row],[生年月日]]))","v":0},{"$f":"TEXT(課題[[#This Row],[生年月日]],\"mmdd\")","v":"0100"},null,null,{"$f":"IF(ISBLANK(課題[[#This Row],[生年月日]]),\"\",DATEDIF(課題[[#This Row],[生年月日]],TODAY(),\"Y\"))","v":""}]
[null,null,{"$f":"IF(ISBLANK(課題[[#This Row],[生年月日]]),0,MONTH(課題[[#This Row],[生年月日]]))","v":0},{"$f":"TEXT(課題[[#This Row],[生年月日]],\"mmdd\")","v":"0100"},null,null,{"$f":"IF(ISBLANK(課題[[#This Row],[生年月日]]),\"\",DATEDIF(課題[[#This Row],[生年月日]],TODAY(),\"Y\"))","v":""}]
[null,null,{"$f":"IF(ISBLANK(課題[[#This Row],[生年月日]]),0,MONTH(課題[[#This Row],[生年月日]]))","v":0},{"$f":"TEXT(課題[[#This Row],[生年月日]],\"mmdd\")","v":"0100"},null,null,{"$f":"IF(ISBLANK(課題[[#This Row],[生年月日]]),\"\",DATEDIF(課題[[#This Row],[生年月日]],TODAY(),\"Y\"))","v":""}]
[null,null,{"$f":"IF(ISBLANK(課題[[#This Row],[生年月日]]),0,MONTH(課題[[#This Row],[生年月日]]))","v":0},{"$f":"TEXT(課題[[#This Row],[生年月日]],\"mmdd\")","v":"0100"},null,null,{"$f":"IF(ISBLANK(課題[[#This Row],[生年月日]]),\"\",DATEDIF(課題[[#This Row],[生年月日]],TODAY(),\"Y\"))","v":""}]
[null,null,{"$f":"IF(ISBLANK(課題[[#This Row],[生年月日]]),0,MONTH(課題[[#This Row],[生年月日]]))","v":0},{"$f":"TEXT(課題[[#This Row],[生年月日]],\"mmdd\")","v":"0100"},null,null,{"$f":"IF(ISBLANK(課題[[#This Row],[生年月日]]),\"\",DATEDIF(課題[[#This Row],[生年月日]],TODAY(),\"Y\"))","v":""}]
[null,null,{"$f":"IF(ISBLANK(課題[[#This Row],[生年月日]]),0,MONTH(課題[[#This Row],[生年月日]]))","v":0},{"$f":"TEXT(課題[[#This Row],[生年月日]],\"mmdd\")","v":"0100"},null,null,{"$f":"IF(ISBLANK(課題[[#This Row],[生年月日]]),\"\",DATEDIF(課題[[#This Row],[生年月日]],TODAY(),\"Y\"))","v":""}]
[null,null,{"$f":"IF(ISBLANK(課題[[#This Row],[生年月日]]),0,MONTH(課題[[#This Row],[生年月日]]))","v":0},{"$f":"TEXT(課題[[#This Row],[生年月日]],\"mmdd\")","v":"0100"},null,null,{"$f":"IF(ISBLANK(課題[[#This Row],[生年月日]]),\"\",DATEDIF(課題[[#This Row],[生年月日]],TODAY(),\"Y\"))","v":""}]
[null,null,{"$f":"IF(ISBLANK(課題[[#This Row],[生年月日]]),0,MONTH(課題[[#This Row],[生年月日]]))","v":0},{"$f":"TEXT(課題[[#This Row],[生年月日]],\"mmdd\")","v":"0100"},null,null,{"$f":"IF(ISBLANK(課題[[#This Row],[生年月日]]),\"\",DATEDIF(課題[[#This Row],[生年月日]],TODAY(),\"Y\"))","v":""}]
[null,null,{"$f":"IF(ISBLANK(課題[[#This Row],[生年月日]]),0,MONTH(課題[[#This Row],[生年月日]]))","v":0},{"$f":"TEXT(課題[[#This Row],[生年月日]],\"mmdd\")","v":"0100"},null,null,{"$f":"IF(ISBLANK(課題[[#This Row],[生年月日]]),\"\",DATEDIF(課題[[#This Row],[生年月日]],TODAY(),\"Y\"))","v":""}]
[null,null,{"$f":"IF(ISBLANK(課題[[#This Row],[生年月日]]),0,MONTH(課題[[#This Row],[生年月日]]))","v":0},{"$f":"TEXT(課題[[#This Row],[生年月日]],\"mmdd\")","v":"0100"},null,null,{"$f":"IF(ISBLANK(課題[[#This Row],[生年月日]]),\"\",DATEDIF(課題[[#This Row],[生年月日]],TODAY(),\"Y\"))","v":""}]
[null,null,{"$f":"IF(ISBLANK(課題[[#This Row],[生年月日]]),0,MONTH(課題[[#This Row],[生年月日]]))","v":0},{"$f":"TEXT(課題[[#This Row],[生年月日]],\"mmdd\")","v":"0100"},null,null,{"$f":"IF(ISBLANK(課題[[#This Row],[生年月日]]),\"\",DATEDIF(課題[[#This Row],[生年月日]],TODAY(),\"Y\"))","v":""}]
[null,null,{"$f":"IF(ISBLANK(課題[[#This Row],[生年月日]]),0,MONTH(課題[[#This Row],[生年月日]]))","v":0},{"$f":"TEXT(課題[[#This Row],[生年月日]],\"mmdd\")","v":"0100"},null,null,{"$f":"IF(ISBLANK(課題[[#This Row],[生年月日]]),\"\",DATEDIF(課題[[#This Row],[生年月日]],TODAY(),\"Y\"))","v":""}]
[null,null,{"$f":"IF(ISBLANK(課題[[#This Row],[生年月日]]),0,MONTH(課題[[#This Row],[生年月日]]))","v":0},{"$f":"TEXT(課題[[#This Row],[生年月日]],\"mmdd\")","v":"0100"},null,null,{"$f":"IF(ISBLANK(課題[[#This Row],[生年月日]]),\"\",DATEDIF(課題[[#This Row],[生年月日]],TODAY(),\"Y\"))","v":""}]
[null,null,{"$f":"IF(ISBLANK(課題[[#This Row],[生年月日]]),0,MONTH(課題[[#This Row],[生年月日]]))","v":0},{"$f":"TEXT(課題[[#This Row],[生年月日]],\"mmdd\")","v":"0100"},null,null,{"$f":"IF(ISBLANK(課題[[#This Row],[生年月日]]),\"\",DATEDIF(課題[[#This Row],[生年月日]],TODAY(),\"Y\"))","v":""}]
[null,null,{"$f":"IF(ISBLANK(課題[[#This Row],[生年月日]]),0,MONTH(課題[[#This Row],[生年月日]]))","v":0},{"$f":"TEXT(課題[[#This Row],[生年月日]],\"mmdd\")","v":"0100"},null,null,{"$f":"IF(ISBLANK(課題[[#This Row],[生年月日]]),\"\",DATEDIF(課題[[#This Row],[生年月日]],TODAY(),\"Y\"))","v":""}]
[null,null,{"$f":"IF(ISBLANK(課題[[#This Row],[生年月日]]),0,MONTH(課題[[#This Row],[生年月日]]))","v":0},{"$f":"TEXT(課題[[#This Row],[生年月日]],\"mmdd\")","v":"0100"},null,null,{"$f":"IF(ISBLANK(課題[[#This Row],[生年月日]]),\"\",DATEDIF(課題[[#This Row],[生年月日]],TODAY(),\"Y\"))","v":""}]
[null,null,{"$f":"IF(ISBLANK(課題[[#This Row],[生年月日]]),0,MONTH(課題[[#This Row],[生年月日]]))","v":0},{"$f":"TEXT(課題[[#This Row],[生年月日]],\"mmdd\")","v":"0100"},null,null,{"$f":"IF(ISBLANK(課題[[#This Row],[生年月日]]),\"\",DATEDIF(課題[[#This Row],[生年月日]],TODAY(),\"Y\"))","v":""}]
[null,null,{"$f":"IF(ISBLANK(課題[[#This Row],[生年月日]]),0,MONTH(課題[[#This Row],[生年月日]]))","v":0},{"$f":"TEXT(課題[[#This Row],[生年月日]],\"mmdd\")","v":"0100"},null,null,{"$f":"IF(ISBLANK(課題[[#This Row],[生年月日]]),\"\",DATEDIF(課題[[#This Row],[生年月日]],TODAY(),\"Y\"))","v":""}]
[null,null,{"$f":"IF(ISBLANK(課題[[#This Row],[生年月日]]),0,MONTH(課題[[#This Row],[生年月日]]))","v":0},{"$f":"TEXT(課題[[#This Row],[生年月日]],\"mmdd\")","v":"0100"},null,null,{"$f":"IF(ISBLANK(課題[[#This Row],[生年月日]]),\"\",DATEDIF(課題[[#This Row],[生年月日]],TODAY(),\"Y\"))","v":""}]
[null,null,{"$f":"IF(ISBLANK(課題[[#This Row],[生年月日]]),0,MONTH(課題[[#This Row],[生年月日]]))","v":0},{"$f":"TEXT(課題[[#This Row],[生年月日]],\"mmdd\")","v":"0100"},null,null,{"$f":"IF(ISBLANK(課題[[#This Row],[生年月日]]),\"\",DATEDIF(課題[[#This Row],[生年月日]],TODAY(),\"Y\"))","v":""}]
[null,null,{"$f":"IF(ISBLANK(課題[[#This Row],[生年月日]]),0,MONTH(課題[[#This Row],[生年月日]]))","v":0},{"$f":"TEXT(課題[[#This Row],[生年月日]],\"mmdd\")","v":"0100"},null,null,{"$f":"IF(ISBLANK(課題[[#This Row],[生年月日]]),\"\",DATEDIF(課題[[#This Row],[生年月日]],TODAY(),\"Y\"))","v":""}]
[null,null,{"$f":"IF(ISBLANK(課題[[#This Row],[生年月日]]),0,MONTH(課題[[#This Row],[生年月日]]))","v":0},{"$f":"TEXT(課題[[#This Row],[生年月日]],\"mmdd\")","v":"0100"},null,null,{"$f":"IF(ISBLANK(課題[[#This Row],[生年月日]]),\"\",DATEDIF(課題[[#This Row],[生年月日]],TODAY(),\"Y\"))","v":""}]
[null,null,{"$f":"IF(ISBLANK(課題[[#This Row],[生年月日]]),0,MONTH(課題[[#This Row],[生年月日]]))","v":0},{"$f":"TEXT(課題[[#This Row],[生年月日]],\"mmdd\")","v":"0100"},null,null,{"$f":"IF(ISBLANK(課題[[#This Row],[生年月日]]),\"\",DATEDIF(課題[[#This Row],[生年月日]],TODAY(),\"Y\"))","v":""}]
[null,null,{"$f":"IF(ISBLANK(課題[[#This Row],[生年月日]]),0,MONTH(課題[[#This Row],[生年月日]]))","v":0},{"$f":"TEXT(課題[[#This Row],[生年月日]],\"mmdd\")","v":"0100"},null,null,{"$f":"IF(ISBLANK(課題[[#This Row],[生年月日]]),\"\",DATEDIF(課題[[#This Row],[生年月日]],TODAY(),\"Y\"))","v":""}]
[null,null,{"$f":"IF(ISBLANK(課題[[#This Row],[生年月日]]),0,MONTH(課題[[#This Row],[生年月日]]))","v":0},{"$f":"TEXT(課題[[#This Row],[生年月日]],\"mmdd\")","v":"0100"},null,null,{"$f":"IF(ISBLANK(課題[[#This Row],[生年月日]]),\"\",DATEDIF(課題[[#This Row],[生年月日]],TODAY(),\"Y\"))","v":""}]
[null,null,{"$f":"IF(ISBLANK(課題[[#This Row],[生年月日]]),0,MONTH(課題[[#This Row],[生年月日]]))","v":0},{"$f":"TEXT(課題[[#This Row],[生年月日]],\"mmdd\")","v":"0100"},null,null,{"$f":"IF(ISBLANK(課題[[#This Row],[生年月日]]),\"\",DATEDIF(課題[[#This Row],[生年月日]],TODAY(),\"Y\"))","v":""}]
[null,null,{"$f":"IF(ISBLANK(課題[[#This Row],[生年月日]]),0,MONTH(課題[[#This Row],[生年月日]]))","v":0},{"$f":"TEXT(課題[[#This Row],[生年月日]],\"mmdd\")","v":"0100"},null,null,{"$f":"IF(ISBLANK(課題[[#This Row],[生年月日]]),\"\",DATEDIF(課題[[#This Row],[生年月日]],TODAY(),\"Y\"))","v":""}]
[null,null,{"$f":"IF(ISBLANK(課題[[#This Row],[生年月日]]),0,MONTH(課題[[#This Row],[生年月日]]))","v":0},{"$f":"TEXT(課題[[#This Row],[生年月日]],\"mmdd\")","v":"0100"},null,null,{"$f":"IF(ISBLANK(課題[[#This Row],[生年月日]]),\"\",DATEDIF(課題[[#This Row],[生年月日]],TODAY(),\"Y\"))","v":""}]
[null,null,{"$f":"IF(ISBLANK(課題[[#This Row],[生年月日]]),0,MONTH(課題[[#This Row],[生年月日]]))","v":0},{"$f":"TEXT(課題[[#This Row],[生年月日]],\"mmdd\")","v":"0100"},null,null,{"$f":"IF(ISBLANK(課題[[#This Row],[生年月日]]),\"\",DATEDIF(課題[[#This Row],[生年月日]],TODAY(),\"Y\"))","v":""}]
[null,null,{"$f":"IF(ISBLANK(課題[[#This Row],[生年月日]]),0,MONTH(課題[[#This Row],[生年月日]]))","v":0},{"$f":"TEXT(課題[[#This Row],[生年月日]],\"mmdd\")","v":"0100"},null,null,{"$f":"IF(ISBLANK(課題[[#This Row],[生年月日]]),\"\",DATEDIF(課題[[#This Row],[生年月日]],TODAY(),\"Y\"))","v":""}]
[null,null,{"$f":"IF(ISBLANK(課題[[#This Row],[生年月日]]),0,MONTH(課題[[#This Row],[生年月日]]))","v":0},{"$f":"TEXT(課題[[#This Row],[生年月日]],\"mmdd\")","v":"0100"},null,null,{"$f":"IF(ISBLANK(課題[[#This Row],[生年月日]]),\"\",DATEDIF(課題[[#This Row],[生年月日]],TODAY(),\"Y\"))","v":""}]
[null,null,{"$f":"IF(ISBLANK(課題[[#This Row],[生年月日]]),0,MONTH(課題[[#This Row],[生年月日]]))","v":0},{"$f":"TEXT(課題[[#This Row],[生年月日]],\"mmdd\")","v":"0100"},null,null,{"$f":"IF(ISBLANK(課題[[#This Row],[生年月日]]),\"\",DATEDIF(課題[[#This Row],[生年月日]],TODAY(),\"Y\"))","v":""}]
[null,null,{"$f":"IF(ISBLANK(課題[[#This Row],[生年月日]]),0,MONTH(課題[[#This Row],[生年月日]]))","v":0},{"$f":"TEXT(課題[[#This Row],[生年月日]],\"mmdd\")","v":"0100"},null,null,{"$f":"IF(ISBLANK(課題[[#This Row],[生年月日]]),\"\",DATEDIF(課題[[#This Row],[生年月日]],TODAY(),\"Y\"))","v":""}]
[null,null,{"$f":"IF(ISBLANK(課題[[#This Row],[生年月日]]),0,MONTH(課題[[#This Row],[生年月日]]))","v":0},{"$f":"TEXT(課題[[#This Row],[生年月日]],\"mmdd\")","v":"0100"},null,null,{"$f":"IF(ISBLANK(課題[[#This Row],[生年月日]]),\"\",DATEDIF(課題[[#This Row],[生年月日]],TODAY(),\"Y\"))","v":""}]
[null,null,{"$f":"IF(ISBLANK(課題[[#This Row],[生年月日]]),0,MONTH(課題[[#This Row],[生年月日]]))","v":0},{"$f":"TEXT(課題[[#This Row],[生年月日]],\"mmdd\")","v":"0100"},null,null,{"$f":"IF(ISBLANK(課題[[#This Row],[生年月日]]),\"\",DATEDIF(課題[[#This Row],[生年月日]],TODAY(),\"Y\"))","v":""}]
[null,null,{"$f":"IF(ISBLANK(課題[[#This Row],[生年月日]]),0,MONTH(課題[[#This Row],[生年月日]]))","v":0},{"$f":"TEXT(課題[[#This Row],[生年月日]],\"mmdd\")","v":"0100"},null,null,{"$f":"IF(ISBLANK(課題[[#This Row],[生年月日]]),\"\",DATEDIF(課題[[#This Row],[生年月日]],TODAY(),\"Y\"))","v":""}]
[null,null,{"$f":"IF(ISBLANK(課題[[#This Row],[生年月日]]),0,MONTH(課題[[#This Row],[生年月日]]))","v":0},{"$f":"TEXT(課題[[#This Row],[生年月日]],\"mmdd\")","v":"0100"},null,null,{"$f":"IF(ISBLANK(課題[[#This Row],[生年月日]]),\"\",DATEDIF(課題[[#This Row],[生年月日]],TODAY(),\"Y\"))","v":""}]
[null,null,{"$f":"IF(ISBLANK(課題[[#This Row],[生年月日]]),0,MONTH(課題[[#This Row],[生年月日]]))","v":0},{"$f":"TEXT(課題[[#This Row],[生年月日]],\"mmdd\")","v":"0100"},null,null,{"$f":"IF(ISBLANK(課題[[#This Row],[生年月日]]),\"\",DATEDIF(課題[[#This Row],[生年月日]],TODAY(),\"Y\"))","v":""}]
[null,null,{"$f":"IF(ISBLANK(課題[[#This Row],[生年月日]]),0,MONTH(課題[[#This Row],[生年月日]]))","v":0},{"$f":"TEXT(課題[[#This Row],[生年月日]],\"mmdd\")","v":"0100"},null,null,{"$f":"IF(ISBLANK(課題[[#This Row],[生年月日]]),\"\",DATEDIF(課題[[#This Row],[生年月日]],TODAY(),\"Y\"))","v":""}]
[null,null,{"$f":"IF(ISBLANK(課題[[#This Row],[生年月日]]),0,MONTH(課題[[#This Row],[生年月日]]))","v":0},{"$f":"TEXT(課題[[#This Row],[生年月日]],\"mmdd\")","v":"0100"},null,null,{"$f":"IF(ISBLANK(課題[[#This Row],[生年月日]]),\"\",DATEDIF(課題[[#This Row],[生年月日]],TODAY(),\"Y\"))","v":""}]
[null,null,{"$f":"IF(ISBLANK(課題[[#This Row],[生年月日]]),0,MONTH(課題[[#This Row],[生年月日]]))","v":0},{"$f":"TEXT(課題[[#This Row],[生年月日]],\"mmdd\")","v":"0100"},null,null,{"$f":"IF(ISBLANK(課題[[#This Row],[生年月日]]),\"\",DATEDIF(課題[[#This Row],[生年月日]],TODAY(),\"Y\"))","v":""}]
[null,null,{"$f":"IF(ISBLANK(課題[[#This Row],[生年月日]]),0,MONTH(課題[[#This Row],[生年月日]]))","v":0},{"$f":"TEXT(課題[[#This Row],[生年月日]],\"mmdd\")","v":"0100"},null,null,{"$f":"IF(ISBLANK(課題[[#This Row],[生年月日]]),\"\",DATEDIF(課題[[#This Row],[生年月日]],TODAY(),\"Y\"))","v":""}]
[null,null,{"$f":"IF(ISBLANK(課題[[#This Row],[生年月日]]),0,MONTH(課題[[#This Row],[生年月日]]))","v":0},{"$f":"TEXT(課題[[#This Row],[生年月日]],\"mmdd\")","v":"0100"},null,null,{"$f":"IF(ISBLANK(課題[[#This Row],[生年月日]]),\"\",DATEDIF(課題[[#This Row],[生年月日]],TODAY(),\"Y\"))","v":""}]
[null,null,{"$f":"IF(ISBLANK(課題[[#This Row],[生年月日]]),0,MONTH(課題[[#This Row],[生年月日]]))","v":0},{"$f":"TEXT(課題[[#This Row],[生年月日]],\"mmdd\")","v":"0100"},null,null,{"$f":"IF(ISBLANK(課題[[#This Row],[生年月日]]),\"\",DATEDIF(課題[[#This Row],[生年月日]],TODAY(),\"Y\"))","v":""}]
[null,null,{"$f":"IF(ISBLANK(課題[[#This Row],[生年月日]]),0,MONTH(課題[[#This Row],[生年月日]]))","v":0},{"$f":"TEXT(課題[[#This Row],[生年月日]],\"mmdd\")","v":"0100"},null,null,{"$f":"IF(ISBLANK(課題[[#This Row],[生年月日]]),\"\",DATEDIF(課題[[#This Row],[生年月日]],TODAY(),\"Y\"))","v":""}]
[null,null,{"$f":"IF(ISBLANK(課題[[#This Row],[生年月日]]),0,MONTH(課題[[#This Row],[生年月日]]))","v":0},{"$f":"TEXT(課題[[#This Row],[生年月日]],\"mmdd\")","v":"0100"},null,null,{"$f":"IF(ISBLANK(課題[[#This Row],[生年月日]]),\"\",DATEDIF(課題[[#This Row],[生年月日]],TODAY(),\"Y\"))","v":""}]
[null,null,{"$f":"IF(ISBLANK(課題[[#This Row],[生年月日]]),0,MONTH(課題[[#This Row],[生年月日]]))","v":0},{"$f":"TEXT(課題[[#This Row],[生年月日]],\"mmdd\")","v":"0100"},null,null,{"$f":"IF(ISBLANK(課題[[#This Row],[生年月日]]),\"\",DATEDIF(課題[[#This Row],[生年月日]],TODAY(),\"Y\"))","v":""}]
[null,null,{"$f":"IF(ISBLANK(課題[[#This Row],[生年月日]]),0,MONTH(課題[[#This Row],[生年月日]]))","v":0},{"$f":"TEXT(課題[[#This Row],[生年月日]],\"mmdd\")","v":"0100"},null,null,{"$f":"IF(ISBLANK(課題[[#This Row],[生年月日]]),\"\",DATEDIF(課題[[#This Row],[生年月日]],TODAY(),\"Y\"))","v":""}]
[null,null,{"$f":"IF(ISBLANK(課題[[#This Row],[生年月日]]),0,MONTH(課題[[#This Row],[生年月日]]))","v":0},{"$f":"TEXT(課題[[#This Row],[生年月日]],\"mmdd\")","v":"0100"},null,null,{"$f":"IF(ISBLANK(課題[[#This Row],[生年月日]]),\"\",DATEDIF(課題[[#This Row],[生年月日]],TODAY(),\"Y\"))","v":""}]
[null,null,{"$f":"IF(ISBLANK(課題[[#This Row],[生年月日]]),0,MONTH(課題[[#This Row],[生年月日]]))","v":0},{"$f":"TEXT(課題[[#This Row],[生年月日]],\"mmdd\")","v":"0100"},null,null,{"$f":"IF(ISBLANK(課題[[#This Row],[生年月日]]),\"\",DATEDIF(課題[[#This Row],[生年月日]],TODAY(),\"Y\"))","v":""}]
[null,null,{"$f":"IF(ISBLANK(課題[[#This Row],[生年月日]]),0,MONTH(課題[[#This Row],[生年月日]]))","v":0},{"$f":"TEXT(課題[[#This Row],[生年月日]],\"mmdd\")","v":"0100"},null,null,{"$f":"IF(ISBLANK(課題[[#This Row],[生年月日]]),\"\",DATEDIF(課題[[#This Row],[生年月日]],TODAY(),\"Y\"))","v":""}]
[null,null,{"$f":"IF(ISBLANK(課題[[#This Row],[生年月日]]),0,MONTH(課題[[#This Row],[生年月日]]))","v":0},{"$f":"TEXT(課題[[#This Row],[生年月日]],\"mmdd\")","v":"0100"},null,null,{"$f":"IF(ISBLANK(課題[[#This Row],[生年月日]]),\"\",DATEDIF(課題[[#This Row],[生年月日]],TODAY(),\"Y\"))","v":""}]
[null,null,{"$f":"IF(ISBLANK(課題[[#This Row],[生年月日]]),0,MONTH(課題[[#This Row],[生年月日]]))","v":0},{"$f":"TEXT(課題[[#This Row],[生年月日]],\"mmdd\")","v":"0100"},null,null,{"$f":"IF(ISBLANK(課題[[#This Row],[生年月日]]),\"\",DATEDIF(課題[[#This Row],[生年月日]],TODAY(),\"Y\"))","v":""}]
[null,null,{"$f":"IF(ISBLANK(課題[[#This Row],[生年月日]]),0,MONTH(課題[[#This Row],[生年月日]]))","v":0},{"$f":"TEXT(課題[[#This Row],[生年月日]],\"mmdd\")","v":"0100"},null,null,{"$f":"IF(ISBLANK(課題[[#This Row],[生年月日]]),\"\",DATEDIF(課題[[#This Row],[生年月日]],TODAY(),\"Y\"))","v":""}]
[null,null,{"$f":"IF(ISBLANK(課題[[#This Row],[生年月日]]),0,MONTH(課題[[#This Row],[生年月日]]))","v":0},{"$f":"TEXT(課題[[#This Row],[生年月日]],\"mmdd\")","v":"0100"},null,null,{"$f":"IF(ISBLANK(課題[[#This Row],[生年月日]]),\"\",DATEDIF(課題[[#This Row],[生年月日]],TODAY(),\"Y\"))","v":""}]
[null,null,{"$f":"IF(ISBLANK(課題[[#This Row],[生年月日]]),0,MONTH(課題[[#This Row],[生年月日]]))","v":0},{"$f":"TEXT(課題[[#This Row],[生年月日]],\"mmdd\")","v":"0100"},null,null,{"$f":"IF(ISBLANK(課題[[#This Row],[生年月日]]),\"\",DATEDIF(課題[[#This Row],[生年月日]],TODAY(),\"Y\"))","v":""}]
[null,null,{"$f":"IF(ISBLANK(課題[[#This Row],[生年月日]]),0,MONTH(課題[[#This Row],[生年月日]]))","v":0},{"$f":"TEXT(課題[[#This Row],[生年月日]],\"mmdd\")","v":"0100"},null,null,{"$f":"IF(ISBLANK(課題[[#This Row],[生年月日]]),\"\",DATEDIF(課題[[#This Row],[生年月日]],TODAY(),\"Y\"))","v":""}]
[null,null,{"$f":"IF(ISBLANK(課題[[#This Row],[生年月日]]),0,MONTH(課題[[#This Row],[生年月日]]))","v":0},{"$f":"TEXT(課題[[#This Row],[生年月日]],\"mmdd\")","v":"0100"},null,null,{"$f":"IF(ISBLANK(課題[[#This Row],[生年月日]]),\"\",DATEDIF(課題[[#This Row],[生年月日]],TODAY(),\"Y\"))","v":""}]
[null,null,{"$f":"IF(ISBLANK(課題[[#This Row],[生年月日]]),0,MONTH(課題[[#This Row],[生年月日]]))","v":0},{"$f":"TEXT(課題[[#This Row],[生年月日]],\"mmdd\")","v":"0100"},null,null,{"$f":"IF(ISBLANK(課題[[#This Row],[生年月日]]),\"\",DATEDIF(課題[[#This Row],[生年月日]],TODAY(),\"Y\"))","v":""}]
[null,null,{"$f":"IF(ISBLANK(課題[[#This Row],[生年月日]]),0,MONTH(課題[[#This Row],[生年月日]]))","v":0},{"$f":"TEXT(課題[[#This Row],[生年月日]],\"mmdd\")","v":"0100"},null,null,{"$f":"IF(ISBLANK(課題[[#This Row],[生年月日]]),\"\",DATEDIF(課題[[#This Row],[生年月日]],TODAY(),\"Y\"))","v":""}]
[null,null,{"$f":"IF(ISBLANK(課題[[#This Row],[生年月日]]),0,MONTH(課題[[#This Row],[生年月日]]))","v":0},{"$f":"TEXT(課題[[#This Row],[生年月日]],\"mmdd\")","v":"0100"},null,null,{"$f":"IF(ISBLANK(課題[[#This Row],[生年月日]]),\"\",DATEDIF(課題[[#This Row],[生年月日]],TODAY(),\"Y\"))","v":""}]
[null,null,{"$f":"IF(ISBLANK(課題[[#This Row],[生年月日]]),0,MONTH(課題[[#This Row],[生年月日]]))","v":0},{"$f":"TEXT(課題[[#This Row],[生年月日]],\"mmdd\")","v":"0100"},null,null,{"$f":"IF(ISBLANK(課題[[#This Row],[生年月日]]),\"\",DATEDIF(課題[[#This Row],[生年月日]],TODAY(),\"Y\"))","v":""}]
[null,null,{"$f":"IF(ISBLANK(課題[[#This Row],[生年月日]]),0,MONTH(課題[[#This Row],[生年月日]]))","v":0},{"$f":"TEXT(課題[[#This Row],[生年月日]],\"mmdd\")","v":"0100"},null,null,{"$f":"IF(ISBLANK(課題[[#This Row],[生年月日]]),\"\",DATEDIF(課題[[#This Row],[生年月日]],TODAY(),\"Y\"))","v":""}]
[null,null,{"$f":"IF(ISBLANK(課題[[#This Row],[生年月日]]),0,MONTH(課題[[#This Row],[生年月日]]))","v":0},{"$f":"TEXT(課題[[#This Row],[生年月日]],\"mmdd\")","v":"0100"},null,null,{"$f":"IF(ISBLANK(課題[[#This Row],[生年月日]]),\"\",DATEDIF(課題[[#This Row],[生年月日]],TODAY(),\"Y\"))","v":""}]
[null,null,{"$f":"IF(ISBLANK(課題[[#This Row],[生年月日]]),0,MONTH(課題[[#This Row],[生年月日]]))","v":0},{"$f":"TEXT(課題[[#This Row],[生年月日]],\"mmdd\")","v":"0100"},null,null,{"$f":"IF(ISBLANK(課題[[#This Row],[生年月日]]),\"\",DATEDIF(課題[[#This Row],[生年月日]],TODAY(),\"Y\"))","v":""}]
[null,null,{"$f":"IF(ISBLANK(課題[[#This Row],[生年月日]]),0,MONTH(課題[[#This Row],[生年月日]]))","v":0},{"$f":"TEXT(課題[[#This Row],[生年月日]],\"mmdd\")","v":"0100"},null,null,{"$f":"IF(ISBLANK(課題[[#This Row],[生年月日]]),\"\",DATEDIF(課題[[#This Row],[生年月日]],TODAY(),\"Y\"))","v":""}]
[null,null,{"$f":"IF(ISBLANK(課題[[#This Row],[生年月日]]),0,MONTH(課題[[#This Row],[生年月日]]))","v":0},{"$f":"TEXT(課題[[#This Row],[生年月日]],\"mmdd\")","v":"0100"},null,null,{"$f":"IF(ISBLANK(課題[[#This Row],[生年月日]]),\"\",DATEDIF(課題[[#This Row],[生年月日]],TODAY(),\"Y\"))","v":""}]
[null,null,{"$f":"IF(ISBLANK(課題[[#This Row],[生年月日]]),0,MONTH(課題[[#This Row],[生年月日]]))","v":0},{"$f":"TEXT(課題[[#This Row],[生年月日]],\"mmdd\")","v":"0100"},null,null,{"$f":"IF(ISBLANK(課題[[#This Row],[生年月日]]),\"\",DATEDIF(課題[[#This Row],[生年月日]],TODAY(),\"Y\"))","v":""}]
[null,null,{"$f":"IF(ISBLANK(課題[[#This Row],[生年月日]]),0,MONTH(課題[[#This Row],[生年月日]]))","v":0},{"$f":"TEXT(課題[[#This Row],[生年月日]],\"mmdd\")","v":"0100"},null,null,{"$f":"IF(ISBLANK(課題[[#This Row],[生年月日]]),\"\",DATEDIF(課題[[#This Row],[生年月日]],TODAY(),\"Y\"))","v":""}]
[null,null,{"$f":"IF(ISBLANK(課題[[#This Row],[生年月日]]),0,MONTH(課題[[#This Row],[生年月日]]))","v":0},{"$f":"TEXT(課題[[#This Row],[生年月日]],\"mmdd\")","v":"0100"},null,null,{"$f":"IF(ISBLANK(課題[[#This Row],[生年月日]]),\"\",DATEDIF(課題[[#This Row],[生年月日]],TODAY(),\"Y\"))","v":""}]
[null,null,{"$f":"IF(ISBLANK(課題[[#This Row],[生年月日]]),0,MONTH(課題[[#This Row],[生年月日]]))","v":0},{"$f":"TEXT(課題[[#This Row],[生年月日]],\"mmdd\")","v":"0100"},null,null,{"$f":"IF(ISBLANK(課題[[#This Row],[生年月日]]),\"\",DATEDIF(課題[[#This Row],[生年月日]],TODAY(),\"Y\"))","v":""}]
[null,null,{"$f":"IF(ISBLANK(課題[[#This Row],[生年月日]]),0,MONTH(課題[[#This Row],[生年月日]]))","v":0},{"$f":"TEXT(課題[[#This Row],[生年月日]],\"mmdd\")","v":"0100"},null,null,{"$f":"IF(ISBLANK(課題[[#This Row],[生年月日]]),\"\",DATEDIF(課題[[#This Row],[生年月日]],TODAY(),\"Y\"))","v":""}]
[null,null,{"$f":"IF(ISBLANK(課題[[#This Row],[生年月日]]),0,MONTH(課題[[#This Row],[生年月日]]))","v":0},{"$f":"TEXT(課題[[#This Row],[生年月日]],\"mmdd\")","v":"0100"},null,null,{"$f":"IF(ISBLANK(課題[[#This Row],[生年月日]]),\"\",DATEDIF(課題[[#This Row],[生年月日]],TODAY(),\"Y\"))","v":""}]
[null,null,{"$f":"IF(ISBLANK(課題[[#This Row],[生年月日]]),0,MONTH(課題[[#This Row],[生年月日]]))","v":0},{"$f":"TEXT(課題[[#This Row],[生年月日]],\"mmdd\")","v":"0100"},null,null,{"$f":"IF(ISBLANK(課題[[#This Row],[生年月日]]),\"\",DATEDIF(課題[[#This Row],[生年月日]],TODAY(),\"Y\"))","v":""}]
[null,null,{"$f":"IF(ISBLANK(課題[[#This Row],[生年月日]]),0,MONTH(課題[[#This Row],[生年月日]]))","v":0},{"$f":"TEXT(課題[[#This Row],[生年月日]],\"mmdd\")","v":"0100"},null,null,{"$f":"IF(ISBLANK(課題[[#This Row],[生年月日]]),\"\",DATEDIF(課題[[#This Row],[生年月日]],TODAY(),\"Y\"))","v":""}]
[null,null,{"$f":"IF(ISBLANK(課題[[#This Row],[生年月日]]),0,MONTH(課題[[#This Row],[生年月日]]))","v":0},{"$f":"TEXT(課題[[#This Row],[生年月日]],\"mmdd\")","v":"0100"},null,null,{"$f":"IF(ISBLANK(課題[[#This Row],[生年月日]]),\"\",DATEDIF(課題[[#This Row],[生年月日]],TODAY(),\"Y\"))","v":""}]
[null,null,{"$f":"IF(ISBLANK(課題[[#This Row],[生年月日]]),0,MONTH(課題[[#This Row],[生年月日]]))","v":0},{"$f":"TEXT(課題[[#This Row],[生年月日]],\"mmdd\")","v":"0100"},null,null,{"$f":"IF(ISBLANK(課題[[#This Row],[生年月日]]),\"\",DATEDIF(課題[[#This Row],[生年月日]],TODAY(),\"Y\"))","v":""}]
[null,null,{"$f":"IF(ISBLANK(課題[[#This Row],[生年月日]]),0,MONTH(課題[[#This Row],[生年月日]]))","v":0},{"$f":"TEXT(課題[[#This Row],[生年月日]],\"mmdd\")","v":"0100"},null,null,{"$f":"IF(ISBLANK(課題[[#This Row],[生年月日]]),\"\",DATEDIF(課題[[#This Row],[生年月日]],TODAY(),\"Y\"))","v":""}]
[null,null,{"$f":"IF(ISBLANK(課題[[#This Row],[生年月日]]),0,MONTH(課題[[#This Row],[生年月日]]))","v":0},{"$f":"TEXT(課題[[#This Row],[生年月日]],\"mmdd\")","v":"0100"},null,null,{"$f":"IF(ISBLANK(課題[[#This Row],[生年月日]]),\"\",DATEDIF(課題[[#This Row],[生年月日]],TODAY(),\"Y\"))","v":""}]
[null,null,{"$f":"IF(ISBLANK(課題[[#This Row],[生年月日]]),0,MONTH(課題[[#This Row],[生年月日]]))","v":0},{"$f":"TEXT(課題[[#This Row],[生年月日]],\"mmdd\")","v":"0100"},null,null,{"$f":"IF(ISBLANK(課題[[#This Row],[生年月日]]),\"\",DATEDIF(課題[[#This Row],[生年月日]],TODAY(),\"Y\"))","v":""}]
[null,null,{"$f":"IF(ISBLANK(課題[[#This Row],[生年月日]]),0,MONTH(課題[[#This Row],[生年月日]]))","v":0},{"$f":"TEXT(課題[[#This Row],[生年月日]],\"mmdd\")","v":"0100"},null,null,{"$f":"IF(ISBLANK(課題[[#This Row],[生年月日]]),\"\",DATEDIF(課題[[#This Row],[生年月日]],TODAY(),\"Y\"))","v":""}]
[null,null,{"$f":"IF(ISBLANK(課題[[#This Row],[生年月日]]),0,MONTH(課題[[#This Row],[生年月日]]))","v":0},{"$f":"TEXT(課題[[#This Row],[生年月日]],\"mmdd\")","v":"0100"},null,null,{"$f":"IF(ISBLANK(課題[[#This Row],[生年月日]]),\"\",DATEDIF(課題[[#This Row],[生年月日]],TODAY(),\"Y\"))","v":""}]
[null,null,{"$f":"IF(ISBLANK(課題[[#This Row],[生年月日]]),0,MONTH(課題[[#This Row],[生年月日]]))","v":0},{"$f":"TEXT(課題[[#This Row],[生年月日]],\"mmdd\")","v":"0100"},null,null,{"$f":"IF(ISBLANK(課題[[#This Row],[生年月日]]),\"\",DATEDIF(課題[[#This Row],[生年月日]],TODAY(),\"Y\"))","v":""}]
[null,null,{"$f":"IF(ISBLANK(課題[[#This Row],[生年月日]]),0,MONTH(課題[[#This Row],[生年月日]]))","v":0},{"$f":"TEXT(課題[[#This Row],[生年月日]],\"mmdd\")","v":"0100"},null,null,{"$f":"IF(ISBLANK(課題[[#This Row],[生年月日]]),\"\",DATEDIF(課題[[#This Row],[生年月日]],TODAY(),\"Y\"))","v":""}]
[null,null,{"$f":"IF(ISBLANK(課題[[#This Row],[生年月日]]),0,MONTH(課題[[#This Row],[生年月日]]))","v":0},{"$f":"TEXT(課題[[#This Row],[生年月日]],\"mmdd\")","v":"0100"},null,null,{"$f":"IF(ISBLANK(課題[[#This Row],[生年月日]]),\"\",DATEDIF(課題[[#This Row],[生年月日]],TODAY(),\"Y\"))","v":""}]
[null,null,{"$f":"IF(ISBLANK(課題[[#This Row],[生年月日]]),0,MONTH(課題[[#This Row],[生年月日]]))","v":0},{"$f":"TEXT(課題[[#This Row],[生年月日]],\"mmdd\")","v":"0100"},null,null,{"$f":"IF(ISBLANK(課題[[#This Row],[生年月日]]),\"\",DATEDIF(課題[[#This Row],[生年月日]],TODAY(),\"Y\"))","v":""}]
[null,null,{"$f":"IF(ISBLANK(課題[[#This Row],[生年月日]]),0,MONTH(課題[[#This Row],[生年月日]]))","v":0},{"$f":"TEXT(課題[[#This Row],[生年月日]],\"mmdd\")","v":"0100"},null,null,{"$f":"IF(ISBLANK(課題[[#This Row],[生年月日]]),\"\",DATEDIF(課題[[#This Row],[生年月日]],TODAY(),\"Y\"))","v":""}]
[null,null,{"$f":"IF(ISBLANK(課題[[#This Row],[生年月日]]),0,MONTH(課題[[#This Row],[生年月日]]))","v":0},{"$f":"TEXT(課題[[#This Row],[生年月日]],\"mmdd\")","v":"0100"},null,null,{"$f":"IF(ISBLANK(課題[[#This Row],[生年月日]]),\"\",DATEDIF(課題[[#This Row],[生年月日]],TODAY(),\"Y\"))","v":""}]
[null,null,{"$f":"IF(ISBLANK(課題[[#This Row],[生年月日]]),0,MONTH(課題[[#This Row],[生年月日]]))","v":0},{"$f":"TEXT(課題[[#This Row],[生年月日]],\"mmdd\")","v":"0100"},null,null,{"$f":"IF(ISBLANK(課題[[#This Row],[生年月日]]),\"\",DATEDIF(課題[[#This Row],[生年月日]],TODAY(),\"Y\"))","v":""}]
[null,null,{"$f":"IF(ISBLANK(課題[[#This Row],[生年月日]]),0,MONTH(課題[[#This Row],[生年月日]]))","v":0},{"$f":"TEXT(課題[[#This Row],[生年月日]],\"mmdd\")","v":"0100"},null,null,{"$f":"IF(ISBLANK(課題[[#This Row],[生年月日]]),\"\",DATEDIF(課題[[#This Row],[生年月日]],TODAY(),\"Y\"))","v":""}]
[null,null,{"$f":"IF(ISBLANK(課題[[#This Row],[生年月日]]),0,MONTH(課題[[#This Row],[生年月日]]))","v":0},{"$f":"TEXT(課題[[#This Row],[生年月日]],\"mmdd\")","v":"0100"},null,null,{"$f":"IF(ISBLANK(課題[[#This Row],[生年月日]]),\"\",DATEDIF(課題[[#This Row],[生年月日]],TODAY(),\"Y\"))","v":""}]
[null,null,{"$f":"IF(ISBLANK(課題[[#This Row],[生年月日]]),0,MONTH(課題[[#This Row],[生年月日]]))","v":0},{"$f":"TEXT(課題[[#This Row],[生年月日]],\"mmdd\")","v":"0100"},null,null,{"$f":"IF(ISBLANK(課題[[#This Row],[生年月日]]),\"\",DATEDIF(課題[[#This Row],[生年月日]],TODAY(),\"Y\"))","v":""}]
[null,null,{"$f":"IF(ISBLANK(課題[[#This Row],[生年月日]]),0,MONTH(課題[[#This Row],[生年月日]]))","v":0},{"$f":"TEXT(課題[[#This Row],[生年月日]],\"mmdd\")","v":"0100"},null,null,{"$f":"IF(ISBLANK(課題[[#This Row],[生年月日]]),\"\",DATEDIF(課題[[#This Row],[生年月日]],TODAY(),\"Y\"))","v":""}]
[null,null,{"$f":"IF(ISBLANK(課題[[#This Row],[生年月日]]),0,MONTH(課題[[#This Row],[生年月日]]))","v":0},{"$f":"TEXT(課題[[#This Row],[生年月日]],\"mmdd\")","v":"0100"},null,null,{"$f":"IF(ISBLANK(課題[[#This Row],[生年月日]]),\"\",DATEDIF(課題[[#This Row],[生年月日]],TODAY(),\"Y\"))","v":""}]
[null,null,{"$f":"IF(ISBLANK(課題[[#This Row],[生年月日]]),0,MONTH(課題[[#This Row],[生年月日]]))","v":0},{"$f":"TEXT(課題[[#This Row],[生年月日]],\"mmdd\")","v":"0100"},null,null,{"$f":"IF(ISBLANK(課題[[#This Row],[生年月日]]),\"\",DATEDIF(課題[[#This Row],[生年月日]],TODAY(),\"Y\"))","v":""}]
[null,null,{"$f":"IF(ISBLANK(課題[[#This Row],[生年月日]]),0,MONTH(課題[[#This Row],[生年月日]]))","v":0},{"$f":"TEXT(課題[[#This Row],[生年月日]],\"mmdd\")","v":"0100"},null,null,{"$f":"IF(ISBLANK(課題[[#This Row],[生年月日]]),\"\",DATEDIF(課題[[#This Row],[生年月日]],TODAY(),\"Y\"))","v":""}]
[null,null,{"$f":"IF(ISBLANK(課題[[#This Row],[生年月日]]),0,MONTH(課題[[#This Row],[生年月日]]))","v":0},{"$f":"TEXT(課題[[#This Row],[生年月日]],\"mmdd\")","v":"0100"},null,null,{"$f":"IF(ISBLANK(課題[[#This Row],[生年月日]]),\"\",DATEDIF(課題[[#This Row],[生年月日]],TODAY(),\"Y\"))","v":""}]
[null,null,{"$f":"IF(ISBLANK(課題[[#This Row],[生年月日]]),0,MONTH(課題[[#This Row],[生年月日]]))","v":0},{"$f":"TEXT(課題[[#This Row],[生年月日]],\"mmdd\")","v":"0100"},null,null,{"$f":"IF(ISBLANK(課題[[#This Row],[生年月日]]),\"\",DATEDIF(課題[[#This Row],[生年月日]],TODAY(),\"Y\"))","v":""}]
[null,null,{"$f":"IF(ISBLANK(課題[[#This Row],[生年月日]]),0,MONTH(課題[[#This Row],[生年月日]]))","v":0},{"$f":"TEXT(課題[[#This Row],[生年月日]],\"mmdd\")","v":"0100"},null,null,{"$f":"IF(ISBLANK(課題[[#This Row],[生年月日]]),\"\",DATEDIF(課題[[#This Row],[生年月日]],TODAY(),\"Y\"))","v":""}]
[null,null,{"$f":"IF(ISBLANK(課題[[#This Row],[生年月日]]),0,MONTH(課題[[#This Row],[生年月日]]))","v":0},{"$f":"TEXT(課題[[#This Row],[生年月日]],\"mmdd\")","v":"0100"},null,null,{"$f":"IF(ISBLANK(課題[[#This Row],[生年月日]]),\"\",DATEDIF(課題[[#This Row],[生年月日]],TODAY(),\"Y\"))","v":""}]
[null,null,{"$f":"IF(ISBLANK(課題[[#This Row],[生年月日]]),0,MONTH(課題[[#This Row],[生年月日]]))","v":0},{"$f":"TEXT(課題[[#This Row],[生年月日]],\"mmdd\")","v":"0100"},null,null,{"$f":"IF(ISBLANK(課題[[#This Row],[生年月日]]),\"\",DATEDIF(課題[[#This Row],[生年月日]],TODAY(),\"Y\"))","v":""}]
[null,null,{"$f":"IF(ISBLANK(課題[[#This Row],[生年月日]]),0,MONTH(課題[[#This Row],[生年月日]]))","v":0},{"$f":"TEXT(課題[[#This Row],[生年月日]],\"mmdd\")","v":"0100"},null,null,{"$f":"IF(ISBLANK(課題[[#This Row],[生年月日]]),\"\",DATEDIF(課題[[#This Row],[生年月日]],TODAY(),\"Y\"))","v":""}]
[null,null,{"$f":"IF(ISBLANK(課題[[#This Row],[生年月日]]),0,MONTH(課題[[#This Row],[生年月日]]))","v":0},{"$f":"TEXT(課題[[#This Row],[生年月日]],\"mmdd\")","v":"0100"},null,null,{"$f":"IF(ISBLANK(課題[[#This Row],[生年月日]]),\"\",DATEDIF(課題[[#This Row],[生年月日]],TODAY(),\"Y\"))","v":""}]
[null,null,{"$f":"IF(ISBLANK(課題[[#This Row],[生年月日]]),0,MONTH(課題[[#This Row],[生年月日]]))","v":0},{"$f":"TEXT(課題[[#This Row],[生年月日]],\"mmdd\")","v":"0100"},null,null,{"$f":"IF(ISBLANK(課題[[#This Row],[生年月日]]),\"\",DATEDIF(課題[[#This Row],[生年月日]],TODAY(),\"Y\"))","v":""}]
[null,null,{"$f":"IF(ISBLANK(課題[[#This Row],[生年月日]]),0,MONTH(課題[[#This Row],[生年月日]]))","v":0},{"$f":"TEXT(課題[[#This Row],[生年月日]],\"mmdd\")","v":"0100"},null,null,{"$f":"IF(ISBLANK(課題[[#This Row],[生年月日]]),\"\",DATEDIF(課題[[#This Row],[生年月日]],TODAY(),\"Y\"))","v":""}]
[null,null,{"$f":"IF(ISBLANK(課題[[#This Row],[生年月日]]),0,MONTH(課題[[#This Row],[生年月日]]))","v":0},{"$f":"TEXT(課題[[#This Row],[生年月日]],\"mmdd\")","v":"0100"},null,null,{"$f":"IF(ISBLANK(課題[[#This Row],[生年月日]]),\"\",DATEDIF(課題[[#This Row],[生年月日]],TODAY(),\"Y\"))","v":""}]
[null,null,{"$f":"IF(ISBLANK(課題[[#This Row],[生年月日]]),0,MONTH(課題[[#This Row],[生年月日]]))","v":0},{"$f":"TEXT(課題[[#This Row],[生年月日]],\"mmdd\")","v":"0100"},null,null,{"$f":"IF(ISBLANK(課題[[#This Row],[生年月日]]),\"\",DATEDIF(課題[[#This Row],[生年月日]],TODAY(),\"Y\"))","v":""}]
[null,null,{"$f":"IF(ISBLANK(課題[[#This Row],[生年月日]]),0,MONTH(課題[[#This Row],[生年月日]]))","v":0},{"$f":"TEXT(課題[[#This Row],[生年月日]],\"mmdd\")","v":"0100"},null,null,{"$f":"IF(ISBLANK(課題[[#This Row],[生年月日]]),\"\",DATEDIF(課題[[#This Row],[生年月日]],TODAY(),\"Y\"))","v":""}]
[null,null,{"$f":"IF(ISBLANK(課題[[#This Row],[生年月日]]),0,MONTH(課題[[#This Row],[生年月日]]))","v":0},{"$f":"TEXT(課題[[#This Row],[生年月日]],\"mmdd\")","v":"0100"},null,null,{"$f":"IF(ISBLANK(課題[[#This Row],[生年月日]]),\"\",DATEDIF(課題[[#This Row],[生年月日]],TODAY(),\"Y\"))","v":""}]
[null,null,{"$f":"IF(ISBLANK(課題[[#This Row],[生年月日]]),0,MONTH(課題[[#This Row],[生年月日]]))","v":0},{"$f":"TEXT(課題[[#This Row],[生年月日]],\"mmdd\")","v":"0100"},null,null,{"$f":"IF(ISBLANK(課題[[#This Row],[生年月日]]),\"\",DATEDIF(課題[[#This Row],[生年月日]],TODAY(),\"Y\"))","v":""}]
[null,null,{"$f":"IF(ISBLANK(課題[[#This Row],[生年月日]]),0,MONTH(課題[[#This Row],[生年月日]]))","v":0},{"$f":"TEXT(課題[[#This Row],[生年月日]],\"mmdd\")","v":"0100"},null,null,{"$f":"IF(ISBLANK(課題[[#This Row],[生年月日]]),\"\",DATEDIF(課題[[#This Row],[生年月日]],TODAY(),\"Y\"))","v":""}]
[null,null,{"$f":"IF(ISBLANK(課題[[#This Row],[生年月日]]),0,MONTH(課題[[#This Row],[生年月日]]))","v":0},{"$f":"TEXT(課題[[#This Row],[生年月日]],\"mmdd\")","v":"0100"},null,null,{"$f":"IF(ISBLANK(課題[[#This Row],[生年月日]]),\"\",DATEDIF(課題[[#This Row],[生年月日]],TODAY(),\"Y\"))","v":""}]
[null,null,{"$f":"IF(ISBLANK(課題[[#This Row],[生年月日]]),0,MONTH(課題[[#This Row],[生年月日]]))","v":0},{"$f":"TEXT(課題[[#This Row],[生年月日]],\"mmdd\")","v":"0100"},null,null,{"$f":"IF(ISBLANK(課題[[#This Row],[生年月日]]),\"\",DATEDIF(課題[[#This Row],[生年月日]],TODAY(),\"Y\"))","v":""}]
[null,null,{"$f":"IF(ISBLANK(課題[[#This Row],[生年月日]]),0,MONTH(課題[[#This Row],[生年月日]]))","v":0},{"$f":"TEXT(課題[[#This Row],[生年月日]],\"mmdd\")","v":"0100"},null,null,{"$f":"IF(ISBLANK(課題[[#This Row],[生年月日]]),\"\",DATEDIF(課題[[#This Row],[生年月日]],TODAY(),\"Y\"))","v":""}]
[null,null,{"$f":"IF(ISBLANK(課題[[#This Row],[生年月日]]),0,MONTH(課題[[#This Row],[生年月日]]))","v":0},{"$f":"TEXT(課題[[#This Row],[生年月日]],\"mmdd\")","v":"0100"},null,null,{"$f":"IF(ISBLANK(課題[[#This Row],[生年月日]]),\"\",DATEDIF(課題[[#This Row],[生年月日]],TODAY(),\"Y\"))","v":""}]
[null,null,{"$f":"IF(ISBLANK(課題[[#This Row],[生年月日]]),0,MONTH(課題[[#This Row],[生年月日]]))","v":0},{"$f":"TEXT(課題[[#This Row],[生年月日]],\"mmdd\")","v":"0100"},null,null,{"$f":"IF(ISBLANK(課題[[#This Row],[生年月日]]),\"\",DATEDIF(課題[[#This Row],[生年月日]],TODAY(),\"Y\"))","v":""}]
[null,null,{"$f":"IF(ISBLANK(課題[[#This Row],[生年月日]]),0,MONTH(課題[[#This Row],[生年月日]]))","v":0},{"$f":"TEXT(課題[[#This Row],[生年月日]],\"mmdd\")","v":"0100"},null,null,{"$f":"IF(ISBLANK(課題[[#This Row],[生年月日]]),\"\",DATEDIF(課題[[#This Row],[生年月日]],TODAY(),\"Y\"))","v":""}]
[null,null,{"$f":"IF(ISBLANK(課題[[#This Row],[生年月日]]),0,MONTH(課題[[#This Row],[生年月日]]))","v":0},{"$f":"TEXT(課題[[#This Row],[生年月日]],\"mmdd\")","v":"0100"},null,null,{"$f":"IF(ISBLANK(課題[[#This Row],[生年月日]]),\"\",DATEDIF(課題[[#This Row],[生年月日]],TODAY(),\"Y\"))","v":""}]
[null,null,{"$f":"IF(ISBLANK(課題[[#This Row],[生年月日]]),0,MONTH(課題[[#This Row],[生年月日]]))","v":0},{"$f":"TEXT(課題[[#This Row],[生年月日]],\"mmdd\")","v":"0100"},null,null,{"$f":"IF(ISBLANK(課題[[#This Row],[生年月日]]),\"\",DATEDIF(課題[[#This Row],[生年月日]],TODAY(),\"Y\"))","v":""}]
[null,null,{"$f":"IF(ISBLANK(課題[[#This Row],[生年月日]]),0,MONTH(課題[[#This Row],[生年月日]]))","v":0},{"$f":"TEXT(課題[[#This Row],[生年月日]],\"mmdd\")","v":"0100"},null,null,{"$f":"IF(ISBLANK(課題[[#This Row],[生年月日]]),\"\",DATEDIF(課題[[#This Row],[生年月日]],TODAY(),\"Y\"))","v":""}]
[null,null,{"$f":"IF(ISBLANK(課題[[#This Row],[生年月日]]),0,MONTH(課題[[#This Row],[生年月日]]))","v":0},{"$f":"TEXT(課題[[#This Row],[生年月日]],\"mmdd\")","v":"0100"},null,null,{"$f":"IF(ISBLANK(課題[[#This Row],[生年月日]]),\"\",DATEDIF(課題[[#This Row],[生年月日]],TODAY(),\"Y\"))","v":""}]
[null,null,{"$f":"IF(ISBLANK(課題[[#This Row],[生年月日]]),0,MONTH(課題[[#This Row],[生年月日]]))","v":0},{"$f":"TEXT(課題[[#This Row],[生年月日]],\"mmdd\")","v":"0100"},null,null,{"$f":"IF(ISBLANK(課題[[#This Row],[生年月日]]),\"\",DATEDIF(課題[[#This Row],[生年月日]],TODAY(),\"Y\"))","v":""}]
[null,null,{"$f":"IF(ISBLANK(課題[[#This Row],[生年月日]]),0,MONTH(課題[[#This Row],[生年月日]]))","v":0},{"$f":"TEXT(課題[[#This Row],[生年月日]],\"mmdd\")","v":"0100"},null,null,{"$f":"IF(ISBLANK(課題[[#This Row],[生年月日]]),\"\",DATEDIF(課題[[#This Row],[生年月日]],TODAY(),\"Y\"))","v":""}]
[null,null,{"$f":"IF(ISBLANK(課題[[#This Row],[生年月日]]),0,MONTH(課題[[#This Row],[生年月日]]))","v":0},{"$f":"TEXT(課題[[#This Row],[生年月日]],\"mmdd\")","v":"0100"},null,null,{"$f":"IF(ISBLANK(課題[[#This Row],[生年月日]]),\"\",DATEDIF(課題[[#This Row],[生年月日]],TODAY(),\"Y\"))","v":""}]
[null,null,{"$f":"IF(ISBLANK(課題[[#This Row],[生年月日]]),0,MONTH(課題[[#This Row],[生年月日]]))","v":0},{"$f":"TEXT(課題[[#This Row],[生年月日]],\"mmdd\")","v":"0100"},null,null,{"$f":"IF(ISBLANK(課題[[#This Row],[生年月日]]),\"\",DATEDIF(課題[[#This Row],[生年月日]],TODAY(),\"Y\"))","v":""}]
[null,null,{"$f":"IF(ISBLANK(課題[[#This Row],[生年月日]]),0,MONTH(課題[[#This Row],[生年月日]]))","v":0},{"$f":"TEXT(課題[[#This Row],[生年月日]],\"mmdd\")","v":"0100"},null,null,{"$f":"IF(ISBLANK(課題[[#This Row],[生年月日]]),\"\",DATEDIF(課題[[#This Row],[生年月日]],TODAY(),\"Y\"))","v":""}]
[null,null,{"$f":"IF(ISBLANK(課題[[#This Row],[生年月日]]),0,MONTH(課題[[#This Row],[生年月日]]))","v":0},{"$f":"TEXT(課題[[#This Row],[生年月日]],\"mmdd\")","v":"0100"},null,null,{"$f":"IF(ISBLANK(課題[[#This Row],[生年月日]]),\"\",DATEDIF(課題[[#This Row],[生年月日]],TODAY(),\"Y\"))","v":""}]
[null,null,{"$f":"IF(ISBLANK(課題[[#This Row],[生年月日]]),0,MONTH(課題[[#This Row],[生年月日]]))","v":0},{"$f":"TEXT(課題[[#This Row],[生年月日]],\"mmdd\")","v":"0100"},null,null,{"$f":"IF(ISBLANK(課題[[#This Row],[生年月日]]),\"\",DATEDIF(課題[[#This Row],[生年月日]],TODAY(),\"Y\"))","v":""}]
[null,null,{"$f":"IF(ISBLANK(課題[[#This Row],[生年月日]]),0,MONTH(課題[[#This Row],[生年月日]]))","v":0},{"$f":"TEXT(課題[[#This Row],[生年月日]],\"mmdd\")","v":"0100"},null,null,{"$f":"IF(ISBLANK(課題[[#This Row],[生年月日]]),\"\",DATEDIF(課題[[#This Row],[生年月日]],TODAY(),\"Y\"))","v":""}]
[null,null,{"$f":"IF(ISBLANK(課題[[#This Row],[生年月日]]),0,MONTH(課題[[#This Row],[生年月日]]))","v":0},{"$f":"TEXT(課題[[#This Row],[生年月日]],\"mmdd\")","v":"0100"},null,null,{"$f":"IF(ISBLANK(課題[[#This Row],[生年月日]]),\"\",DATEDIF(課題[[#This Row],[生年月日]],TODAY(),\"Y\"))","v":""}]
[null,null,{"$f":"IF(ISBLANK(課題[[#This Row],[生年月日]]),0,MONTH(課題[[#This Row],[生年月日]]))","v":0},{"$f":"TEXT(課題[[#This Row],[生年月日]],\"mmdd\")","v":"0100"},null,null,{"$f":"IF(ISBLANK(課題[[#This Row],[生年月日]]),\"\",DATEDIF(課題[[#This Row],[生年月日]],TODAY(),\"Y\"))","v":""}]
[null,null,{"$f":"IF(ISBLANK(課題[[#This Row],[生年月日]]),0,MONTH(課題[[#This Row],[生年月日]]))","v":0},{"$f":"TEXT(課題[[#This Row],[生年月日]],\"mmdd\")","v":"0100"},null,null,{"$f":"IF(ISBLANK(課題[[#This Row],[生年月日]]),\"\",DATEDIF(課題[[#This Row],[生年月日]],TODAY(),\"Y\"))","v":""}]
[null,null,{"$f":"IF(ISBLANK(課題[[#This Row],[生年月日]]),0,MONTH(課題[[#This Row],[生年月日]]))","v":0},{"$f":"TEXT(課題[[#This Row],[生年月日]],\"mmdd\")","v":"0100"},null,null,{"$f":"IF(ISBLANK(課題[[#This Row],[生年月日]]),\"\",DATEDIF(課題[[#This Row],[生年月日]],TODAY(),\"Y\"))","v":""}]
[null,null,{"$f":"IF(ISBLANK(課題[[#This Row],[生年月日]]),0,MONTH(課題[[#This Row],[生年月日]]))","v":0},{"$f":"TEXT(課題[[#This Row],[生年月日]],\"mmdd\")","v":"0100"},null,null,{"$f":"IF(ISBLANK(課題[[#This Row],[生年月日]]),\"\",DATEDIF(課題[[#This Row],[生年月日]],TODAY(),\"Y\"))","v":""}]
[null,null,{"$f":"IF(ISBLANK(課題[[#This Row],[生年月日]]),0,MONTH(課題[[#This Row],[生年月日]]))","v":0},{"$f":"TEXT(課題[[#This Row],[生年月日]],\"mmdd\")","v":"0100"},null,null,{"$f":"IF(ISBLANK(課題[[#This Row],[生年月日]]),\"\",DATEDIF(課題[[#This Row],[生年月日]],TODAY(),\"Y\"))","v":""}]
[null,null,{"$f":"IF(ISBLANK(課題[[#This Row],[生年月日]]),0,MONTH(課題[[#This Row],[生年月日]]))","v":0},{"$f":"TEXT(課題[[#This Row],[生年月日]],\"mmdd\")","v":"0100"},null,null,{"$f":"IF(ISBLANK(課題[[#This Row],[生年月日]]),\"\",DATEDIF(課題[[#This Row],[生年月日]],TODAY(),\"Y\"))","v":""}]
[null,null,{"$f":"IF(ISBLANK(課題[[#This Row],[生年月日]]),0,MONTH(課題[[#This Row],[生年月日]]))","v":0},{"$f":"TEXT(課題[[#This Row],[生年月日]],\"mmdd\")","v":"0100"},null,null,{"$f":"IF(ISBLANK(課題[[#This Row],[生年月日]]),\"\",DATEDIF(課題[[#This Row],[生年月日]],TODAY(),\"Y\"))","v":""}]
[null,null,{"$f":"IF(ISBLANK(課題[[#This Row],[生年月日]]),0,MONTH(課題[[#This Row],[生年月日]]))","v":0},{"$f":"TEXT(課題[[#This Row],[生年月日]],\"mmdd\")","v":"0100"},null,null,{"$f":"IF(ISBLANK(課題[[#This Row],[生年月日]]),\"\",DATEDIF(課題[[#This Row],[生年月日]],TODAY(),\"Y\"))","v":""}]
[null,null,{"$f":"IF(ISBLANK(課題[[#This Row],[生年月日]]),0,MONTH(課題[[#This Row],[生年月日]]))","v":0},{"$f":"TEXT(課題[[#This Row],[生年月日]],\"mmdd\")","v":"0100"},null,null,{"$f":"IF(ISBLANK(課題[[#This Row],[生年月日]]),\"\",DATEDIF(課題[[#This Row],[生年月日]],TODAY(),\"Y\"))","v":""}]
[null,null,{"$f":"IF(ISBLANK(課題[[#This Row],[生年月日]]),0,MONTH(課題[[#This Row],[生年月日]]))","v":0},{"$f":"TEXT(課題[[#This Row],[生年月日]],\"mmdd\")","v":"0100"},null,null,{"$f":"IF(ISBLANK(課題[[#This Row],[生年月日]]),\"\",DATEDIF(課題[[#This Row],[生年月日]],TODAY(),\"Y\"))","v":""}]
[null,null,{"$f":"IF(ISBLANK(課題[[#This Row],[生年月日]]),0,MONTH(課題[[#This Row],[生年月日]]))","v":0},{"$f":"TEXT(課題[[#This Row],[生年月日]],\"mmdd\")","v":"0100"},null,null,{"$f":"IF(ISBLANK(課題[[#This Row],[生年月日]]),\"\",DATEDIF(課題[[#This Row],[生年月日]],TODAY(),\"Y\"))","v":""}]
[null,null,{"$f":"IF(ISBLANK(課題[[#This Row],[生年月日]]),0,MONTH(課題[[#This Row],[生年月日]]))","v":0},{"$f":"TEXT(課題[[#This Row],[生年月日]],\"mmdd\")","v":"0100"},null,null,{"$f":"IF(ISBLANK(課題[[#This Row],[生年月日]]),\"\",DATEDIF(課題[[#This Row],[生年月日]],TODAY(),\"Y\"))","v":""}]
[null,null,{"$f":"IF(ISBLANK(課題[[#This Row],[生年月日]]),0,MONTH(課題[[#This Row],[生年月日]]))","v":0},{"$f":"TEXT(課題[[#This Row],[生年月日]],\"mmdd\")","v":"0100"},null,null,{"$f":"IF(ISBLANK(課題[[#This Row],[生年月日]]),\"\",DATEDIF(課題[[#This Row],[生年月日]],TODAY(),\"Y\"))","v":""}]
[null,null,{"$f":"IF(ISBLANK(課題[[#This Row],[生年月日]]),0,MONTH(課題[[#This Row],[生年月日]]))","v":0},{"$f":"TEXT(課題[[#This Row],[生年月日]],\"mmdd\")","v":"0100"},null,null,{"$f":"IF(ISBLANK(課題[[#This Row],[生年月日]]),\"\",DATEDIF(課題[[#This Row],[生年月日]],TODAY(),\"Y\"))","v":""}]
[null,null,{"$f":"IF(ISBLANK(課題[[#This Row],[生年月日]]),0,MONTH(課題[[#This Row],[生年月日]]))","v":0},{"$f":"TEXT(課題[[#This Row],[生年月日]],\"mmdd\")","v":"0100"},null,null,{"$f":"IF(ISBLANK(課題[[#This Row],[生年月日]]),\"\",DATEDIF(課題[[#This Row],[生年月日]],TODAY(),\"Y\"))","v":""}]
[null,null,{"$f":"IF(ISBLANK(課題[[#This Row],[生年月日]]),0,MONTH(課題[[#This Row],[生年月日]]))","v":0},{"$f":"TEXT(課題[[#This Row],[生年月日]],\"mmdd\")","v":"0100"},null,null,{"$f":"IF(ISBLANK(課題[[#This Row],[生年月日]]),\"\",DATEDIF(課題[[#This Row],[生年月日]],TODAY(),\"Y\"))","v":""}]
[null,null,{"$f":"IF(ISBLANK(課題[[#This Row],[生年月日]]),0,MONTH(課題[[#This Row],[生年月日]]))","v":0},{"$f":"TEXT(課題[[#This Row],[生年月日]],\"mmdd\")","v":"0100"},null,null,{"$f":"IF(ISBLANK(課題[[#This Row],[生年月日]]),\"\",DATEDIF(課題[[#This Row],[生年月日]],TODAY(),\"Y\"))","v":""}]
[null,null,{"$f":"IF(ISBLANK(課題[[#This Row],[生年月日]]),0,MONTH(課題[[#This Row],[生年月日]]))","v":0},{"$f":"TEXT(課題[[#This Row],[生年月日]],\"mmdd\")","v":"0100"},null,null,{"$f":"IF(ISBLANK(課題[[#This Row],[生年月日]]),\"\",DATEDIF(課題[[#This Row],[生年月日]],TODAY(),\"Y\"))","v":""}]
[null,null,{"$f":"IF(ISBLANK(課題[[#This Row],[生年月日]]),0,MONTH(課題[[#This Row],[生年月日]]))","v":0},{"$f":"TEXT(課題[[#This Row],[生年月日]],\"mmdd\")","v":"0100"},null,null,{"$f":"IF(ISBLANK(課題[[#This Row],[生年月日]]),\"\",DATEDIF(課題[[#This Row],[生年月日]],TODAY(),\"Y\"))","v":""}]
[null,null,{"$f":"IF(ISBLANK(課題[[#This Row],[生年月日]]),0,MONTH(課題[[#This Row],[生年月日]]))","v":0},{"$f":"TEXT(課題[[#This Row],[生年月日]],\"mmdd\")","v":"0100"},null,null,{"$f":"IF(ISBLANK(課題[[#This Row],[生年月日]]),\"\",DATEDIF(課題[[#This Row],[生年月日]],TODAY(),\"Y\"))","v":""}]
[null,null,{"$f":"IF(ISBLANK(課題[[#This Row],[生年月日]]),0,MONTH(課題[[#This Row],[生年月日]]))","v":0},{"$f":"TEXT(課題[[#This Row],[生年月日]],\"mmdd\")","v":"0100"},null,null,{"$f":"IF(ISBLANK(課題[[#This Row],[生年月日]]),\"\",DATEDIF(課題[[#This Row],[生年月日]],TODAY(),\"Y\"))","v":""}]
[null,null,{"$f":"IF(ISBLANK(課題[[#This Row],[生年月日]]),0,MONTH(課題[[#This Row],[生年月日]]))","v":0},{"$f":"TEXT(課題[[#This Row],[生年月日]],\"mmdd\")","v":"0100"},null,null,{"$f":"IF(ISBLANK(課題[[#This Row],[生年月日]]),\"\",DATEDIF(課題[[#This Row],[生年月日]],TODAY(),\"Y\"))","v":""}]
[null,null,{"$f":"IF(ISBLANK(課題[[#This Row],[生年月日]]),0,MONTH(課題[[#This Row],[生年月日]]))","v":0},{"$f":"TEXT(課題[[#This Row],[生年月日]],\"mmdd\")","v":"0100"},null,null,{"$f":"IF(ISBLANK(課題[[#This Row],[生年月日]]),\"\",DATEDIF(課題[[#This Row],[生年月日]],TODAY(),\"Y\"))","v":""}]
[null,null,{"$f":"IF(ISBLANK(課題[[#This Row],[生年月日]]),0,MONTH(課題[[#This Row],[生年月日]]))","v":0},{"$f":"TEXT(課題[[#This Row],[生年月日]],\"mmdd\")","v":"0100"},null,null,{"$f":"IF(ISBLANK(課題[[#This Row],[生年月日]]),\"\",DATEDIF(課題[[#This Row],[生年月日]],TODAY(),\"Y\"))","v":""}]
[null,null,{"$f":"IF(ISBLANK(課題[[#This Row],[生年月日]]),0,MONTH(課題[[#This Row],[生年月日]]))","v":0},{"$f":"TEXT(課題[[#This Row],[生年月日]],\"mmdd\")","v":"0100"},null,null,{"$f":"IF(ISBLANK(課題[[#This Row],[生年月日]]),\"\",DATEDIF(課題[[#This Row],[生年月日]],TODAY(),\"Y\"))","v":""}]
[null,null,{"$f":"IF(ISBLANK(課題[[#This Row],[生年月日]]),0,MONTH(課題[[#This Row],[生年月日]]))","v":0},{"$f":"TEXT(課題[[#This Row],[生年月日]],\"mmdd\")","v":"0100"},null,null,{"$f":"IF(ISBLANK(課題[[#This Row],[生年月日]]),\"\",DATEDIF(課題[[#This Row],[生年月日]],TODAY(),\"Y\"))","v":""}]
[null,null,{"$f":"IF(ISBLANK(課題[[#This Row],[生年月日]]),0,MONTH(課題[[#This Row],[生年月日]]))","v":0},{"$f":"TEXT(課題[[#This Row],[生年月日]],\"mmdd\")","v":"0100"},null,null,{"$f":"IF(ISBLANK(課題[[#This Row],[生年月日]]),\"\",DATEDIF(課題[[#This Row],[生年月日]],TODAY(),\"Y\"))","v":""}]
[null,null,{"$f":"IF(ISBLANK(課題[[#This Row],[生年月日]]),0,MONTH(課題[[#This Row],[生年月日]]))","v":0},{"$f":"TEXT(課題[[#This Row],[生年月日]],\"mmdd\")","v":"0100"},null,null,{"$f":"IF(ISBLANK(課題[[#This Row],[生年月日]]),\"\",DATEDIF(課題[[#This Row],[生年月日]],TODAY(),\"Y\"))","v":""}]
[null,null,{"$f":"IF(ISBLANK(課題[[#This Row],[生年月日]]),0,MONTH(課題[[#This Row],[生年月日]]))","v":0},{"$f":"TEXT(課題[[#This Row],[生年月日]],\"mmdd\")","v":"0100"},null,null,{"$f":"IF(ISBLANK(課題[[#This Row],[生年月日]]),\"\",DATEDIF(課題[[#This Row],[生年月日]],TODAY(),\"Y\"))","v":""}]
[null,null,{"$f":"IF(ISBLANK(課題[[#This Row],[生年月日]]),0,MONTH(課題[[#This Row],[生年月日]]))","v":0},{"$f":"TEXT(課題[[#This Row],[生年月日]],\"mmdd\")","v":"0100"},null,null,{"$f":"IF(ISBLANK(課題[[#This Row],[生年月日]]),\"\",DATEDIF(課題[[#This Row],[生年月日]],TODAY(),\"Y\"))","v":""}]
[null,null,{"$f":"IF(ISBLANK(課題[[#This Row],[生年月日]]),0,MONTH(課題[[#This Row],[生年月日]]))","v":0},{"$f":"TEXT(課題[[#This Row],[生年月日]],\"mmdd\")","v":"0100"},null,null,{"$f":"IF(ISBLANK(課題[[#This Row],[生年月日]]),\"\",DATEDIF(課題[[#This Row],[生年月日]],TODAY(),\"Y\"))","v":""}]
[null,null,{"$f":"IF(ISBLANK(課題[[#This Row],[生年月日]]),0,MONTH(課題[[#This Row],[生年月日]]))","v":0},{"$f":"TEXT(課題[[#This Row],[生年月日]],\"mmdd\")","v":"0100"},null,null,{"$f":"IF(ISBLANK(課題[[#This Row],[生年月日]]),\"\",DATEDIF(課題[[#This Row],[生年月日]],TODAY(),\"Y\"))","v":""}]
[null,null,{"$f":"IF(ISBLANK(課題[[#This Row],[生年月日]]),0,MONTH(課題[[#This Row],[生年月日]]))","v":0},{"$f":"TEXT(課題[[#This Row],[生年月日]],\"mmdd\")","v":"0100"},null,null,{"$f":"IF(ISBLANK(課題[[#This Row],[生年月日]]),\"\",DATEDIF(課題[[#This Row],[生年月日]],TODAY(),\"Y\"))","v":""}]
[null,null,{"$f":"IF(ISBLANK(課題[[#This Row],[生年月日]]),0,MONTH(課題[[#This Row],[生年月日]]))","v":0},{"$f":"TEXT(課題[[#This Row],[生年月日]],\"mmdd\")","v":"0100"},null,null,{"$f":"IF(ISBLANK(課題[[#This Row],[生年月日]]),\"\",DATEDIF(課題[[#This Row],[生年月日]],TODAY(),\"Y\"))","v":""}]
[null,null,{"$f":"IF(ISBLANK(課題[[#This Row],[生年月日]]),0,MONTH(課題[[#This Row],[生年月日]]))","v":0},{"$f":"TEXT(課題[[#This Row],[生年月日]],\"mmdd\")","v":"0100"},null,null,{"$f":"IF(ISBLANK(課題[[#This Row],[生年月日]]),\"\",DATEDIF(課題[[#This Row],[生年月日]],TODAY(),\"Y\"))","v":""}]
[null,null,{"$f":"IF(ISBLANK(課題[[#This Row],[生年月日]]),0,MONTH(課題[[#This Row],[生年月日]]))","v":0},{"$f":"TEXT(課題[[#This Row],[生年月日]],\"mmdd\")","v":"0100"},null,null,{"$f":"IF(ISBLANK(課題[[#This Row],[生年月日]]),\"\",DATEDIF(課題[[#This Row],[生年月日]],TODAY(),\"Y\"))","v":""}]
[null,null,{"$f":"IF(ISBLANK(課題[[#This Row],[生年月日]]),0,MONTH(課題[[#This Row],[生年月日]]))","v":0},{"$f":"TEXT(課題[[#This Row],[生年月日]],\"mmdd\")","v":"0100"},null,null,{"$f":"IF(ISBLANK(課題[[#This Row],[生年月日]]),\"\",DATEDIF(課題[[#This Row],[生年月日]],TODAY(),\"Y\"))","v":""}]
[null,null,{"$f":"IF(ISBLANK(課題[[#This Row],[生年月日]]),0,MONTH(課題[[#This Row],[生年月日]]))","v":0},{"$f":"TEXT(課題[[#This Row],[生年月日]],\"mmdd\")","v":"0100"},null,null,{"$f":"IF(ISBLANK(課題[[#This Row],[生年月日]]),\"\",DATEDIF(課題[[#This Row],[生年月日]],TODAY(),\"Y\"))","v":""}]
[null,null,{"$f":"IF(ISBLANK(課題[[#This Row],[生年月日]]),0,MONTH(課題[[#This Row],[生年月日]]))","v":0},{"$f":"TEXT(課題[[#This Row],[生年月日]],\"mmdd\")","v":"0100"},null,null,{"$f":"IF(ISBLANK(課題[[#This Row],[生年月日]]),\"\",DATEDIF(課題[[#This Row],[生年月日]],TODAY(),\"Y\"))","v":""}]
[null,null,{"$f":"IF(ISBLANK(課題[[#This Row],[生年月日]]),0,MONTH(課題[[#This Row],[生年月日]]))","v":0},{"$f":"TEXT(課題[[#This Row],[生年月日]],\"mmdd\")","v":"0100"},null,null,{"$f":"IF(ISBLANK(課題[[#This Row],[生年月日]]),\"\",DATEDIF(課題[[#This Row],[生年月日]],TODAY(),\"Y\"))","v":""}]
[null,null,{"$f":"IF(ISBLANK(課題[[#This Row],[生年月日]]),0,MONTH(課題[[#This Row],[生年月日]]))","v":0},{"$f":"TEXT(課題[[#This Row],[生年月日]],\"mmdd\")","v":"0100"},null,null,{"$f":"IF(ISBLANK(課題[[#This Row],[生年月日]]),\"\",DATEDIF(課題[[#This Row],[生年月日]],TODAY(),\"Y\"))","v":""}]
[null,null,{"$f":"IF(ISBLANK(課題[[#This Row],[生年月日]]),0,MONTH(課題[[#This Row],[生年月日]]))","v":0},{"$f":"TEXT(課題[[#This Row],[生年月日]],\"mmdd\")","v":"0100"},null,null,{"$f":"IF(ISBLANK(課題[[#This Row],[生年月日]]),\"\",DATEDIF(課題[[#This Row],[生年月日]],TODAY(),\"Y\"))","v":""}]
[null,null,{"$f":"IF(ISBLANK(課題[[#This Row],[生年月日]]),0,MONTH(課題[[#This Row],[生年月日]]))","v":0},{"$f":"TEXT(課題[[#This Row],[生年月日]],\"mmdd\")","v":"0100"},null,null,{"$f":"IF(ISBLANK(課題[[#This Row],[生年月日]]),\"\",DATEDIF(課題[[#This Row],[生年月日]],TODAY(),\"Y\"))","v":""}]
[null,null,{"$f":"IF(ISBLANK(課題[[#This Row],[生年月日]]),0,MONTH(課題[[#This Row],[生年月日]]))","v":0},{"$f":"TEXT(課題[[#This Row],[生年月日]],\"mmdd\")","v":"0100"},null,null,{"$f":"IF(ISBLANK(課題[[#This Row],[生年月日]]),\"\",DATEDIF(課題[[#This Row],[生年月日]],TODAY(),\"Y\"))","v":""}]
[null,null,{"$f":"IF(ISBLANK(課題[[#This Row],[生年月日]]),0,MONTH(課題[[#This Row],[生年月日]]))","v":0},{"$f":"TEXT(課題[[#This Row],[生年月日]],\"mmdd\")","v":"0100"},null,null,{"$f":"IF(ISBLANK(課題[[#This Row],[生年月日]]),\"\",DATEDIF(課題[[#This Row],[生年月日]],TODAY(),\"Y\"))","v":""}]
[null,null,{"$f":"IF(ISBLANK(課題[[#This Row],[生年月日]]),0,MONTH(課題[[#This Row],[生年月日]]))","v":0},{"$f":"TEXT(課題[[#This Row],[生年月日]],\"mmdd\")","v":"0100"},null,null,{"$f":"IF(ISBLANK(課題[[#This Row],[生年月日]]),\"\",DATEDIF(課題[[#This Row],[生年月日]],TODAY(),\"Y\"))","v":""}]
[null,null,{"$f":"IF(ISBLANK(課題[[#This Row],[生年月日]]),0,MONTH(課題[[#This Row],[生年月日]]))","v":0},{"$f":"TEXT(課題[[#This Row],[生年月日]],\"mmdd\")","v":"0100"},null,null,{"$f":"IF(ISBLANK(課題[[#This Row],[生年月日]]),\"\",DATEDIF(課題[[#This Row],[生年月日]],TODAY(),\"Y\"))","v":""}]
[null,null,{"$f":"IF(ISBLANK(課題[[#This Row],[生年月日]]),0,MONTH(課題[[#This Row],[生年月日]]))","v":0},{"$f":"TEXT(課題[[#This Row],[生年月日]],\"mmdd\")","v":"0100"},null,null,{"$f":"IF(ISBLANK(課題[[#This Row],[生年月日]]),\"\",DATEDIF(課題[[#This Row],[生年月日]],TODAY(),\"Y\"))","v":""}]
[null,null,{"$f":"IF(ISBLANK(課題[[#This Row],[生年月日]]),0,MONTH(課題[[#This Row],[生年月日]]))","v":0},{"$f":"TEXT(課題[[#This Row],[生年月日]],\"mmdd\")","v":"0100"},null,null,{"$f":"IF(ISBLANK(課題[[#This Row],[生年月日]]),\"\",DATEDIF(課題[[#This Row],[生年月日]],TODAY(),\"Y\"))","v":""}]
[null,null,{"$f":"IF(ISBLANK(課題[[#This Row],[生年月日]]),0,MONTH(課題[[#This Row],[生年月日]]))","v":0},{"$f":"TEXT(課題[[#This Row],[生年月日]],\"mmdd\")","v":"0100"},null,null,{"$f":"IF(ISBLANK(課題[[#This Row],[生年月日]]),\"\",DATEDIF(課題[[#This Row],[生年月日]],TODAY(),\"Y\"))","v":""}]
[null,null,{"$f":"IF(ISBLANK(課題[[#This Row],[生年月日]]),0,MONTH(課題[[#This Row],[生年月日]]))","v":0},{"$f":"TEXT(課題[[#This Row],[生年月日]],\"mmdd\")","v":"0100"},null,null,{"$f":"IF(ISBLANK(課題[[#This Row],[生年月日]]),\"\",DATEDIF(課題[[#This Row],[生年月日]],TODAY(),\"Y\"))","v":""}]
[null,null,{"$f":"IF(ISBLANK(課題[[#This Row],[生年月日]]),0,MONTH(課題[[#This Row],[生年月日]]))","v":0},{"$f":"TEXT(課題[[#This Row],[生年月日]],\"mmdd\")","v":"0100"},null,null,{"$f":"IF(ISBLANK(課題[[#This Row],[生年月日]]),\"\",DATEDIF(課題[[#This Row],[生年月日]],TODAY(),\"Y\"))","v":""}]
[null,null,{"$f":"IF(ISBLANK(課題[[#This Row],[生年月日]]),0,MONTH(課題[[#This Row],[生年月日]]))","v":0},{"$f":"TEXT(課題[[#This Row],[生年月日]],\"mmdd\")","v":"0100"},null,null,{"$f":"IF(ISBLANK(課題[[#This Row],[生年月日]]),\"\",DATEDIF(課題[[#This Row],[生年月日]],TODAY(),\"Y\"))","v":""}]
[null,null,{"$f":"IF(ISBLANK(課題[[#This Row],[生年月日]]),0,MONTH(課題[[#This Row],[生年月日]]))","v":0},{"$f":"TEXT(課題[[#This Row],[生年月日]],\"mmdd\")","v":"0100"},null,null,{"$f":"IF(ISBLANK(課題[[#This Row],[生年月日]]),\"\",DATEDIF(課題[[#This Row],[生年月日]],TODAY(),\"Y\"))","v":""}]
[null,null,{"$f":"IF(ISBLANK(課題[[#This Row],[生年月日]]),0,MONTH(課題[[#This Row],[生年月日]]))","v":0},{"$f":"TEXT(課題[[#This Row],[生年月日]],\"mmdd\")","v":"0100"},null,null,{"$f":"IF(ISBLANK(課題[[#This Row],[生年月日]]),\"\",DATEDIF(課題[[#This Row],[生年月日]],TODAY(),\"Y\"))","v":""}]
[null,null,{"$f":"IF(ISBLANK(課題[[#This Row],[生年月日]]),0,MONTH(課題[[#This Row],[生年月日]]))","v":0},{"$f":"TEXT(課題[[#This Row],[生年月日]],\"mmdd\")","v":"0100"},null,null,{"$f":"IF(ISBLANK(課題[[#This Row],[生年月日]]),\"\",DATEDIF(課題[[#This Row],[生年月日]],TODAY(),\"Y\"))","v":""}]
[null,null,{"$f":"IF(ISBLANK(課題[[#This Row],[生年月日]]),0,MONTH(課題[[#This Row],[生年月日]]))","v":0},{"$f":"TEXT(課題[[#This Row],[生年月日]],\"mmdd\")","v":"0100"},null,null,{"$f":"IF(ISBLANK(課題[[#This Row],[生年月日]]),\"\",DATEDIF(課題[[#This Row],[生年月日]],TODAY(),\"Y\"))","v":""}]
[null,null,{"$f":"IF(ISBLANK(課題[[#This Row],[生年月日]]),0,MONTH(課題[[#This Row],[生年月日]]))","v":0},{"$f":"TEXT(課題[[#This Row],[生年月日]],\"mmdd\")","v":"0100"},null,null,{"$f":"IF(ISBLANK(課題[[#This Row],[生年月日]]),\"\",DATEDIF(課題[[#This Row],[生年月日]],TODAY(),\"Y\"))","v":""}]
[null,null,{"$f":"IF(ISBLANK(課題[[#This Row],[生年月日]]),0,MONTH(課題[[#This Row],[生年月日]]))","v":0},{"$f":"TEXT(課題[[#This Row],[生年月日]],\"mmdd\")","v":"0100"},null,null,{"$f":"IF(ISBLANK(課題[[#This Row],[生年月日]]),\"\",DATEDIF(課題[[#This Row],[生年月日]],TODAY(),\"Y\"))","v":""}]
[null,null,{"$f":"IF(ISBLANK(課題[[#This Row],[生年月日]]),0,MONTH(課題[[#This Row],[生年月日]]))","v":0},{"$f":"TEXT(課題[[#This Row],[生年月日]],\"mmdd\")","v":"0100"},null,null,{"$f":"IF(ISBLANK(課題[[#This Row],[生年月日]]),\"\",DATEDIF(課題[[#This Row],[生年月日]],TODAY(),\"Y\"))","v":""}]
[null,null,{"$f":"IF(ISBLANK(課題[[#This Row],[生年月日]]),0,MONTH(課題[[#This Row],[生年月日]]))","v":0},{"$f":"TEXT(課題[[#This Row],[生年月日]],\"mmdd\")","v":"0100"},null,null,{"$f":"IF(ISBLANK(課題[[#This Row],[生年月日]]),\"\",DATEDIF(課題[[#This Row],[生年月日]],TODAY(),\"Y\"))","v":""}]
[null,null,{"$f":"IF(ISBLANK(課題[[#This Row],[生年月日]]),0,MONTH(課題[[#This Row],[生年月日]]))","v":0},{"$f":"TEXT(課題[[#This Row],[生年月日]],\"mmdd\")","v":"0100"},null,null,{"$f":"IF(ISBLANK(課題[[#This Row],[生年月日]]),\"\",DATEDIF(課題[[#This Row],[生年月日]],TODAY(),\"Y\"))","v":""}]
[null,null,{"$f":"IF(ISBLANK(課題[[#This Row],[生年月日]]),0,MONTH(課題[[#This Row],[生年月日]]))","v":0},{"$f":"TEXT(課題[[#This Row],[生年月日]],\"mmdd\")","v":"0100"},null,null,{"$f":"IF(ISBLANK(課題[[#This Row],[生年月日]]),\"\",DATEDIF(課題[[#This Row],[生年月日]],TODAY(),\"Y\"))","v":""}]
[null,null,{"$f":"IF(ISBLANK(課題[[#This Row],[生年月日]]),0,MONTH(課題[[#This Row],[生年月日]]))","v":0},{"$f":"TEXT(課題[[#This Row],[生年月日]],\"mmdd\")","v":"0100"},null,null,{"$f":"IF(ISBLANK(課題[[#This Row],[生年月日]]),\"\",DATEDIF(課題[[#This Row],[生年月日]],TODAY(),\"Y\"))","v":""}]
[null,null,{"$f":"IF(ISBLANK(課題[[#This Row],[生年月日]]),0,MONTH(課題[[#This Row],[生年月日]]))","v":0},{"$f":"TEXT(課題[[#This Row],[生年月日]],\"mmdd\")","v":"0100"},null,null,{"$f":"IF(ISBLANK(課題[[#This Row],[生年月日]]),\"\",DATEDIF(課題[[#This Row],[生年月日]],TODAY(),\"Y\"))","v":""}]
[null,null,{"$f":"IF(ISBLANK(課題[[#This Row],[生年月日]]),0,MONTH(課題[[#This Row],[生年月日]]))","v":0},{"$f":"TEXT(課題[[#This Row],[生年月日]],\"mmdd\")","v":"0100"},null,null,{"$f":"IF(ISBLANK(課題[[#This Row],[生年月日]]),\"\",DATEDIF(課題[[#This Row],[生年月日]],TODAY(),\"Y\"))","v":""}]
[null,null,{"$f":"IF(ISBLANK(課題[[#This Row],[生年月日]]),0,MONTH(課題[[#This Row],[生年月日]]))","v":0},{"$f":"TEXT(課題[[#This Row],[生年月日]],\"mmdd\")","v":"0100"},null,null,{"$f":"IF(ISBLANK(課題[[#This Row],[生年月日]]),\"\",DATEDIF(課題[[#This Row],[生年月日]],TODAY(),\"Y\"))","v":""}]
[null,null,{"$f":"IF(ISBLANK(課題[[#This Row],[生年月日]]),0,MONTH(課題[[#This Row],[生年月日]]))","v":0},{"$f":"TEXT(課題[[#This Row],[生年月日]],\"mmdd\")","v":"0100"},null,null,{"$f":"IF(ISBLANK(課題[[#This Row],[生年月日]]),\"\",DATEDIF(課題[[#This Row],[生年月日]],TODAY(),\"Y\"))","v":""}]
[null,null,{"$f":"IF(ISBLANK(課題[[#This Row],[生年月日]]),0,MONTH(課題[[#This Row],[生年月日]]))","v":0},{"$f":"TEXT(課題[[#This Row],[生年月日]],\"mmdd\")","v":"0100"},null,null,{"$f":"IF(ISBLANK(課題[[#This Row],[生年月日]]),\"\",DATEDIF(課題[[#This Row],[生年月日]],TODAY(),\"Y\"))","v":""}]
[null,null,{"$f":"IF(ISBLANK(課題[[#This Row],[生年月日]]),0,MONTH(課題[[#This Row],[生年月日]]))","v":0},{"$f":"TEXT(課題[[#This Row],[生年月日]],\"mmdd\")","v":"0100"},null,null,{"$f":"IF(ISBLANK(課題[[#This Row],[生年月日]]),\"\",DATEDIF(課題[[#This Row],[生年月日]],TODAY(),\"Y\"))","v":""}]
[null,null,{"$f":"IF(ISBLANK(課題[[#This Row],[生年月日]]),0,MONTH(課題[[#This Row],[生年月日]]))","v":0},{"$f":"TEXT(課題[[#This Row],[生年月日]],\"mmdd\")","v":"0100"},null,null,{"$f":"IF(ISBLANK(課題[[#This Row],[生年月日]]),\"\",DATEDIF(課題[[#This Row],[生年月日]],TODAY(),\"Y\"))","v":""}]
[null,null,{"$f":"IF(ISBLANK(課題[[#This Row],[生年月日]]),0,MONTH(課題[[#This Row],[生年月日]]))","v":0},{"$f":"TEXT(課題[[#This Row],[生年月日]],\"mmdd\")","v":"0100"},null,null,{"$f":"IF(ISBLANK(課題[[#This Row],[生年月日]]),\"\",DATEDIF(課題[[#This Row],[生年月日]],TODAY(),\"Y\"))","v":""}]
[null,null,{"$f":"IF(ISBLANK(課題[[#This Row],[生年月日]]),0,MONTH(課題[[#This Row],[生年月日]]))","v":0},{"$f":"TEXT(課題[[#This Row],[生年月日]],\"mmdd\")","v":"0100"},null,null,{"$f":"IF(ISBLANK(課題[[#This Row],[生年月日]]),\"\",DATEDIF(課題[[#This Row],[生年月日]],TODAY(),\"Y\"))","v":""}]
[null,null,{"$f":"IF(ISBLANK(課題[[#This Row],[生年月日]]),0,MONTH(課題[[#This Row],[生年月日]]))","v":0},{"$f":"TEXT(課題[[#This Row],[生年月日]],\"mmdd\")","v":"0100"},null,null,{"$f":"IF(ISBLANK(課題[[#This Row],[生年月日]]),\"\",DATEDIF(課題[[#This Row],[生年月日]],TODAY(),\"Y\"))","v":""}]
[null,null,{"$f":"IF(ISBLANK(課題[[#This Row],[生年月日]]),0,MONTH(課題[[#This Row],[生年月日]]))","v":0},{"$f":"TEXT(課題[[#This Row],[生年月日]],\"mmdd\")","v":"0100"},null,null,{"$f":"IF(ISBLANK(課題[[#This Row],[生年月日]]),\"\",DATEDIF(課題[[#This Row],[生年月日]],TODAY(),\"Y\"))","v":""}]
[null,null,{"$f":"IF(ISBLANK(課題[[#This Row],[生年月日]]),0,MONTH(課題[[#This Row],[生年月日]]))","v":0},{"$f":"TEXT(課題[[#This Row],[生年月日]],\"mmdd\")","v":"0100"},null,null,{"$f":"IF(ISBLANK(課題[[#This Row],[生年月日]]),\"\",DATEDIF(課題[[#This Row],[生年月日]],TODAY(),\"Y\"))","v":""}]
[null,null,{"$f":"IF(ISBLANK(課題[[#This Row],[生年月日]]),0,MONTH(課題[[#This Row],[生年月日]]))","v":0},{"$f":"TEXT(課題[[#This Row],[生年月日]],\"mmdd\")","v":"0100"},null,null,{"$f":"IF(ISBLANK(課題[[#This Row],[生年月日]]),\"\",DATEDIF(課題[[#This Row],[生年月日]],TODAY(),\"Y\"))","v":""}]
[null,null,{"$f":"IF(ISBLANK(課題[[#This Row],[生年月日]]),0,MONTH(課題[[#This Row],[生年月日]]))","v":0},{"$f":"TEXT(課題[[#This Row],[生年月日]],\"mmdd\")","v":"0100"},null,null,{"$f":"IF(ISBLANK(課題[[#This Row],[生年月日]]),\"\",DATEDIF(課題[[#This Row],[生年月日]],TODAY(),\"Y\"))","v":""}]
[null,null,{"$f":"IF(ISBLANK(課題[[#This Row],[生年月日]]),0,MONTH(課題[[#This Row],[生年月日]]))","v":0},{"$f":"TEXT(課題[[#This Row],[生年月日]],\"mmdd\")","v":"0100"},null,null,{"$f":"IF(ISBLANK(課題[[#This Row],[生年月日]]),\"\",DATEDIF(課題[[#This Row],[生年月日]],TODAY(),\"Y\"))","v":""}]
[null,null,{"$f":"IF(ISBLANK(課題[[#This Row],[生年月日]]),0,MONTH(課題[[#This Row],[生年月日]]))","v":0},{"$f":"TEXT(課題[[#This Row],[生年月日]],\"mmdd\")","v":"0100"},null,null,{"$f":"IF(ISBLANK(課題[[#This Row],[生年月日]]),\"\",DATEDIF(課題[[#This Row],[生年月日]],TODAY(),\"Y\"))","v":""}]
[null,null,{"$f":"IF(ISBLANK(課題[[#This Row],[生年月日]]),0,MONTH(課題[[#This Row],[生年月日]]))","v":0},{"$f":"TEXT(課題[[#This Row],[生年月日]],\"mmdd\")","v":"0100"},null,null,{"$f":"IF(ISBLANK(課題[[#This Row],[生年月日]]),\"\",DATEDIF(課題[[#This Row],[生年月日]],TODAY(),\"Y\"))","v":""}]
[null,null,{"$f":"IF(ISBLANK(課題[[#This Row],[生年月日]]),0,MONTH(課題[[#This Row],[生年月日]]))","v":0},{"$f":"TEXT(課題[[#This Row],[生年月日]],\"mmdd\")","v":"0100"},null,null,{"$f":"IF(ISBLANK(課題[[#This Row],[生年月日]]),\"\",DATEDIF(課題[[#This Row],[生年月日]],TODAY(),\"Y\"))","v":""}]
[null,null,{"$f":"IF(ISBLANK(課題[[#This Row],[生年月日]]),0,MONTH(課題[[#This Row],[生年月日]]))","v":0},{"$f":"TEXT(課題[[#This Row],[生年月日]],\"mmdd\")","v":"0100"},null,null,{"$f":"IF(ISBLANK(課題[[#This Row],[生年月日]]),\"\",DATEDIF(課題[[#This Row],[生年月日]],TODAY(),\"Y\"))","v":""}]
[null,null,{"$f":"IF(ISBLANK(課題[[#This Row],[生年月日]]),0,MONTH(課題[[#This Row],[生年月日]]))","v":0},{"$f":"TEXT(課題[[#This Row],[生年月日]],\"mmdd\")","v":"0100"},null,null,{"$f":"IF(ISBLANK(課題[[#This Row],[生年月日]]),\"\",DATEDIF(課題[[#This Row],[生年月日]],TODAY(),\"Y\"))","v":""}]
[null,null,{"$f":"IF(ISBLANK(課題[[#This Row],[生年月日]]),0,MONTH(課題[[#This Row],[生年月日]]))","v":0},{"$f":"TEXT(課題[[#This Row],[生年月日]],\"mmdd\")","v":"0100"},null,null,{"$f":"IF(ISBLANK(課題[[#This Row],[生年月日]]),\"\",DATEDIF(課題[[#This Row],[生年月日]],TODAY(),\"Y\"))","v":""}]
[null,null,{"$f":"IF(ISBLANK(課題[[#This Row],[生年月日]]),0,MONTH(課題[[#This Row],[生年月日]]))","v":0},{"$f":"TEXT(課題[[#This Row],[生年月日]],\"mmdd\")","v":"0100"},null,null,{"$f":"IF(ISBLANK(課題[[#This Row],[生年月日]]),\"\",DATEDIF(課題[[#This Row],[生年月日]],TODAY(),\"Y\"))","v":""}]
[null,null,{"$f":"IF(ISBLANK(課題[[#This Row],[生年月日]]),0,MONTH(課題[[#This Row],[生年月日]]))","v":0},{"$f":"TEXT(課題[[#This Row],[生年月日]],\"mmdd\")","v":"0100"},null,null,{"$f":"IF(ISBLANK(課題[[#This Row],[生年月日]]),\"\",DATEDIF(課題[[#This Row],[生年月日]],TODAY(),\"Y\"))","v":""}]
[null,null,{"$f":"IF(ISBLANK(課題[[#This Row],[生年月日]]),0,MONTH(課題[[#This Row],[生年月日]]))","v":0},{"$f":"TEXT(課題[[#This Row],[生年月日]],\"mmdd\")","v":"0100"},null,null,{"$f":"IF(ISBLANK(課題[[#This Row],[生年月日]]),\"\",DATEDIF(課題[[#This Row],[生年月日]],TODAY(),\"Y\"))","v":""}]
[null,null,{"$f":"IF(ISBLANK(課題[[#This Row],[生年月日]]),0,MONTH(課題[[#This Row],[生年月日]]))","v":0},{"$f":"TEXT(課題[[#This Row],[生年月日]],\"mmdd\")","v":"0100"},null,null,{"$f":"IF(ISBLANK(課題[[#This Row],[生年月日]]),\"\",DATEDIF(課題[[#This Row],[生年月日]],TODAY(),\"Y\"))","v":""}]
[null,null,{"$f":"IF(ISBLANK(課題[[#This Row],[生年月日]]),0,MONTH(課題[[#This Row],[生年月日]]))","v":0},{"$f":"TEXT(課題[[#This Row],[生年月日]],\"mmdd\")","v":"0100"},null,null,{"$f":"IF(ISBLANK(課題[[#This Row],[生年月日]]),\"\",DATEDIF(課題[[#This Row],[生年月日]],TODAY(),\"Y\"))","v":""}]
[null,null,{"$f":"IF(ISBLANK(課題[[#This Row],[生年月日]]),0,MONTH(課題[[#This Row],[生年月日]]))","v":0},{"$f":"TEXT(課題[[#This Row],[生年月日]],\"mmdd\")","v":"0100"},null,null,{"$f":"IF(ISBLANK(課題[[#This Row],[生年月日]]),\"\",DATEDIF(課題[[#This Row],[生年月日]],TODAY(),\"Y\"))","v":""}]
[null,null,{"$f":"IF(ISBLANK(課題[[#This Row],[生年月日]]),0,MONTH(課題[[#This Row],[生年月日]]))","v":0},{"$f":"TEXT(課題[[#This Row],[生年月日]],\"mmdd\")","v":"0100"},null,null,{"$f":"IF(ISBLANK(課題[[#This Row],[生年月日]]),\"\",DATEDIF(課題[[#This Row],[生年月日]],TODAY(),\"Y\"))","v":""}]
[null,null,{"$f":"IF(ISBLANK(課題[[#This Row],[生年月日]]),0,MONTH(課題[[#This Row],[生年月日]]))","v":0},{"$f":"TEXT(課題[[#This Row],[生年月日]],\"mmdd\")","v":"0100"},null,null,{"$f":"IF(ISBLANK(課題[[#This Row],[生年月日]]),\"\",DATEDIF(課題[[#This Row],[生年月日]],TODAY(),\"Y\"))","v":""}]
[null,null,{"$f":"IF(ISBLANK(課題[[#This Row],[生年月日]]),0,MONTH(課題[[#This Row],[生年月日]]))","v":0},{"$f":"TEXT(課題[[#This Row],[生年月日]],\"mmdd\")","v":"0100"},null,null,{"$f":"IF(ISBLANK(課題[[#This Row],[生年月日]]),\"\",DATEDIF(課題[[#This Row],[生年月日]],TODAY(),\"Y\"))","v":""}]
[null,null,{"$f":"IF(ISBLANK(課題[[#This Row],[生年月日]]),0,MONTH(課題[[#This Row],[生年月日]]))","v":0},{"$f":"TEXT(課題[[#This Row],[生年月日]],\"mmdd\")","v":"0100"},null,null,{"$f":"IF(ISBLANK(課題[[#This Row],[生年月日]]),\"\",DATEDIF(課題[[#This Row],[生年月日]],TODAY(),\"Y\"))","v":""}]
[null,null,{"$f":"IF(ISBLANK(課題[[#This Row],[生年月日]]),0,MONTH(課題[[#This Row],[生年月日]]))","v":0},{"$f":"TEXT(課題[[#This Row],[生年月日]],\"mmdd\")","v":"0100"},null,null,{"$f":"IF(ISBLANK(課題[[#This Row],[生年月日]]),\"\",DATEDIF(課題[[#This Row],[生年月日]],TODAY(),\"Y\"))","v":""}]
[null,null,{"$f":"IF(ISBLANK(課題[[#This Row],[生年月日]]),0,MONTH(課題[[#This Row],[生年月日]]))","v":0},{"$f":"TEXT(課題[[#This Row],[生年月日]],\"mmdd\")","v":"0100"},null,null,{"$f":"IF(ISBLANK(課題[[#This Row],[生年月日]]),\"\",DATEDIF(課題[[#This Row],[生年月日]],TODAY(),\"Y\"))","v":""}]
[null,null,{"$f":"IF(ISBLANK(課題[[#This Row],[生年月日]]),0,MONTH(課題[[#This Row],[生年月日]]))","v":0},{"$f":"TEXT(課題[[#This Row],[生年月日]],\"mmdd\")","v":"0100"},null,null,{"$f":"IF(ISBLANK(課題[[#This Row],[生年月日]]),\"\",DATEDIF(課題[[#This Row],[生年月日]],TODAY(),\"Y\"))","v":""}]
[null,null,{"$f":"IF(ISBLANK(課題[[#This Row],[生年月日]]),0,MONTH(課題[[#This Row],[生年月日]]))","v":0},{"$f":"TEXT(課題[[#This Row],[生年月日]],\"mmdd\")","v":"0100"},null,null,{"$f":"IF(ISBLANK(課題[[#This Row],[生年月日]]),\"\",DATEDIF(課題[[#This Row],[生年月日]],TODAY(),\"Y\"))","v":""}]
[null,null,{"$f":"IF(ISBLANK(課題[[#This Row],[生年月日]]),0,MONTH(課題[[#This Row],[生年月日]]))","v":0},{"$f":"TEXT(課題[[#This Row],[生年月日]],\"mmdd\")","v":"0100"},null,null,{"$f":"IF(ISBLANK(課題[[#This Row],[生年月日]]),\"\",DATEDIF(課題[[#This Row],[生年月日]],TODAY(),\"Y\"))","v":""}]
[null,null,{"$f":"IF(ISBLANK(課題[[#This Row],[生年月日]]),0,MONTH(課題[[#This Row],[生年月日]]))","v":0},{"$f":"TEXT(課題[[#This Row],[生年月日]],\"mmdd\")","v":"0100"},null,null,{"$f":"IF(ISBLANK(課題[[#This Row],[生年月日]]),\"\",DATEDIF(課題[[#This Row],[生年月日]],TODAY(),\"Y\"))","v":""}]
[null,null,{"$f":"IF(ISBLANK(課題[[#This Row],[生年月日]]),0,MONTH(課題[[#This Row],[生年月日]]))","v":0},{"$f":"TEXT(課題[[#This Row],[生年月日]],\"mmdd\")","v":"0100"},null,null,{"$f":"IF(ISBLANK(課題[[#This Row],[生年月日]]),\"\",DATEDIF(課題[[#This Row],[生年月日]],TODAY(),\"Y\"))","v":""}]
[null,null,{"$f":"IF(ISBLANK(課題[[#This Row],[生年月日]]),0,MONTH(課題[[#This Row],[生年月日]]))","v":0},{"$f":"TEXT(課題[[#This Row],[生年月日]],\"mmdd\")","v":"0100"},null,null,{"$f":"IF(ISBLANK(課題[[#This Row],[生年月日]]),\"\",DATEDIF(課題[[#This Row],[生年月日]],TODAY(),\"Y\"))","v":""}]
[null,null,{"$f":"IF(ISBLANK(課題[[#This Row],[生年月日]]),0,MONTH(課題[[#This Row],[生年月日]]))","v":0},{"$f":"TEXT(課題[[#This Row],[生年月日]],\"mmdd\")","v":"0100"},null,null,{"$f":"IF(ISBLANK(課題[[#This Row],[生年月日]]),\"\",DATEDIF(課題[[#This Row],[生年月日]],TODAY(),\"Y\"))","v":""}]
[null,null,{"$f":"IF(ISBLANK(課題[[#This Row],[生年月日]]),0,MONTH(課題[[#This Row],[生年月日]]))","v":0},{"$f":"TEXT(課題[[#This Row],[生年月日]],\"mmdd\")","v":"0100"},null,null,{"$f":"IF(ISBLANK(課題[[#This Row],[生年月日]]),\"\",DATEDIF(課題[[#This Row],[生年月日]],TODAY(),\"Y\"))","v":""}]
[null,null,{"$f":"IF(ISBLANK(課題[[#This Row],[生年月日]]),0,MONTH(課題[[#This Row],[生年月日]]))","v":0},{"$f":"TEXT(課題[[#This Row],[生年月日]],\"mmdd\")","v":"0100"},null,null,{"$f":"IF(ISBLANK(課題[[#This Row],[生年月日]]),\"\",DATEDIF(課題[[#This Row],[生年月日]],TODAY(),\"Y\"))","v":""}]
[null,null,{"$f":"IF(ISBLANK(課題[[#This Row],[生年月日]]),0,MONTH(課題[[#This Row],[生年月日]]))","v":0},{"$f":"TEXT(課題[[#This Row],[生年月日]],\"mmdd\")","v":"0100"},null,null,{"$f":"IF(ISBLANK(課題[[#This Row],[生年月日]]),\"\",DATEDIF(課題[[#This Row],[生年月日]],TODAY(),\"Y\"))","v":""}]
[null,null,{"$f":"IF(ISBLANK(課題[[#This Row],[生年月日]]),0,MONTH(課題[[#This Row],[生年月日]]))","v":0},{"$f":"TEXT(課題[[#This Row],[生年月日]],\"mmdd\")","v":"0100"},null,null,{"$f":"IF(ISBLANK(課題[[#This Row],[生年月日]]),\"\",DATEDIF(課題[[#This Row],[生年月日]],TODAY(),\"Y\"))","v":""}]
[null,null,{"$f":"IF(ISBLANK(課題[[#This Row],[生年月日]]),0,MONTH(課題[[#This Row],[生年月日]]))","v":0},{"$f":"TEXT(課題[[#This Row],[生年月日]],\"mmdd\")","v":"0100"},null,null,{"$f":"IF(ISBLANK(課題[[#This Row],[生年月日]]),\"\",DATEDIF(課題[[#This Row],[生年月日]],TODAY(),\"Y\"))","v":""}]
[null,null,{"$f":"IF(ISBLANK(課題[[#This Row],[生年月日]]),0,MONTH(課題[[#This Row],[生年月日]]))","v":0},{"$f":"TEXT(課題[[#This Row],[生年月日]],\"mmdd\")","v":"0100"},null,null,{"$f":"IF(ISBLANK(課題[[#This Row],[生年月日]]),\"\",DATEDIF(課題[[#This Row],[生年月日]],TODAY(),\"Y\"))","v":""}]
[null,null,{"$f":"IF(ISBLANK(課題[[#This Row],[生年月日]]),0,MONTH(課題[[#This Row],[生年月日]]))","v":0},{"$f":"TEXT(課題[[#This Row],[生年月日]],\"mmdd\")","v":"0100"},null,null,{"$f":"IF(ISBLANK(課題[[#This Row],[生年月日]]),\"\",DATEDIF(課題[[#This Row],[生年月日]],TODAY(),\"Y\"))","v":""}]
[null,null,{"$f":"IF(ISBLANK(課題[[#This Row],[生年月日]]),0,MONTH(課題[[#This Row],[生年月日]]))","v":0},{"$f":"TEXT(課題[[#This Row],[生年月日]],\"mmdd\")","v":"0100"},null,null,{"$f":"IF(ISBLANK(課題[[#This Row],[生年月日]]),\"\",DATEDIF(課題[[#This Row],[生年月日]],TODAY(),\"Y\"))","v":""}]
[null,null,{"$f":"IF(ISBLANK(課題[[#This Row],[生年月日]]),0,MONTH(課題[[#This Row],[生年月日]]))","v":0},{"$f":"TEXT(課題[[#This Row],[生年月日]],\"mmdd\")","v":"0100"},null,null,{"$f":"IF(ISBLANK(課題[[#This Row],[生年月日]]),\"\",DATEDIF(課題[[#This Row],[生年月日]],TODAY(),\"Y\"))","v":""}]
[null,null,{"$f":"IF(ISBLANK(課題[[#This Row],[生年月日]]),0,MONTH(課題[[#This Row],[生年月日]]))","v":0},{"$f":"TEXT(課題[[#This Row],[生年月日]],\"mmdd\")","v":"0100"},null,null,{"$f":"IF(ISBLANK(課題[[#This Row],[生年月日]]),\"\",DATEDIF(課題[[#This Row],[生年月日]],TODAY(),\"Y\"))","v":""}]
[null,null,{"$f":"IF(ISBLANK(課題[[#This Row],[生年月日]]),0,MONTH(課題[[#This Row],[生年月日]]))","v":0},{"$f":"TEXT(課題[[#This Row],[生年月日]],\"mmdd\")","v":"0100"},null,null,{"$f":"IF(ISBLANK(課題[[#This Row],[生年月日]]),\"\",DATEDIF(課題[[#This Row],[生年月日]],TODAY(),\"Y\"))","v":""}]
[null,null,{"$f":"IF(ISBLANK(課題[[#This Row],[生年月日]]),0,MONTH(課題[[#This Row],[生年月日]]))","v":0},{"$f":"TEXT(課題[[#This Row],[生年月日]],\"mmdd\")","v":"0100"},null,null,{"$f":"IF(ISBLANK(課題[[#This Row],[生年月日]]),\"\",DATEDIF(課題[[#This Row],[生年月日]],TODAY(),\"Y\"))","v":""}]
[null,null,{"$f":"IF(ISBLANK(課題[[#This Row],[生年月日]]),0,MONTH(課題[[#This Row],[生年月日]]))","v":0},{"$f":"TEXT(課題[[#This Row],[生年月日]],\"mmdd\")","v":"0100"},null,null,{"$f":"IF(ISBLANK(課題[[#This Row],[生年月日]]),\"\",DATEDIF(課題[[#This Row],[生年月日]],TODAY(),\"Y\"))","v":""}]
[null,null,{"$f":"IF(ISBLANK(課題[[#This Row],[生年月日]]),0,MONTH(課題[[#This Row],[生年月日]]))","v":0},{"$f":"TEXT(課題[[#This Row],[生年月日]],\"mmdd\")","v":"0100"},null,null,{"$f":"IF(ISBLANK(課題[[#This Row],[生年月日]]),\"\",DATEDIF(課題[[#This Row],[生年月日]],TODAY(),\"Y\"))","v":""}]
[null,null,{"$f":"IF(ISBLANK(課題[[#This Row],[生年月日]]),0,MONTH(課題[[#This Row],[生年月日]]))","v":0},{"$f":"TEXT(課題[[#This Row],[生年月日]],\"mmdd\")","v":"0100"},null,null,{"$f":"IF(ISBLANK(課題[[#This Row],[生年月日]]),\"\",DATEDIF(課題[[#This Row],[生年月日]],TODAY(),\"Y\"))","v":""}]
[null,null,{"$f":"IF(ISBLANK(課題[[#This Row],[生年月日]]),0,MONTH(課題[[#This Row],[生年月日]]))","v":0},{"$f":"TEXT(課題[[#This Row],[生年月日]],\"mmdd\")","v":"0100"},null,null,{"$f":"IF(ISBLANK(課題[[#This Row],[生年月日]]),\"\",DATEDIF(課題[[#This Row],[生年月日]],TODAY(),\"Y\"))","v":""}]
[null,null,{"$f":"IF(ISBLANK(課題[[#This Row],[生年月日]]),0,MONTH(課題[[#This Row],[生年月日]]))","v":0},{"$f":"TEXT(課題[[#This Row],[生年月日]],\"mmdd\")","v":"0100"},null,null,{"$f":"IF(ISBLANK(課題[[#This Row],[生年月日]]),\"\",DATEDIF(課題[[#This Row],[生年月日]],TODAY(),\"Y\"))","v":""}]
[null,null,{"$f":"IF(ISBLANK(課題[[#This Row],[生年月日]]),0,MONTH(課題[[#This Row],[生年月日]]))","v":0},{"$f":"TEXT(課題[[#This Row],[生年月日]],\"mmdd\")","v":"0100"},null,null,{"$f":"IF(ISBLANK(課題[[#This Row],[生年月日]]),\"\",DATEDIF(課題[[#This Row],[生年月日]],TODAY(),\"Y\"))","v":""}]
[null,null,{"$f":"IF(ISBLANK(課題[[#This Row],[生年月日]]),0,MONTH(課題[[#This Row],[生年月日]]))","v":0},{"$f":"TEXT(課題[[#This Row],[生年月日]],\"mmdd\")","v":"0100"},null,null,{"$f":"IF(ISBLANK(課題[[#This Row],[生年月日]]),\"\",DATEDIF(課題[[#This Row],[生年月日]],TODAY(),\"Y\"))","v":""}]
[null,null,{"$f":"IF(ISBLANK(課題[[#This Row],[生年月日]]),0,MONTH(課題[[#This Row],[生年月日]]))","v":0},{"$f":"TEXT(課題[[#This Row],[生年月日]],\"mmdd\")","v":"0100"},null,null,{"$f":"IF(ISBLANK(課題[[#This Row],[生年月日]]),\"\",DATEDIF(課題[[#This Row],[生年月日]],TODAY(),\"Y\"))","v":""}]
[null,null,{"$f":"IF(ISBLANK(課題[[#This Row],[生年月日]]),0,MONTH(課題[[#This Row],[生年月日]]))","v":0},{"$f":"TEXT(課題[[#This Row],[生年月日]],\"mmdd\")","v":"0100"},null,null,{"$f":"IF(ISBLANK(課題[[#This Row],[生年月日]]),\"\",DATEDIF(課題[[#This Row],[生年月日]],TODAY(),\"Y\"))","v":""}]
[null,null,{"$f":"IF(ISBLANK(課題[[#This Row],[生年月日]]),0,MONTH(課題[[#This Row],[生年月日]]))","v":0},{"$f":"TEXT(課題[[#This Row],[生年月日]],\"mmdd\")","v":"0100"},null,null,{"$f":"IF(ISBLANK(課題[[#This Row],[生年月日]]),\"\",DATEDIF(課題[[#This Row],[生年月日]],TODAY(),\"Y\"))","v":""}]
[null,null,{"$f":"IF(ISBLANK(課題[[#This Row],[生年月日]]),0,MONTH(課題[[#This Row],[生年月日]]))","v":0},{"$f":"TEXT(課題[[#This Row],[生年月日]],\"mmdd\")","v":"0100"},null,null,{"$f":"IF(ISBLANK(課題[[#This Row],[生年月日]]),\"\",DATEDIF(課題[[#This Row],[生年月日]],TODAY(),\"Y\"))","v":""}]
[null,null,{"$f":"IF(ISBLANK(課題[[#This Row],[生年月日]]),0,MONTH(課題[[#This Row],[生年月日]]))","v":0},{"$f":"TEXT(課題[[#This Row],[生年月日]],\"mmdd\")","v":"0100"},null,null,{"$f":"IF(ISBLANK(課題[[#This Row],[生年月日]]),\"\",DATEDIF(課題[[#This Row],[生年月日]],TODAY(),\"Y\"))","v":""}]
[null,null,{"$f":"IF(ISBLANK(課題[[#This Row],[生年月日]]),0,MONTH(課題[[#This Row],[生年月日]]))","v":0},{"$f":"TEXT(課題[[#This Row],[生年月日]],\"mmdd\")","v":"0100"},null,null,{"$f":"IF(ISBLANK(課題[[#This Row],[生年月日]]),\"\",DATEDIF(課題[[#This Row],[生年月日]],TODAY(),\"Y\"))","v":""}]
[null,null,{"$f":"IF(ISBLANK(課題[[#This Row],[生年月日]]),0,MONTH(課題[[#This Row],[生年月日]]))","v":0},{"$f":"TEXT(課題[[#This Row],[生年月日]],\"mmdd\")","v":"0100"},null,null,{"$f":"IF(ISBLANK(課題[[#This Row],[生年月日]]),\"\",DATEDIF(課題[[#This Row],[生年月日]],TODAY(),\"Y\"))","v":""}]
[null,null,{"$f":"IF(ISBLANK(課題[[#This Row],[生年月日]]),0,MONTH(課題[[#This Row],[生年月日]]))","v":0},{"$f":"TEXT(課題[[#This Row],[生年月日]],\"mmdd\")","v":"0100"},null,null,{"$f":"IF(ISBLANK(課題[[#This Row],[生年月日]]),\"\",DATEDIF(課題[[#This Row],[生年月日]],TODAY(),\"Y\"))","v":""}]
[null,null,{"$f":"IF(ISBLANK(課題[[#This Row],[生年月日]]),0,MONTH(課題[[#This Row],[生年月日]]))","v":0},{"$f":"TEXT(課題[[#This Row],[生年月日]],\"mmdd\")","v":"0100"},null,null,{"$f":"IF(ISBLANK(課題[[#This Row],[生年月日]]),\"\",DATEDIF(課題[[#This Row],[生年月日]],TODAY(),\"Y\"))","v":""}]
[null,null,{"$f":"IF(ISBLANK(課題[[#This Row],[生年月日]]),0,MONTH(課題[[#This Row],[生年月日]]))","v":0},{"$f":"TEXT(課題[[#This Row],[生年月日]],\"mmdd\")","v":"0100"},null,null,{"$f":"IF(ISBLANK(課題[[#This Row],[生年月日]]),\"\",DATEDIF(課題[[#This Row],[生年月日]],TODAY(),\"Y\"))","v":""}]
[null,null,{"$f":"IF(ISBLANK(課題[[#This Row],[生年月日]]),0,MONTH(課題[[#This Row],[生年月日]]))","v":0},{"$f":"TEXT(課題[[#This Row],[生年月日]],\"mmdd\")","v":"0100"},null,null,{"$f":"IF(ISBLANK(課題[[#This Row],[生年月日]]),\"\",DATEDIF(課題[[#This Row],[生年月日]],TODAY(),\"Y\"))","v":""}]
[null,null,{"$f":"IF(ISBLANK(課題[[#This Row],[生年月日]]),0,MONTH(課題[[#This Row],[生年月日]]))","v":0},{"$f":"TEXT(課題[[#This Row],[生年月日]],\"mmdd\")","v":"0100"},null,null,{"$f":"IF(ISBLANK(課題[[#This Row],[生年月日]]),\"\",DATEDIF(課題[[#This Row],[生年月日]],TODAY(),\"Y\"))","v":""}]
[null,null,{"$f":"IF(ISBLANK(課題[[#This Row],[生年月日]]),0,MONTH(課題[[#This Row],[生年月日]]))","v":0},{"$f":"TEXT(課題[[#This Row],[生年月日]],\"mmdd\")","v":"0100"},null,null,{"$f":"IF(ISBLANK(課題[[#This Row],[生年月日]]),\"\",DATEDIF(課題[[#This Row],[生年月日]],TODAY(),\"Y\"))","v":""}]
[null,null,{"$f":"IF(ISBLANK(課題[[#This Row],[生年月日]]),0,MONTH(課題[[#This Row],[生年月日]]))","v":0},{"$f":"TEXT(課題[[#This Row],[生年月日]],\"mmdd\")","v":"0100"},null,null,{"$f":"IF(ISBLANK(課題[[#This Row],[生年月日]]),\"\",DATEDIF(課題[[#This Row],[生年月日]],TODAY(),\"Y\"))","v":""}]
[null,null,{"$f":"IF(ISBLANK(課題[[#This Row],[生年月日]]),0,MONTH(課題[[#This Row],[生年月日]]))","v":0},{"$f":"TEXT(課題[[#This Row],[生年月日]],\"mmdd\")","v":"0100"},null,null,{"$f":"IF(ISBLANK(課題[[#This Row],[生年月日]]),\"\",DATEDIF(課題[[#This Row],[生年月日]],TODAY(),\"Y\"))","v":""}]
[null,null,{"$f":"IF(ISBLANK(課題[[#This Row],[生年月日]]),0,MONTH(課題[[#This Row],[生年月日]]))","v":0},{"$f":"TEXT(課題[[#This Row],[生年月日]],\"mmdd\")","v":"0100"},null,null,{"$f":"IF(ISBLANK(課題[[#This Row],[生年月日]]),\"\",DATEDIF(課題[[#This Row],[生年月日]],TODAY(),\"Y\"))","v":""}]
[null,null,{"$f":"IF(ISBLANK(課題[[#This Row],[生年月日]]),0,MONTH(課題[[#This Row],[生年月日]]))","v":0},{"$f":"TEXT(課題[[#This Row],[生年月日]],\"mmdd\")","v":"0100"},null,null,{"$f":"IF(ISBLANK(課題[[#This Row],[生年月日]]),\"\",DATEDIF(課題[[#This Row],[生年月日]],TODAY(),\"Y\"))","v":""}]
[null,null,{"$f":"IF(ISBLANK(課題[[#This Row],[生年月日]]),0,MONTH(課題[[#This Row],[生年月日]]))","v":0},{"$f":"TEXT(課題[[#This Row],[生年月日]],\"mmdd\")","v":"0100"},null,null,{"$f":"IF(ISBLANK(課題[[#This Row],[生年月日]]),\"\",DATEDIF(課題[[#This Row],[生年月日]],TODAY(),\"Y\"))","v":""}]
[null,null,{"$f":"IF(ISBLANK(課題[[#This Row],[生年月日]]),0,MONTH(課題[[#This Row],[生年月日]]))","v":0},{"$f":"TEXT(課題[[#This Row],[生年月日]],\"mmdd\")","v":"0100"},null,null,{"$f":"IF(ISBLANK(課題[[#This Row],[生年月日]]),\"\",DATEDIF(課題[[#This Row],[生年月日]],TODAY(),\"Y\"))","v":""}]
[null,null,{"$f":"IF(ISBLANK(課題[[#This Row],[生年月日]]),0,MONTH(課題[[#This Row],[生年月日]]))","v":0},{"$f":"TEXT(課題[[#This Row],[生年月日]],\"mmdd\")","v":"0100"},null,null,{"$f":"IF(ISBLANK(課題[[#This Row],[生年月日]]),\"\",DATEDIF(課題[[#This Row],[生年月日]],TODAY(),\"Y\"))","v":""}]
[null,null,{"$f":"IF(ISBLANK(課題[[#This Row],[生年月日]]),0,MONTH(課題[[#This Row],[生年月日]]))","v":0},{"$f":"TEXT(課題[[#This Row],[生年月日]],\"mmdd\")","v":"0100"},null,null,{"$f":"IF(ISBLANK(課題[[#This Row],[生年月日]]),\"\",DATEDIF(課題[[#This Row],[生年月日]],TODAY(),\"Y\"))","v":""}]
[null,null,{"$f":"IF(ISBLANK(課題[[#This Row],[生年月日]]),0,MONTH(課題[[#This Row],[生年月日]]))","v":0},{"$f":"TEXT(課題[[#This Row],[生年月日]],\"mmdd\")","v":"0100"},null,null,{"$f":"IF(ISBLANK(課題[[#This Row],[生年月日]]),\"\",DATEDIF(課題[[#This Row],[生年月日]],TODAY(),\"Y\"))","v":""}]
[null,null,{"$f":"IF(ISBLANK(課題[[#This Row],[生年月日]]),0,MONTH(課題[[#This Row],[生年月日]]))","v":0},{"$f":"TEXT(課題[[#This Row],[生年月日]],\"mmdd\")","v":"0100"},null,null,{"$f":"IF(ISBLANK(課題[[#This Row],[生年月日]]),\"\",DATEDIF(課題[[#This Row],[生年月日]],TODAY(),\"Y\"))","v":""}]
[null,null,{"$f":"IF(ISBLANK(課題[[#This Row],[生年月日]]),0,MONTH(課題[[#This Row],[生年月日]]))","v":0},{"$f":"TEXT(課題[[#This Row],[生年月日]],\"mmdd\")","v":"0100"},null,null,{"$f":"IF(ISBLANK(課題[[#This Row],[生年月日]]),\"\",DATEDIF(課題[[#This Row],[生年月日]],TODAY(),\"Y\"))","v":""}]
[null,null,{"$f":"IF(ISBLANK(課題[[#This Row],[生年月日]]),0,MONTH(課題[[#This Row],[生年月日]]))","v":0},{"$f":"TEXT(課題[[#This Row],[生年月日]],\"mmdd\")","v":"0100"},null,null,{"$f":"IF(ISBLANK(課題[[#This Row],[生年月日]]),\"\",DATEDIF(課題[[#This Row],[生年月日]],TODAY(),\"Y\"))","v":""}]
[null,null,{"$f":"IF(ISBLANK(課題[[#This Row],[生年月日]]),0,MONTH(課題[[#This Row],[生年月日]]))","v":0},{"$f":"TEXT(課題[[#This Row],[生年月日]],\"mmdd\")","v":"0100"},null,null,{"$f":"IF(ISBLANK(課題[[#This Row],[生年月日]]),\"\",DATEDIF(課題[[#This Row],[生年月日]],TODAY(),\"Y\"))","v":""}]
[null,null,{"$f":"IF(ISBLANK(課題[[#This Row],[生年月日]]),0,MONTH(課題[[#This Row],[生年月日]]))","v":0},{"$f":"TEXT(課題[[#This Row],[生年月日]],\"mmdd\")","v":"0100"},null,null,{"$f":"IF(ISBLANK(課題[[#This Row],[生年月日]]),\"\",DATEDIF(課題[[#This Row],[生年月日]],TODAY(),\"Y\"))","v":""}]
[null,null,{"$f":"IF(ISBLANK(課題[[#This Row],[生年月日]]),0,MONTH(課題[[#This Row],[生年月日]]))","v":0},{"$f":"TEXT(課題[[#This Row],[生年月日]],\"mmdd\")","v":"0100"},null,null,{"$f":"IF(ISBLANK(課題[[#This Row],[生年月日]]),\"\",DATEDIF(課題[[#This Row],[生年月日]],TODAY(),\"Y\"))","v":""}]
[null,null,{"$f":"IF(ISBLANK(課題[[#This Row],[生年月日]]),0,MONTH(課題[[#This Row],[生年月日]]))","v":0},{"$f":"TEXT(課題[[#This Row],[生年月日]],\"mmdd\")","v":"0100"},null,null,{"$f":"IF(ISBLANK(課題[[#This Row],[生年月日]]),\"\",DATEDIF(課題[[#This Row],[生年月日]],TODAY(),\"Y\"))","v":""}]
[null,null,{"$f":"IF(ISBLANK(課題[[#This Row],[生年月日]]),0,MONTH(課題[[#This Row],[生年月日]]))","v":0},{"$f":"TEXT(課題[[#This Row],[生年月日]],\"mmdd\")","v":"0100"},null,null,{"$f":"IF(ISBLANK(課題[[#This Row],[生年月日]]),\"\",DATEDIF(課題[[#This Row],[生年月日]],TODAY(),\"Y\"))","v":""}]
[null,null,{"$f":"IF(ISBLANK(課題[[#This Row],[生年月日]]),0,MONTH(課題[[#This Row],[生年月日]]))","v":0},{"$f":"TEXT(課題[[#This Row],[生年月日]],\"mmdd\")","v":"0100"},null,null,{"$f":"IF(ISBLANK(課題[[#This Row],[生年月日]]),\"\",DATEDIF(課題[[#This Row],[生年月日]],TODAY(),\"Y\"))","v":""}]
[null,null,{"$f":"IF(ISBLANK(課題[[#This Row],[生年月日]]),0,MONTH(課題[[#This Row],[生年月日]]))","v":0},{"$f":"TEXT(課題[[#This Row],[生年月日]],\"mmdd\")","v":"0100"},null,null,{"$f":"IF(ISBLANK(課題[[#This Row],[生年月日]]),\"\",DATEDIF(課題[[#This Row],[生年月日]],TODAY(),\"Y\"))","v":""}]
[null,null,{"$f":"IF(ISBLANK(課題[[#This Row],[生年月日]]),0,MONTH(課題[[#This Row],[生年月日]]))","v":0},{"$f":"TEXT(課題[[#This Row],[生年月日]],\"mmdd\")","v":"0100"},null,null,{"$f":"IF(ISBLANK(課題[[#This Row],[生年月日]]),\"\",DATEDIF(課題[[#This Row],[生年月日]],TODAY(),\"Y\"))","v":""}]
[null,null,{"$f":"IF(ISBLANK(課題[[#This Row],[生年月日]]),0,MONTH(課題[[#This Row],[生年月日]]))","v":0},{"$f":"TEXT(課題[[#This Row],[生年月日]],\"mmdd\")","v":"0100"},null,null,{"$f":"IF(ISBLANK(課題[[#This Row],[生年月日]]),\"\",DATEDIF(課題[[#This Row],[生年月日]],TODAY(),\"Y\"))","v":""}]
[null,null,{"$f":"IF(ISBLANK(課題[[#This Row],[生年月日]]),0,MONTH(課題[[#This Row],[生年月日]]))","v":0},{"$f":"TEXT(課題[[#This Row],[生年月日]],\"mmdd\")","v":"0100"},null,null,{"$f":"IF(ISBLANK(課題[[#This Row],[生年月日]]),\"\",DATEDIF(課題[[#This Row],[生年月日]],TODAY(),\"Y\"))","v":""}]
[null,null,{"$f":"IF(ISBLANK(課題[[#This Row],[生年月日]]),0,MONTH(課題[[#This Row],[生年月日]]))","v":0},{"$f":"TEXT(課題[[#This Row],[生年月日]],\"mmdd\")","v":"0100"},null,null,{"$f":"IF(ISBLANK(課題[[#This Row],[生年月日]]),\"\",DATEDIF(課題[[#This Row],[生年月日]],TODAY(),\"Y\"))","v":""}]
[null,null,{"$f":"IF(ISBLANK(課題[[#This Row],[生年月日]]),0,MONTH(課題[[#This Row],[生年月日]]))","v":0},{"$f":"TEXT(課題[[#This Row],[生年月日]],\"mmdd\")","v":"0100"},null,null,{"$f":"IF(ISBLANK(課題[[#This Row],[生年月日]]),\"\",DATEDIF(課題[[#This Row],[生年月日]],TODAY(),\"Y\"))","v":""}]
[null,null,{"$f":"IF(ISBLANK(課題[[#This Row],[生年月日]]),0,MONTH(課題[[#This Row],[生年月日]]))","v":0},{"$f":"TEXT(課題[[#This Row],[生年月日]],\"mmdd\")","v":"0100"},null,null,{"$f":"IF(ISBLANK(課題[[#This Row],[生年月日]]),\"\",DATEDIF(課題[[#This Row],[生年月日]],TODAY(),\"Y\"))","v":""}]
[null,null,{"$f":"IF(ISBLANK(課題[[#This Row],[生年月日]]),0,MONTH(課題[[#This Row],[生年月日]]))","v":0},{"$f":"TEXT(課題[[#This Row],[生年月日]],\"mmdd\")","v":"0100"},null,null,{"$f":"IF(ISBLANK(課題[[#This Row],[生年月日]]),\"\",DATEDIF(課題[[#This Row],[生年月日]],TODAY(),\"Y\"))","v":""}]
[null,null,{"$f":"IF(ISBLANK(課題[[#This Row],[生年月日]]),0,MONTH(課題[[#This Row],[生年月日]]))","v":0},{"$f":"TEXT(課題[[#This Row],[生年月日]],\"mmdd\")","v":"0100"},null,null,{"$f":"IF(ISBLANK(課題[[#This Row],[生年月日]]),\"\",DATEDIF(課題[[#This Row],[生年月日]],TODAY(),\"Y\"))","v":""}]
[null,null,{"$f":"IF(ISBLANK(課題[[#This Row],[生年月日]]),0,MONTH(課題[[#This Row],[生年月日]]))","v":0},{"$f":"TEXT(課題[[#This Row],[生年月日]],\"mmdd\")","v":"0100"},null,null,{"$f":"IF(ISBLANK(課題[[#This Row],[生年月日]]),\"\",DATEDIF(課題[[#This Row],[生年月日]],TODAY(),\"Y\"))","v":""}]
[null,null,{"$f":"IF(ISBLANK(課題[[#This Row],[生年月日]]),0,MONTH(課題[[#This Row],[生年月日]]))","v":0},{"$f":"TEXT(課題[[#This Row],[生年月日]],\"mmdd\")","v":"0100"},null,null,{"$f":"IF(ISBLANK(課題[[#This Row],[生年月日]]),\"\",DATEDIF(課題[[#This Row],[生年月日]],TODAY(),\"Y\"))","v":""}]
[null,null,{"$f":"IF(ISBLANK(課題[[#This Row],[生年月日]]),0,MONTH(課題[[#This Row],[生年月日]]))","v":0},{"$f":"TEXT(課題[[#This Row],[生年月日]],\"mmdd\")","v":"0100"},null,null,{"$f":"IF(ISBLANK(課題[[#This Row],[生年月日]]),\"\",DATEDIF(課題[[#This Row],[生年月日]],TODAY(),\"Y\"))","v":""}]
[null,null,{"$f":"IF(ISBLANK(課題[[#This Row],[生年月日]]),0,MONTH(課題[[#This Row],[生年月日]]))","v":0},{"$f":"TEXT(課題[[#This Row],[生年月日]],\"mmdd\")","v":"0100"},null,null,{"$f":"IF(ISBLANK(課題[[#This Row],[生年月日]]),\"\",DATEDIF(課題[[#This Row],[生年月日]],TODAY(),\"Y\"))","v":""}]
[null,null,{"$f":"IF(ISBLANK(課題[[#This Row],[生年月日]]),0,MONTH(課題[[#This Row],[生年月日]]))","v":0},{"$f":"TEXT(課題[[#This Row],[生年月日]],\"mmdd\")","v":"0100"},null,null,{"$f":"IF(ISBLANK(課題[[#This Row],[生年月日]]),\"\",DATEDIF(課題[[#This Row],[生年月日]],TODAY(),\"Y\"))","v":""}]
[null,null,{"$f":"IF(ISBLANK(課題[[#This Row],[生年月日]]),0,MONTH(課題[[#This Row],[生年月日]]))","v":0},{"$f":"TEXT(課題[[#This Row],[生年月日]],\"mmdd\")","v":"0100"},null,null,{"$f":"IF(ISBLANK(課題[[#This Row],[生年月日]]),\"\",DATEDIF(課題[[#This Row],[生年月日]],TODAY(),\"Y\"))","v":""}]
[null,null,{"$f":"IF(ISBLANK(課題[[#This Row],[生年月日]]),0,MONTH(課題[[#This Row],[生年月日]]))","v":0},{"$f":"TEXT(課題[[#This Row],[生年月日]],\"mmdd\")","v":"0100"},null,null,{"$f":"IF(ISBLANK(課題[[#This Row],[生年月日]]),\"\",DATEDIF(課題[[#This Row],[生年月日]],TODAY(),\"Y\"))","v":""}]
[null,null,{"$f":"IF(ISBLANK(課題[[#This Row],[生年月日]]),0,MONTH(課題[[#This Row],[生年月日]]))","v":0},{"$f":"TEXT(課題[[#This Row],[生年月日]],\"mmdd\")","v":"0100"},null,null,{"$f":"IF(ISBLANK(課題[[#This Row],[生年月日]]),\"\",DATEDIF(課題[[#This Row],[生年月日]],TODAY(),\"Y\"))","v":""}]
[null,null,{"$f":"IF(ISBLANK(課題[[#This Row],[生年月日]]),0,MONTH(課題[[#This Row],[生年月日]]))","v":0},{"$f":"TEXT(課題[[#This Row],[生年月日]],\"mmdd\")","v":"0100"},null,null,{"$f":"IF(ISBLANK(課題[[#This Row],[生年月日]]),\"\",DATEDIF(課題[[#This Row],[生年月日]],TODAY(),\"Y\"))","v":""}]
[null,null,{"$f":"IF(ISBLANK(課題[[#This Row],[生年月日]]),0,MONTH(課題[[#This Row],[生年月日]]))","v":0},{"$f":"TEXT(課題[[#This Row],[生年月日]],\"mmdd\")","v":"0100"},null,null,{"$f":"IF(ISBLANK(課題[[#This Row],[生年月日]]),\"\",DATEDIF(課題[[#This Row],[生年月日]],TODAY(),\"Y\"))","v":""}]
[null,null,{"$f":"IF(ISBLANK(課題[[#This Row],[生年月日]]),0,MONTH(課題[[#This Row],[生年月日]]))","v":0},{"$f":"TEXT(課題[[#This Row],[生年月日]],\"mmdd\")","v":"0100"},null,null,{"$f":"IF(ISBLANK(課題[[#This Row],[生年月日]]),\"\",DATEDIF(課題[[#This Row],[生年月日]],TODAY(),\"Y\"))","v":""}]
[null,null,{"$f":"IF(ISBLANK(課題[[#This Row],[生年月日]]),0,MONTH(課題[[#This Row],[生年月日]]))","v":0},{"$f":"TEXT(課題[[#This Row],[生年月日]],\"mmdd\")","v":"0100"},null,null,{"$f":"IF(ISBLANK(課題[[#This Row],[生年月日]]),\"\",DATEDIF(課題[[#This Row],[生年月日]],TODAY(),\"Y\"))","v":""}]
[null,null,{"$f":"IF(ISBLANK(課題[[#This Row],[生年月日]]),0,MONTH(課題[[#This Row],[生年月日]]))","v":0},{"$f":"TEXT(課題[[#This Row],[生年月日]],\"mmdd\")","v":"0100"},null,null,{"$f":"IF(ISBLANK(課題[[#This Row],[生年月日]]),\"\",DATEDIF(課題[[#This Row],[生年月日]],TODAY(),\"Y\"))","v":""}]
[null,null,{"$f":"IF(ISBLANK(課題[[#This Row],[生年月日]]),0,MONTH(課題[[#This Row],[生年月日]]))","v":0},{"$f":"TEXT(課題[[#This Row],[生年月日]],\"mmdd\")","v":"0100"},null,null,{"$f":"IF(ISBLANK(課題[[#This Row],[生年月日]]),\"\",DATEDIF(課題[[#This Row],[生年月日]],TODAY(),\"Y\"))","v":""}]
[null,null,{"$f":"IF(ISBLANK(課題[[#This Row],[生年月日]]),0,MONTH(課題[[#This Row],[生年月日]]))","v":0},{"$f":"TEXT(課題[[#This Row],[生年月日]],\"mmdd\")","v":"0100"},null,null,{"$f":"IF(ISBLANK(課題[[#This Row],[生年月日]]),\"\",DATEDIF(課題[[#This Row],[生年月日]],TODAY(),\"Y\"))","v":""}]
[null,null,{"$f":"IF(ISBLANK(課題[[#This Row],[生年月日]]),0,MONTH(課題[[#This Row],[生年月日]]))","v":0},{"$f":"TEXT(課題[[#This Row],[生年月日]],\"mmdd\")","v":"0100"},null,null,{"$f":"IF(ISBLANK(課題[[#This Row],[生年月日]]),\"\",DATEDIF(課題[[#This Row],[生年月日]],TODAY(),\"Y\"))","v":""}]
[null,null,{"$f":"IF(ISBLANK(課題[[#This Row],[生年月日]]),0,MONTH(課題[[#This Row],[生年月日]]))","v":0},{"$f":"TEXT(課題[[#This Row],[生年月日]],\"mmdd\")","v":"0100"},null,null,{"$f":"IF(ISBLANK(課題[[#This Row],[生年月日]]),\"\",DATEDIF(課題[[#This Row],[生年月日]],TODAY(),\"Y\"))","v":""}]
[null,null,{"$f":"IF(ISBLANK(課題[[#This Row],[生年月日]]),0,MONTH(課題[[#This Row],[生年月日]]))","v":0},{"$f":"TEXT(課題[[#This Row],[生年月日]],\"mmdd\")","v":"0100"},null,null,{"$f":"IF(ISBLANK(課題[[#This Row],[生年月日]]),\"\",DATEDIF(課題[[#This Row],[生年月日]],TODAY(),\"Y\"))","v":""}]
[null,null,{"$f":"IF(ISBLANK(課題[[#This Row],[生年月日]]),0,MONTH(課題[[#This Row],[生年月日]]))","v":0},{"$f":"TEXT(課題[[#This Row],[生年月日]],\"mmdd\")","v":"0100"},null,null,{"$f":"IF(ISBLANK(課題[[#This Row],[生年月日]]),\"\",DATEDIF(課題[[#This Row],[生年月日]],TODAY(),\"Y\"))","v":""}]
[null,null,{"$f":"IF(ISBLANK(課題[[#This Row],[生年月日]]),0,MONTH(課題[[#This Row],[生年月日]]))","v":0},{"$f":"TEXT(課題[[#This Row],[生年月日]],\"mmdd\")","v":"0100"},null,null,{"$f":"IF(ISBLANK(課題[[#This Row],[生年月日]]),\"\",DATEDIF(課題[[#This Row],[生年月日]],TODAY(),\"Y\"))","v":""}]
[null,null,{"$f":"IF(ISBLANK(課題[[#This Row],[生年月日]]),0,MONTH(課題[[#This Row],[生年月日]]))","v":0},{"$f":"TEXT(課題[[#This Row],[生年月日]],\"mmdd\")","v":"0100"},null,null,{"$f":"IF(ISBLANK(課題[[#This Row],[生年月日]]),\"\",DATEDIF(課題[[#This Row],[生年月日]],TODAY(),\"Y\"))","v":""}]
[null,null,{"$f":"IF(ISBLANK(課題[[#This Row],[生年月日]]),0,MONTH(課題[[#This Row],[生年月日]]))","v":0},{"$f":"TEXT(課題[[#This Row],[生年月日]],\"mmdd\")","v":"0100"},null,null,{"$f":"IF(ISBLANK(課題[[#This Row],[生年月日]]),\"\",DATEDIF(課題[[#This Row],[生年月日]],TODAY(),\"Y\"))","v":""}]
[null,null,{"$f":"IF(ISBLANK(課題[[#This Row],[生年月日]]),0,MONTH(課題[[#This Row],[生年月日]]))","v":0},{"$f":"TEXT(課題[[#This Row],[生年月日]],\"mmdd\")","v":"0100"},null,null,{"$f":"IF(ISBLANK(課題[[#This Row],[生年月日]]),\"\",DATEDIF(課題[[#This Row],[生年月日]],TODAY(),\"Y\"))","v":""}]
[null,null,{"$f":"IF(ISBLANK(課題[[#This Row],[生年月日]]),0,MONTH(課題[[#This Row],[生年月日]]))","v":0},{"$f":"TEXT(課題[[#This Row],[生年月日]],\"mmdd\")","v":"0100"},null,null,{"$f":"IF(ISBLANK(課題[[#This Row],[生年月日]]),\"\",DATEDIF(課題[[#This Row],[生年月日]],TODAY(),\"Y\"))","v":""}]
[null,null,{"$f":"IF(ISBLANK(課題[[#This Row],[生年月日]]),0,MONTH(課題[[#This Row],[生年月日]]))","v":0},{"$f":"TEXT(課題[[#This Row],[生年月日]],\"mmdd\")","v":"0100"},null,null,{"$f":"IF(ISBLANK(課題[[#This Row],[生年月日]]),\"\",DATEDIF(課題[[#This Row],[生年月日]],TODAY(),\"Y\"))","v":""}]
[null,null,{"$f":"IF(ISBLANK(課題[[#This Row],[生年月日]]),0,MONTH(課題[[#This Row],[生年月日]]))","v":0},{"$f":"TEXT(課題[[#This Row],[生年月日]],\"mmdd\")","v":"0100"},null,null,{"$f":"IF(ISBLANK(課題[[#This Row],[生年月日]]),\"\",DATEDIF(課題[[#This Row],[生年月日]],TODAY(),\"Y\"))","v":""}]
[null,null,{"$f":"IF(ISBLANK(課題[[#This Row],[生年月日]]),0,MONTH(課題[[#This Row],[生年月日]]))","v":0},{"$f":"TEXT(課題[[#This Row],[生年月日]],\"mmdd\")","v":"0100"},null,null,{"$f":"IF(ISBLANK(課題[[#This Row],[生年月日]]),\"\",DATEDIF(課題[[#This Row],[生年月日]],TODAY(),\"Y\"))","v":""}]
[null,null,{"$f":"IF(ISBLANK(課題[[#This Row],[生年月日]]),0,MONTH(課題[[#This Row],[生年月日]]))","v":0},{"$f":"TEXT(課題[[#This Row],[生年月日]],\"mmdd\")","v":"0100"},null,null,{"$f":"IF(ISBLANK(課題[[#This Row],[生年月日]]),\"\",DATEDIF(課題[[#This Row],[生年月日]],TODAY(),\"Y\"))","v":""}]
[null,null,{"$f":"IF(ISBLANK(課題[[#This Row],[生年月日]]),0,MONTH(課題[[#This Row],[生年月日]]))","v":0},{"$f":"TEXT(課題[[#This Row],[生年月日]],\"mmdd\")","v":"0100"},null,null,{"$f":"IF(ISBLANK(課題[[#This Row],[生年月日]]),\"\",DATEDIF(課題[[#This Row],[生年月日]],TODAY(),\"Y\"))","v":""}]
[null,null,{"$f":"IF(ISBLANK(課題[[#This Row],[生年月日]]),0,MONTH(課題[[#This Row],[生年月日]]))","v":0},{"$f":"TEXT(課題[[#This Row],[生年月日]],\"mmdd\")","v":"0100"},null,null,{"$f":"IF(ISBLANK(課題[[#This Row],[生年月日]]),\"\",DATEDIF(課題[[#This Row],[生年月日]],TODAY(),\"Y\"))","v":""}]
[null,null,{"$f":"IF(ISBLANK(課題[[#This Row],[生年月日]]),0,MONTH(課題[[#This Row],[生年月日]]))","v":0},{"$f":"TEXT(課題[[#This Row],[生年月日]],\"mmdd\")","v":"0100"},null,null,{"$f":"IF(ISBLANK(課題[[#This Row],[生年月日]]),\"\",DATEDIF(課題[[#This Row],[生年月日]],TODAY(),\"Y\"))","v":""}]
[null,null,{"$f":"IF(ISBLANK(課題[[#This Row],[生年月日]]),0,MONTH(課題[[#This Row],[生年月日]]))","v":0},{"$f":"TEXT(課題[[#This Row],[生年月日]],\"mmdd\")","v":"0100"},null,null,{"$f":"IF(ISBLANK(課題[[#This Row],[生年月日]]),\"\",DATEDIF(課題[[#This Row],[生年月日]],TODAY(),\"Y\"))","v":""}]
[null,null,{"$f":"IF(ISBLANK(課題[[#This Row],[生年月日]]),0,MONTH(課題[[#This Row],[生年月日]]))","v":0},{"$f":"TEXT(課題[[#This Row],[生年月日]],\"mmdd\")","v":"0100"},null,null,{"$f":"IF(ISBLANK(課題[[#This Row],[生年月日]]),\"\",DATEDIF(課題[[#This Row],[生年月日]],TODAY(),\"Y\"))","v":""}]
[null,null,{"$f":"IF(ISBLANK(課題[[#This Row],[生年月日]]),0,MONTH(課題[[#This Row],[生年月日]]))","v":0},{"$f":"TEXT(課題[[#This Row],[生年月日]],\"mmdd\")","v":"0100"},null,null,{"$f":"IF(ISBLANK(課題[[#This Row],[生年月日]]),\"\",DATEDIF(課題[[#This Row],[生年月日]],TODAY(),\"Y\"))","v":""}]
[null,null,{"$f":"IF(ISBLANK(課題[[#This Row],[生年月日]]),0,MONTH(課題[[#This Row],[生年月日]]))","v":0},{"$f":"TEXT(課題[[#This Row],[生年月日]],\"mmdd\")","v":"0100"},null,null,{"$f":"IF(ISBLANK(課題[[#This Row],[生年月日]]),\"\",DATEDIF(課題[[#This Row],[生年月日]],TODAY(),\"Y\"))","v":""}]
[null,null,{"$f":"IF(ISBLANK(課題[[#This Row],[生年月日]]),0,MONTH(課題[[#This Row],[生年月日]]))","v":0},{"$f":"TEXT(課題[[#This Row],[生年月日]],\"mmdd\")","v":"0100"},null,null,{"$f":"IF(ISBLANK(課題[[#This Row],[生年月日]]),\"\",DATEDIF(課題[[#This Row],[生年月日]],TODAY(),\"Y\"))","v":""}]
[null,null,{"$f":"IF(ISBLANK(課題[[#This Row],[生年月日]]),0,MONTH(課題[[#This Row],[生年月日]]))","v":0},{"$f":"TEXT(課題[[#This Row],[生年月日]],\"mmdd\")","v":"0100"},null,null,{"$f":"IF(ISBLANK(課題[[#This Row],[生年月日]]),\"\",DATEDIF(課題[[#This Row],[生年月日]],TODAY(),\"Y\"))","v":""}]
[null,null,{"$f":"IF(ISBLANK(課題[[#This Row],[生年月日]]),0,MONTH(課題[[#This Row],[生年月日]]))","v":0},{"$f":"TEXT(課題[[#This Row],[生年月日]],\"mmdd\")","v":"0100"},null,null,{"$f":"IF(ISBLANK(課題[[#This Row],[生年月日]]),\"\",DATEDIF(課題[[#This Row],[生年月日]],TODAY(),\"Y\"))","v":""}]
[null,null,{"$f":"IF(ISBLANK(課題[[#This Row],[生年月日]]),0,MONTH(課題[[#This Row],[生年月日]]))","v":0},{"$f":"TEXT(課題[[#This Row],[生年月日]],\"mmdd\")","v":"0100"},null,null,{"$f":"IF(ISBLANK(課題[[#This Row],[生年月日]]),\"\",DATEDIF(課題[[#This Row],[生年月日]],TODAY(),\"Y\"))","v":""}]
[null,null,{"$f":"IF(ISBLANK(課題[[#This Row],[生年月日]]),0,MONTH(課題[[#This Row],[生年月日]]))","v":0},{"$f":"TEXT(課題[[#This Row],[生年月日]],\"mmdd\")","v":"0100"},null,null,{"$f":"IF(ISBLANK(課題[[#This Row],[生年月日]]),\"\",DATEDIF(課題[[#This Row],[生年月日]],TODAY(),\"Y\"))","v":""}]
[null,null,{"$f":"IF(ISBLANK(課題[[#This Row],[生年月日]]),0,MONTH(課題[[#This Row],[生年月日]]))","v":0},{"$f":"TEXT(課題[[#This Row],[生年月日]],\"mmdd\")","v":"0100"},null,null,{"$f":"IF(ISBLANK(課題[[#This Row],[生年月日]]),\"\",DATEDIF(課題[[#This Row],[生年月日]],TODAY(),\"Y\"))","v":""}]
[null,null,{"$f":"IF(ISBLANK(課題[[#This Row],[生年月日]]),0,MONTH(課題[[#This Row],[生年月日]]))","v":0},{"$f":"TEXT(課題[[#This Row],[生年月日]],\"mmdd\")","v":"0100"},null,null,{"$f":"IF(ISBLANK(課題[[#This Row],[生年月日]]),\"\",DATEDIF(課題[[#This Row],[生年月日]],TODAY(),\"Y\"))","v":""}]
[null,null,{"$f":"IF(ISBLANK(課題[[#This Row],[生年月日]]),0,MONTH(課題[[#This Row],[生年月日]]))","v":0},{"$f":"TEXT(課題[[#This Row],[生年月日]],\"mmdd\")","v":"0100"},null,null,{"$f":"IF(ISBLANK(課題[[#This Row],[生年月日]]),\"\",DATEDIF(課題[[#This Row],[生年月日]],TODAY(),\"Y\"))","v":""}]
[null,null,{"$f":"IF(ISBLANK(課題[[#This Row],[生年月日]]),0,MONTH(課題[[#This Row],[生年月日]]))","v":0},{"$f":"TEXT(課題[[#This Row],[生年月日]],\"mmdd\")","v":"0100"},null,null,{"$f":"IF(ISBLANK(課題[[#This Row],[生年月日]]),\"\",DATEDIF(課題[[#This Row],[生年月日]],TODAY(),\"Y\"))","v":""}]
[null,null,{"$f":"IF(ISBLANK(課題[[#This Row],[生年月日]]),0,MONTH(課題[[#This Row],[生年月日]]))","v":0},{"$f":"TEXT(課題[[#This Row],[生年月日]],\"mmdd\")","v":"0100"},null,null,{"$f":"IF(ISBLANK(課題[[#This Row],[生年月日]]),\"\",DATEDIF(課題[[#This Row],[生年月日]],TODAY(),\"Y\"))","v":""}]
[null,null,{"$f":"IF(ISBLANK(課題[[#This Row],[生年月日]]),0,MONTH(課題[[#This Row],[生年月日]]))","v":0},{"$f":"TEXT(課題[[#This Row],[生年月日]],\"mmdd\")","v":"0100"},null,null,{"$f":"IF(ISBLANK(課題[[#This Row],[生年月日]]),\"\",DATEDIF(課題[[#This Row],[生年月日]],TODAY(),\"Y\"))","v":""}]
[null,null,{"$f":"IF(ISBLANK(課題[[#This Row],[生年月日]]),0,MONTH(課題[[#This Row],[生年月日]]))","v":0},{"$f":"TEXT(課題[[#This Row],[生年月日]],\"mmdd\")","v":"0100"},null,null,{"$f":"IF(ISBLANK(課題[[#This Row],[生年月日]]),\"\",DATEDIF(課題[[#This Row],[生年月日]],TODAY(),\"Y\"))","v":""}]
[null,null,{"$f":"IF(ISBLANK(課題[[#This Row],[生年月日]]),0,MONTH(課題[[#This Row],[生年月日]]))","v":0},{"$f":"TEXT(課題[[#This Row],[生年月日]],\"mmdd\")","v":"0100"},null,null,{"$f":"IF(ISBLANK(課題[[#This Row],[生年月日]]),\"\",DATEDIF(課題[[#This Row],[生年月日]],TODAY(),\"Y\"))","v":""}]
[null,null,{"$f":"IF(ISBLANK(課題[[#This Row],[生年月日]]),0,MONTH(課題[[#This Row],[生年月日]]))","v":0},{"$f":"TEXT(課題[[#This Row],[生年月日]],\"mmdd\")","v":"0100"},null,null,{"$f":"IF(ISBLANK(課題[[#This Row],[生年月日]]),\"\",DATEDIF(課題[[#This Row],[生年月日]],TODAY(),\"Y\"))","v":""}]
[null,null,{"$f":"IF(ISBLANK(課題[[#This Row],[生年月日]]),0,MONTH(課題[[#This Row],[生年月日]]))","v":0},{"$f":"TEXT(課題[[#This Row],[生年月日]],\"mmdd\")","v":"0100"},null,null,{"$f":"IF(ISBLANK(課題[[#This Row],[生年月日]]),\"\",DATEDIF(課題[[#This Row],[生年月日]],TODAY(),\"Y\"))","v":""}]
[null,null,{"$f":"IF(ISBLANK(課題[[#This Row],[生年月日]]),0,MONTH(課題[[#This Row],[生年月日]]))","v":0},{"$f":"TEXT(課題[[#This Row],[生年月日]],\"mmdd\")","v":"0100"},null,null,{"$f":"IF(ISBLANK(課題[[#This Row],[生年月日]]),\"\",DATEDIF(課題[[#This Row],[生年月日]],TODAY(),\"Y\"))","v":""}]
[null,null,{"$f":"IF(ISBLANK(課題[[#This Row],[生年月日]]),0,MONTH(課題[[#This Row],[生年月日]]))","v":0},{"$f":"TEXT(課題[[#This Row],[生年月日]],\"mmdd\")","v":"0100"},null,null,{"$f":"IF(ISBLANK(課題[[#This Row],[生年月日]]),\"\",DATEDIF(課題[[#This Row],[生年月日]],TODAY(),\"Y\"))","v":""}]
[null,null,{"$f":"IF(ISBLANK(課題[[#This Row],[生年月日]]),0,MONTH(課題[[#This Row],[生年月日]]))","v":0},{"$f":"TEXT(課題[[#This Row],[生年月日]],\"mmdd\")","v":"0100"},null,null,{"$f":"IF(ISBLANK(課題[[#This Row],[生年月日]]),\"\",DATEDIF(課題[[#This Row],[生年月日]],TODAY(),\"Y\"))","v":""}]
[null,null,{"$f":"IF(ISBLANK(課題[[#This Row],[生年月日]]),0,MONTH(課題[[#This Row],[生年月日]]))","v":0},{"$f":"TEXT(課題[[#This Row],[生年月日]],\"mmdd\")","v":"0100"},null,null,{"$f":"IF(ISBLANK(課題[[#This Row],[生年月日]]),\"\",DATEDIF(課題[[#This Row],[生年月日]],TODAY(),\"Y\"))","v":""}]
[null,null,{"$f":"IF(ISBLANK(課題[[#This Row],[生年月日]]),0,MONTH(課題[[#This Row],[生年月日]]))","v":0},{"$f":"TEXT(課題[[#This Row],[生年月日]],\"mmdd\")","v":"0100"},null,null,{"$f":"IF(ISBLANK(課題[[#This Row],[生年月日]]),\"\",DATEDIF(課題[[#This Row],[生年月日]],TODAY(),\"Y\"))","v":""}]
[null,null,{"$f":"IF(ISBLANK(課題[[#This Row],[生年月日]]),0,MONTH(課題[[#This Row],[生年月日]]))","v":0},{"$f":"TEXT(課題[[#This Row],[生年月日]],\"mmdd\")","v":"0100"},null,null,{"$f":"IF(ISBLANK(課題[[#This Row],[生年月日]]),\"\",DATEDIF(課題[[#This Row],[生年月日]],TODAY(),\"Y\"))","v":""}]
[null,null,{"$f":"IF(ISBLANK(課題[[#This Row],[生年月日]]),0,MONTH(課題[[#This Row],[生年月日]]))","v":0},{"$f":"TEXT(課題[[#This Row],[生年月日]],\"mmdd\")","v":"0100"},null,null,{"$f":"IF(ISBLANK(課題[[#This Row],[生年月日]]),\"\",DATEDIF(課題[[#This Row],[生年月日]],TODAY(),\"Y\"))","v":""}]
[null,null,{"$f":"IF(ISBLANK(課題[[#This Row],[生年月日]]),0,MONTH(課題[[#This Row],[生年月日]]))","v":0},{"$f":"TEXT(課題[[#This Row],[生年月日]],\"mmdd\")","v":"0100"},null,null,{"$f":"IF(ISBLANK(課題[[#This Row],[生年月日]]),\"\",DATEDIF(課題[[#This Row],[生年月日]],TODAY(),\"Y\"))","v":""}]
[null,null,{"$f":"IF(ISBLANK(課題[[#This Row],[生年月日]]),0,MONTH(課題[[#This Row],[生年月日]]))","v":0},{"$f":"TEXT(課題[[#This Row],[生年月日]],\"mmdd\")","v":"0100"},null,null,{"$f":"IF(ISBLANK(課題[[#This Row],[生年月日]]),\"\",DATEDIF(課題[[#This Row],[生年月日]],TODAY(),\"Y\"))","v":""}]
[null,null,{"$f":"IF(ISBLANK(課題[[#This Row],[生年月日]]),0,MONTH(課題[[#This Row],[生年月日]]))","v":0},{"$f":"TEXT(課題[[#This Row],[生年月日]],\"mmdd\")","v":"0100"},null,null,{"$f":"IF(ISBLANK(課題[[#This Row],[生年月日]]),\"\",DATEDIF(課題[[#This Row],[生年月日]],TODAY(),\"Y\"))","v":""}]
[null,null,{"$f":"IF(ISBLANK(課題[[#This Row],[生年月日]]),0,MONTH(課題[[#This Row],[生年月日]]))","v":0},{"$f":"TEXT(課題[[#This Row],[生年月日]],\"mmdd\")","v":"0100"},null,null,{"$f":"IF(ISBLANK(課題[[#This Row],[生年月日]]),\"\",DATEDIF(課題[[#This Row],[生年月日]],TODAY(),\"Y\"))","v":""}]
[null,null,{"$f":"IF(ISBLANK(課題[[#This Row],[生年月日]]),0,MONTH(課題[[#This Row],[生年月日]]))","v":0},{"$f":"TEXT(課題[[#This Row],[生年月日]],\"mmdd\")","v":"0100"},null,null,{"$f":"IF(ISBLANK(課題[[#This Row],[生年月日]]),\"\",DATEDIF(課題[[#This Row],[生年月日]],TODAY(),\"Y\"))","v":""}]
[null,null,{"$f":"IF(ISBLANK(課題[[#This Row],[生年月日]]),0,MONTH(課題[[#This Row],[生年月日]]))","v":0},{"$f":"TEXT(課題[[#This Row],[生年月日]],\"mmdd\")","v":"0100"},null,null,{"$f":"IF(ISBLANK(課題[[#This Row],[生年月日]]),\"\",DATEDIF(課題[[#This Row],[生年月日]],TODAY(),\"Y\"))","v":""}]
[null,null,{"$f":"IF(ISBLANK(課題[[#This Row],[生年月日]]),0,MONTH(課題[[#This Row],[生年月日]]))","v":0},{"$f":"TEXT(課題[[#This Row],[生年月日]],\"mmdd\")","v":"0100"},null,null,{"$f":"IF(ISBLANK(課題[[#This Row],[生年月日]]),\"\",DATEDIF(課題[[#This Row],[生年月日]],TODAY(),\"Y\"))","v":""}]
[null,null,{"$f":"IF(ISBLANK(課題[[#This Row],[生年月日]]),0,MONTH(課題[[#This Row],[生年月日]]))","v":0},{"$f":"TEXT(課題[[#This Row],[生年月日]],\"mmdd\")","v":"0100"},null,null,{"$f":"IF(ISBLANK(課題[[#This Row],[生年月日]]),\"\",DATEDIF(課題[[#This Row],[生年月日]],TODAY(),\"Y\"))","v":""}]
[null,null,{"$f":"IF(ISBLANK(課題[[#This Row],[生年月日]]),0,MONTH(課題[[#This Row],[生年月日]]))","v":0},{"$f":"TEXT(課題[[#This Row],[生年月日]],\"mmdd\")","v":"0100"},null,null,{"$f":"IF(ISBLANK(課題[[#This Row],[生年月日]]),\"\",DATEDIF(課題[[#This Row],[生年月日]],TODAY(),\"Y\"))","v":""}]
[null,null,{"$f":"IF(ISBLANK(課題[[#This Row],[生年月日]]),0,MONTH(課題[[#This Row],[生年月日]]))","v":0},{"$f":"TEXT(課題[[#This Row],[生年月日]],\"mmdd\")","v":"0100"},null,null,{"$f":"IF(ISBLANK(課題[[#This Row],[生年月日]]),\"\",DATEDIF(課題[[#This Row],[生年月日]],TODAY(),\"Y\"))","v":""}]
[null,null,{"$f":"IF(ISBLANK(課題[[#This Row],[生年月日]]),0,MONTH(課題[[#This Row],[生年月日]]))","v":0},{"$f":"TEXT(課題[[#This Row],[生年月日]],\"mmdd\")","v":"0100"},null,null,{"$f":"IF(ISBLANK(課題[[#This Row],[生年月日]]),\"\",DATEDIF(課題[[#This Row],[生年月日]],TODAY(),\"Y\"))","v":""}]
[null,null,{"$f":"IF(ISBLANK(課題[[#This Row],[生年月日]]),0,MONTH(課題[[#This Row],[生年月日]]))","v":0},{"$f":"TEXT(課題[[#This Row],[生年月日]],\"mmdd\")","v":"0100"},null,null,{"$f":"IF(ISBLANK(課題[[#This Row],[生年月日]]),\"\",DATEDIF(課題[[#This Row],[生年月日]],TODAY(),\"Y\"))","v":""}]
[null,null,{"$f":"IF(ISBLANK(課題[[#This Row],[生年月日]]),0,MONTH(課題[[#This Row],[生年月日]]))","v":0},{"$f":"TEXT(課題[[#This Row],[生年月日]],\"mmdd\")","v":"0100"},null,null,{"$f":"IF(ISBLANK(課題[[#This Row],[生年月日]]),\"\",DATEDIF(課題[[#This Row],[生年月日]],TODAY(),\"Y\"))","v":""}]
[null,null,{"$f":"IF(ISBLANK(課題[[#This Row],[生年月日]]),0,MONTH(課題[[#This Row],[生年月日]]))","v":0},{"$f":"TEXT(課題[[#This Row],[生年月日]],\"mmdd\")","v":"0100"},null,null,{"$f":"IF(ISBLANK(課題[[#This Row],[生年月日]]),\"\",DATEDIF(課題[[#This Row],[生年月日]],TODAY(),\"Y\"))","v":""}]
[null,null,{"$f":"IF(ISBLANK(課題[[#This Row],[生年月日]]),0,MONTH(課題[[#This Row],[生年月日]]))","v":0},{"$f":"TEXT(課題[[#This Row],[生年月日]],\"mmdd\")","v":"0100"},null,null,{"$f":"IF(ISBLANK(課題[[#This Row],[生年月日]]),\"\",DATEDIF(課題[[#This Row],[生年月日]],TODAY(),\"Y\"))","v":""}]
[null,null,{"$f":"IF(ISBLANK(課題[[#This Row],[生年月日]]),0,MONTH(課題[[#This Row],[生年月日]]))","v":0},{"$f":"TEXT(課題[[#This Row],[生年月日]],\"mmdd\")","v":"0100"},null,null,{"$f":"IF(ISBLANK(課題[[#This Row],[生年月日]]),\"\",DATEDIF(課題[[#This Row],[生年月日]],TODAY(),\"Y\"))","v":""}]
[null,null,{"$f":"IF(ISBLANK(課題[[#This Row],[生年月日]]),0,MONTH(課題[[#This Row],[生年月日]]))","v":0},{"$f":"TEXT(課題[[#This Row],[生年月日]],\"mmdd\")","v":"0100"},null,null,{"$f":"IF(ISBLANK(課題[[#This Row],[生年月日]]),\"\",DATEDIF(課題[[#This Row],[生年月日]],TODAY(),\"Y\"))","v":""}]
[null,null,{"$f":"IF(ISBLANK(課題[[#This Row],[生年月日]]),0,MONTH(課題[[#This Row],[生年月日]]))","v":0},{"$f":"TEXT(課題[[#This Row],[生年月日]],\"mmdd\")","v":"0100"},null,null,{"$f":"IF(ISBLANK(課題[[#This Row],[生年月日]]),\"\",DATEDIF(課題[[#This Row],[生年月日]],TODAY(),\"Y\"))","v":""}]
[null,null,{"$f":"IF(ISBLANK(課題[[#This Row],[生年月日]]),0,MONTH(課題[[#This Row],[生年月日]]))","v":0},{"$f":"TEXT(課題[[#This Row],[生年月日]],\"mmdd\")","v":"0100"},null,null,{"$f":"IF(ISBLANK(課題[[#This Row],[生年月日]]),\"\",DATEDIF(課題[[#This Row],[生年月日]],TODAY(),\"Y\"))","v":""}]
[null,null,{"$f":"IF(ISBLANK(課題[[#This Row],[生年月日]]),0,MONTH(課題[[#This Row],[生年月日]]))","v":0},{"$f":"TEXT(課題[[#This Row],[生年月日]],\"mmdd\")","v":"0100"},null,null,{"$f":"IF(ISBLANK(課題[[#This Row],[生年月日]]),\"\",DATEDIF(課題[[#This Row],[生年月日]],TODAY(),\"Y\"))","v":""}]
[null,null,{"$f":"IF(ISBLANK(課題[[#This Row],[生年月日]]),0,MONTH(課題[[#This Row],[生年月日]]))","v":0},{"$f":"TEXT(課題[[#This Row],[生年月日]],\"mmdd\")","v":"0100"},null,null,{"$f":"IF(ISBLANK(課題[[#This Row],[生年月日]]),\"\",DATEDIF(課題[[#This Row],[生年月日]],TODAY(),\"Y\"))","v":""}]
[null,null,{"$f":"IF(ISBLANK(課題[[#This Row],[生年月日]]),0,MONTH(課題[[#This Row],[生年月日]]))","v":0},{"$f":"TEXT(課題[[#This Row],[生年月日]],\"mmdd\")","v":"0100"},null,null,{"$f":"IF(ISBLANK(課題[[#This Row],[生年月日]]),\"\",DATEDIF(課題[[#This Row],[生年月日]],TODAY(),\"Y\"))","v":""}]
[null,null,{"$f":"IF(ISBLANK(課題[[#This Row],[生年月日]]),0,MONTH(課題[[#This Row],[生年月日]]))","v":0},{"$f":"TEXT(課題[[#This Row],[生年月日]],\"mmdd\")","v":"0100"},null,null,{"$f":"IF(ISBLANK(課題[[#This Row],[生年月日]]),\"\",DATEDIF(課題[[#This Row],[生年月日]],TODAY(),\"Y\"))","v":""}]
[null,null,{"$f":"IF(ISBLANK(課題[[#This Row],[生年月日]]),0,MONTH(課題[[#This Row],[生年月日]]))","v":0},{"$f":"TEXT(課題[[#This Row],[生年月日]],\"mmdd\")","v":"0100"},null,null,{"$f":"IF(ISBLANK(課題[[#This Row],[生年月日]]),\"\",DATEDIF(課題[[#This Row],[生年月日]],TODAY(),\"Y\"))","v":""}]
[null,null,{"$f":"IF(ISBLANK(課題[[#This Row],[生年月日]]),0,MONTH(課題[[#This Row],[生年月日]]))","v":0},{"$f":"TEXT(課題[[#This Row],[生年月日]],\"mmdd\")","v":"0100"},null,null,{"$f":"IF(ISBLANK(課題[[#This Row],[生年月日]]),\"\",DATEDIF(課題[[#This Row],[生年月日]],TODAY(),\"Y\"))","v":""}]
[null,null,{"$f":"IF(ISBLANK(課題[[#This Row],[生年月日]]),0,MONTH(課題[[#This Row],[生年月日]]))","v":0},{"$f":"TEXT(課題[[#This Row],[生年月日]],\"mmdd\")","v":"0100"},null,null,{"$f":"IF(ISBLANK(課題[[#This Row],[生年月日]]),\"\",DATEDIF(課題[[#This Row],[生年月日]],TODAY(),\"Y\"))","v":""}]
[null,null,{"$f":"IF(ISBLANK(課題[[#This Row],[生年月日]]),0,MONTH(課題[[#This Row],[生年月日]]))","v":0},{"$f":"TEXT(課題[[#This Row],[生年月日]],\"mmdd\")","v":"0100"},null,null,{"$f":"IF(ISBLANK(課題[[#This Row],[生年月日]]),\"\",DATEDIF(課題[[#This Row],[生年月日]],TODAY(),\"Y\"))","v":""}]
[null,null,{"$f":"IF(ISBLANK(課題[[#This Row],[生年月日]]),0,MONTH(課題[[#This Row],[生年月日]]))","v":0},{"$f":"TEXT(課題[[#This Row],[生年月日]],\"mmdd\")","v":"0100"},null,null,{"$f":"IF(ISBLANK(課題[[#This Row],[生年月日]]),\"\",DATEDIF(課題[[#This Row],[生年月日]],TODAY(),\"Y\"))","v":""}]
[null,null,{"$f":"IF(ISBLANK(課題[[#This Row],[生年月日]]),0,MONTH(課題[[#This Row],[生年月日]]))","v":0},{"$f":"TEXT(課題[[#This Row],[生年月日]],\"mmdd\")","v":"0100"},null,null,{"$f":"IF(ISBLANK(課題[[#This Row],[生年月日]]),\"\",DATEDIF(課題[[#This Row],[生年月日]],TODAY(),\"Y\"))","v":""}]
[null,null,{"$f":"IF(ISBLANK(課題[[#This Row],[生年月日]]),0,MONTH(課題[[#This Row],[生年月日]]))","v":0},{"$f":"TEXT(課題[[#This Row],[生年月日]],\"mmdd\")","v":"0100"},null,null,{"$f":"IF(ISBLANK(課題[[#This Row],[生年月日]]),\"\",DATEDIF(課題[[#This Row],[生年月日]],TODAY(),\"Y\"))","v":""}]
[null,null,{"$f":"IF(ISBLANK(課題[[#This Row],[生年月日]]),0,MONTH(課題[[#This Row],[生年月日]]))","v":0},{"$f":"TEXT(課題[[#This Row],[生年月日]],\"mmdd\")","v":"0100"},null,null,{"$f":"IF(ISBLANK(課題[[#This Row],[生年月日]]),\"\",DATEDIF(課題[[#This Row],[生年月日]],TODAY(),\"Y\"))","v":""}]
[null,null,{"$f":"IF(ISBLANK(課題[[#This Row],[生年月日]]),0,MONTH(課題[[#This Row],[生年月日]]))","v":0},{"$f":"TEXT(課題[[#This Row],[生年月日]],\"mmdd\")","v":"0100"},null,null,{"$f":"IF(ISBLANK(課題[[#This Row],[生年月日]]),\"\",DATEDIF(課題[[#This Row],[生年月日]],TODAY(),\"Y\"))","v":""}]
[null,null,{"$f":"IF(ISBLANK(課題[[#This Row],[生年月日]]),0,MONTH(課題[[#This Row],[生年月日]]))","v":0},{"$f":"TEXT(課題[[#This Row],[生年月日]],\"mmdd\")","v":"0100"},null,null,{"$f":"IF(ISBLANK(課題[[#This Row],[生年月日]]),\"\",DATEDIF(課題[[#This Row],[生年月日]],TODAY(),\"Y\"))","v":""}]
[null,null,{"$f":"IF(ISBLANK(課題[[#This Row],[生年月日]]),0,MONTH(課題[[#This Row],[生年月日]]))","v":0},{"$f":"TEXT(課題[[#This Row],[生年月日]],\"mmdd\")","v":"0100"},null,null,{"$f":"IF(ISBLANK(課題[[#This Row],[生年月日]]),\"\",DATEDIF(課題[[#This Row],[生年月日]],TODAY(),\"Y\"))","v":""}]
[null,null,{"$f":"IF(ISBLANK(課題[[#This Row],[生年月日]]),0,MONTH(課題[[#This Row],[生年月日]]))","v":0},{"$f":"TEXT(課題[[#This Row],[生年月日]],\"mmdd\")","v":"0100"},null,null,{"$f":"IF(ISBLANK(課題[[#This Row],[生年月日]]),\"\",DATEDIF(課題[[#This Row],[生年月日]],TODAY(),\"Y\"))","v":""}]
[null,null,{"$f":"IF(ISBLANK(課題[[#This Row],[生年月日]]),0,MONTH(課題[[#This Row],[生年月日]]))","v":0},{"$f":"TEXT(課題[[#This Row],[生年月日]],\"mmdd\")","v":"0100"},null,null,{"$f":"IF(ISBLANK(課題[[#This Row],[生年月日]]),\"\",DATEDIF(課題[[#This Row],[生年月日]],TODAY(),\"Y\"))","v":""}]
[null,null,{"$f":"IF(ISBLANK(課題[[#This Row],[生年月日]]),0,MONTH(課題[[#This Row],[生年月日]]))","v":0},{"$f":"TEXT(課題[[#This Row],[生年月日]],\"mmdd\")","v":"0100"},null,null,{"$f":"IF(ISBLANK(課題[[#This Row],[生年月日]]),\"\",DATEDIF(課題[[#This Row],[生年月日]],TODAY(),\"Y\"))","v":""}]
[null,null,{"$f":"IF(ISBLANK(課題[[#This Row],[生年月日]]),0,MONTH(課題[[#This Row],[生年月日]]))","v":0},{"$f":"TEXT(課題[[#This Row],[生年月日]],\"mmdd\")","v":"0100"},null,null,{"$f":"IF(ISBLANK(課題[[#This Row],[生年月日]]),\"\",DATEDIF(課題[[#This Row],[生年月日]],TODAY(),\"Y\"))","v":""}]
[null,null,{"$f":"IF(ISBLANK(課題[[#This Row],[生年月日]]),0,MONTH(課題[[#This Row],[生年月日]]))","v":0},{"$f":"TEXT(課題[[#This Row],[生年月日]],\"mmdd\")","v":"0100"},null,null,{"$f":"IF(ISBLANK(課題[[#This Row],[生年月日]]),\"\",DATEDIF(課題[[#This Row],[生年月日]],TODAY(),\"Y\"))","v":""}]
[null,null,{"$f":"IF(ISBLANK(課題[[#This Row],[生年月日]]),0,MONTH(課題[[#This Row],[生年月日]]))","v":0},{"$f":"TEXT(課題[[#This Row],[生年月日]],\"mmdd\")","v":"0100"},null,null,{"$f":"IF(ISBLANK(課題[[#This Row],[生年月日]]),\"\",DATEDIF(課題[[#This Row],[生年月日]],TODAY(),\"Y\"))","v":""}]
[null,null,{"$f":"IF(ISBLANK(課題[[#This Row],[生年月日]]),0,MONTH(課題[[#This Row],[生年月日]]))","v":0},{"$f":"TEXT(課題[[#This Row],[生年月日]],\"mmdd\")","v":"0100"},null,null,{"$f":"IF(ISBLANK(課題[[#This Row],[生年月日]]),\"\",DATEDIF(課題[[#This Row],[生年月日]],TODAY(),\"Y\"))","v":""}]
[null,null,{"$f":"IF(ISBLANK(課題[[#This Row],[生年月日]]),0,MONTH(課題[[#This Row],[生年月日]]))","v":0},{"$f":"TEXT(課題[[#This Row],[生年月日]],\"mmdd\")","v":"0100"},null,null,{"$f":"IF(ISBLANK(課題[[#This Row],[生年月日]]),\"\",DATEDIF(課題[[#This Row],[生年月日]],TODAY(),\"Y\"))","v":""}]
[null,null,{"$f":"IF(ISBLANK(課題[[#This Row],[生年月日]]),0,MONTH(課題[[#This Row],[生年月日]]))","v":0},{"$f":"TEXT(課題[[#This Row],[生年月日]],\"mmdd\")","v":"0100"},null,null,{"$f":"IF(ISBLANK(課題[[#This Row],[生年月日]]),\"\",DATEDIF(課題[[#This Row],[生年月日]],TODAY(),\"Y\"))","v":""}]
[null,null,{"$f":"IF(ISBLANK(課題[[#This Row],[生年月日]]),0,MONTH(課題[[#This Row],[生年月日]]))","v":0},{"$f":"TEXT(課題[[#This Row],[生年月日]],\"mmdd\")","v":"0100"},null,null,{"$f":"IF(ISBLANK(課題[[#This Row],[生年月日]]),\"\",DATEDIF(課題[[#This Row],[生年月日]],TODAY(),\"Y\"))","v":""}]
[null,null,{"$f":"IF(ISBLANK(課題[[#This Row],[生年月日]]),0,MONTH(課題[[#This Row],[生年月日]]))","v":0},{"$f":"TEXT(課題[[#This Row],[生年月日]],\"mmdd\")","v":"0100"},null,null,{"$f":"IF(ISBLANK(課題[[#This Row],[生年月日]]),\"\",DATEDIF(課題[[#This Row],[生年月日]],TODAY(),\"Y\"))","v":""}]
[null,null,{"$f":"IF(ISBLANK(課題[[#This Row],[生年月日]]),0,MONTH(課題[[#This Row],[生年月日]]))","v":0},{"$f":"TEXT(課題[[#This Row],[生年月日]],\"mmdd\")","v":"0100"},null,null,{"$f":"IF(ISBLANK(課題[[#This Row],[生年月日]]),\"\",DATEDIF(課題[[#This Row],[生年月日]],TODAY(),\"Y\"))","v":""}]
[null,null,{"$f":"IF(ISBLANK(課題[[#This Row],[生年月日]]),0,MONTH(課題[[#This Row],[生年月日]]))","v":0},{"$f":"TEXT(課題[[#This Row],[生年月日]],\"mmdd\")","v":"0100"},null,null,{"$f":"IF(ISBLANK(課題[[#This Row],[生年月日]]),\"\",DATEDIF(課題[[#This Row],[生年月日]],TODAY(),\"Y\"))","v":""}]
[null,null,{"$f":"IF(ISBLANK(課題[[#This Row],[生年月日]]),0,MONTH(課題[[#This Row],[生年月日]]))","v":0},{"$f":"TEXT(課題[[#This Row],[生年月日]],\"mmdd\")","v":"0100"},null,null,{"$f":"IF(ISBLANK(課題[[#This Row],[生年月日]]),\"\",DATEDIF(課題[[#This Row],[生年月日]],TODAY(),\"Y\"))","v":""}]
[null,null,{"$f":"IF(ISBLANK(課題[[#This Row],[生年月日]]),0,MONTH(課題[[#This Row],[生年月日]]))","v":0},{"$f":"TEXT(課題[[#This Row],[生年月日]],\"mmdd\")","v":"0100"},null,null,{"$f":"IF(ISBLANK(課題[[#This Row],[生年月日]]),\"\",DATEDIF(課題[[#This Row],[生年月日]],TODAY(),\"Y\"))","v":""}]
[null,null,{"$f":"IF(ISBLANK(課題[[#This Row],[生年月日]]),0,MONTH(課題[[#This Row],[生年月日]]))","v":0},{"$f":"TEXT(課題[[#This Row],[生年月日]],\"mmdd\")","v":"0100"},null,null,{"$f":"IF(ISBLANK(課題[[#This Row],[生年月日]]),\"\",DATEDIF(課題[[#This Row],[生年月日]],TODAY(),\"Y\"))","v":""}]
[null,null,{"$f":"IF(ISBLANK(課題[[#This Row],[生年月日]]),0,MONTH(課題[[#This Row],[生年月日]]))","v":0},{"$f":"TEXT(課題[[#This Row],[生年月日]],\"mmdd\")","v":"0100"},null,null,{"$f":"IF(ISBLANK(課題[[#This Row],[生年月日]]),\"\",DATEDIF(課題[[#This Row],[生年月日]],TODAY(),\"Y\"))","v":""}]
[null,null,{"$f":"IF(ISBLANK(課題[[#This Row],[生年月日]]),0,MONTH(課題[[#This Row],[生年月日]]))","v":0},{"$f":"TEXT(課題[[#This Row],[生年月日]],\"mmdd\")","v":"0100"},null,null,{"$f":"IF(ISBLANK(課題[[#This Row],[生年月日]]),\"\",DATEDIF(課題[[#This Row],[生年月日]],TODAY(),\"Y\"))","v":""}]
[null,null,{"$f":"IF(ISBLANK(課題[[#This Row],[生年月日]]),0,MONTH(課題[[#This Row],[生年月日]]))","v":0},{"$f":"TEXT(課題[[#This Row],[生年月日]],\"mmdd\")","v":"0100"},null,null,{"$f":"IF(ISBLANK(課題[[#This Row],[生年月日]]),\"\",DATEDIF(課題[[#This Row],[生年月日]],TODAY(),\"Y\"))","v":""}]
[null,null,{"$f":"IF(ISBLANK(課題[[#This Row],[生年月日]]),0,MONTH(課題[[#This Row],[生年月日]]))","v":0},{"$f":"TEXT(課題[[#This Row],[生年月日]],\"mmdd\")","v":"0100"},null,null,{"$f":"IF(ISBLANK(課題[[#This Row],[生年月日]]),\"\",DATEDIF(課題[[#This Row],[生年月日]],TODAY(),\"Y\"))","v":""}]
[null,null,{"$f":"IF(ISBLANK(課題[[#This Row],[生年月日]]),0,MONTH(課題[[#This Row],[生年月日]]))","v":0},{"$f":"TEXT(課題[[#This Row],[生年月日]],\"mmdd\")","v":"0100"},null,null,{"$f":"IF(ISBLANK(課題[[#This Row],[生年月日]]),\"\",DATEDIF(課題[[#This Row],[生年月日]],TODAY(),\"Y\"))","v":""}]
[null,null,{"$f":"IF(ISBLANK(課題[[#This Row],[生年月日]]),0,MONTH(課題[[#This Row],[生年月日]]))","v":0},{"$f":"TEXT(課題[[#This Row],[生年月日]],\"mmdd\")","v":"0100"},null,null,{"$f":"IF(ISBLANK(課題[[#This Row],[生年月日]]),\"\",DATEDIF(課題[[#This Row],[生年月日]],TODAY(),\"Y\"))","v":""}]
[null,null,{"$f":"IF(ISBLANK(課題[[#This Row],[生年月日]]),0,MONTH(課題[[#This Row],[生年月日]]))","v":0},{"$f":"TEXT(課題[[#This Row],[生年月日]],\"mmdd\")","v":"0100"},null,null,{"$f":"IF(ISBLANK(課題[[#This Row],[生年月日]]),\"\",DATEDIF(課題[[#This Row],[生年月日]],TODAY(),\"Y\"))","v":""}]
[null,null,{"$f":"IF(ISBLANK(課題[[#This Row],[生年月日]]),0,MONTH(課題[[#This Row],[生年月日]]))","v":0},{"$f":"TEXT(課題[[#This Row],[生年月日]],\"mmdd\")","v":"0100"},null,null,{"$f":"IF(ISBLANK(課題[[#This Row],[生年月日]]),\"\",DATEDIF(課題[[#This Row],[生年月日]],TODAY(),\"Y\"))","v":""}]
[null,null,{"$f":"IF(ISBLANK(課題[[#This Row],[生年月日]]),0,MONTH(課題[[#This Row],[生年月日]]))","v":0},{"$f":"TEXT(課題[[#This Row],[生年月日]],\"mmdd\")","v":"0100"},null,null,{"$f":"IF(ISBLANK(課題[[#This Row],[生年月日]]),\"\",DATEDIF(課題[[#This Row],[生年月日]],TODAY(),\"Y\"))","v":""}]
[null,null,{"$f":"IF(ISBLANK(課題[[#This Row],[生年月日]]),0,MONTH(課題[[#This Row],[生年月日]]))","v":0},{"$f":"TEXT(課題[[#This Row],[生年月日]],\"mmdd\")","v":"0100"},null,null,{"$f":"IF(ISBLANK(課題[[#This Row],[生年月日]]),\"\",DATEDIF(課題[[#This Row],[生年月日]],TODAY(),\"Y\"))","v":""}]
[null,null,{"$f":"IF(ISBLANK(課題[[#This Row],[生年月日]]),0,MONTH(課題[[#This Row],[生年月日]]))","v":0},{"$f":"TEXT(課題[[#This Row],[生年月日]],\"mmdd\")","v":"0100"},null,null,{"$f":"IF(ISBLANK(課題[[#This Row],[生年月日]]),\"\",DATEDIF(課題[[#This Row],[生年月日]],TODAY(),\"Y\"))","v":""}]
[null,null,{"$f":"IF(ISBLANK(課題[[#This Row],[生年月日]]),0,MONTH(課題[[#This Row],[生年月日]]))","v":0},{"$f":"TEXT(課題[[#This Row],[生年月日]],\"mmdd\")","v":"0100"},null,null,{"$f":"IF(ISBLANK(課題[[#This Row],[生年月日]]),\"\",DATEDIF(課題[[#This Row],[生年月日]],TODAY(),\"Y\"))","v":""}]
[null,null,{"$f":"IF(ISBLANK(課題[[#This Row],[生年月日]]),0,MONTH(課題[[#This Row],[生年月日]]))","v":0},{"$f":"TEXT(課題[[#This Row],[生年月日]],\"mmdd\")","v":"0100"},null,null,{"$f":"IF(ISBLANK(課題[[#This Row],[生年月日]]),\"\",DATEDIF(課題[[#This Row],[生年月日]],TODAY(),\"Y\"))","v":""}]
[null,null,{"$f":"IF(ISBLANK(課題[[#This Row],[生年月日]]),0,MONTH(課題[[#This Row],[生年月日]]))","v":0},{"$f":"TEXT(課題[[#This Row],[生年月日]],\"mmdd\")","v":"0100"},null,null,{"$f":"IF(ISBLANK(課題[[#This Row],[生年月日]]),\"\",DATEDIF(課題[[#This Row],[生年月日]],TODAY(),\"Y\"))","v":""}]
[null,null,{"$f":"IF(ISBLANK(課題[[#This Row],[生年月日]]),0,MONTH(課題[[#This Row],[生年月日]]))","v":0},{"$f":"TEXT(課題[[#This Row],[生年月日]],\"mmdd\")","v":"0100"},null,null,{"$f":"IF(ISBLANK(課題[[#This Row],[生年月日]]),\"\",DATEDIF(課題[[#This Row],[生年月日]],TODAY(),\"Y\"))","v":""}]
[null,null,{"$f":"IF(ISBLANK(課題[[#This Row],[生年月日]]),0,MONTH(課題[[#This Row],[生年月日]]))","v":0},{"$f":"TEXT(課題[[#This Row],[生年月日]],\"mmdd\")","v":"0100"},null,null,{"$f":"IF(ISBLANK(課題[[#This Row],[生年月日]]),\"\",DATEDIF(課題[[#This Row],[生年月日]],TODAY(),\"Y\"))","v":""}]
[null,null,{"$f":"IF(ISBLANK(課題[[#This Row],[生年月日]]),0,MONTH(課題[[#This Row],[生年月日]]))","v":0},{"$f":"TEXT(課題[[#This Row],[生年月日]],\"mmdd\")","v":"0100"},null,null,{"$f":"IF(ISBLANK(課題[[#This Row],[生年月日]]),\"\",DATEDIF(課題[[#This Row],[生年月日]],TODAY(),\"Y\"))","v":""}]
[null,null,{"$f":"IF(ISBLANK(課題[[#This Row],[生年月日]]),0,MONTH(課題[[#This Row],[生年月日]]))","v":0},{"$f":"TEXT(課題[[#This Row],[生年月日]],\"mmdd\")","v":"0100"},null,null,{"$f":"IF(ISBLANK(課題[[#This Row],[生年月日]]),\"\",DATEDIF(課題[[#This Row],[生年月日]],TODAY(),\"Y\"))","v":""}]
[null,null,{"$f":"IF(ISBLANK(課題[[#This Row],[生年月日]]),0,MONTH(課題[[#This Row],[生年月日]]))","v":0},{"$f":"TEXT(課題[[#This Row],[生年月日]],\"mmdd\")","v":"0100"},null,null,{"$f":"IF(ISBLANK(課題[[#This Row],[生年月日]]),\"\",DATEDIF(課題[[#This Row],[生年月日]],TODAY(),\"Y\"))","v":""}]
[null,null,{"$f":"IF(ISBLANK(課題[[#This Row],[生年月日]]),0,MONTH(課題[[#This Row],[生年月日]]))","v":0},{"$f":"TEXT(課題[[#This Row],[生年月日]],\"mmdd\")","v":"0100"},null,null,{"$f":"IF(ISBLANK(課題[[#This Row],[生年月日]]),\"\",DATEDIF(課題[[#This Row],[生年月日]],TODAY(),\"Y\"))","v":""}]
[null,null,{"$f":"IF(ISBLANK(課題[[#This Row],[生年月日]]),0,MONTH(課題[[#This Row],[生年月日]]))","v":0},{"$f":"TEXT(課題[[#This Row],[生年月日]],\"mmdd\")","v":"0100"},null,null,{"$f":"IF(ISBLANK(課題[[#This Row],[生年月日]]),\"\",DATEDIF(課題[[#This Row],[生年月日]],TODAY(),\"Y\"))","v":""}]
[null,null,{"$f":"IF(ISBLANK(課題[[#This Row],[生年月日]]),0,MONTH(課題[[#This Row],[生年月日]]))","v":0},{"$f":"TEXT(課題[[#This Row],[生年月日]],\"mmdd\")","v":"0100"},null,null,{"$f":"IF(ISBLANK(課題[[#This Row],[生年月日]]),\"\",DATEDIF(課題[[#This Row],[生年月日]],TODAY(),\"Y\"))","v":""}]
[null,null,{"$f":"IF(ISBLANK(課題[[#This Row],[生年月日]]),0,MONTH(課題[[#This Row],[生年月日]]))","v":0},{"$f":"TEXT(課題[[#This Row],[生年月日]],\"mmdd\")","v":"0100"},null,null,{"$f":"IF(ISBLANK(課題[[#This Row],[生年月日]]),\"\",DATEDIF(課題[[#This Row],[生年月日]],TODAY(),\"Y\"))","v":""}]
[null,null,{"$f":"IF(ISBLANK(課題[[#This Row],[生年月日]]),0,MONTH(課題[[#This Row],[生年月日]]))","v":0},{"$f":"TEXT(課題[[#This Row],[生年月日]],\"mmdd\")","v":"0100"},null,null,{"$f":"IF(ISBLANK(課題[[#This Row],[生年月日]]),\"\",DATEDIF(課題[[#This Row],[生年月日]],TODAY(),\"Y\"))","v":""}]
[null,null,{"$f":"IF(ISBLANK(課題[[#This Row],[生年月日]]),0,MONTH(課題[[#This Row],[生年月日]]))","v":0},{"$f":"TEXT(課題[[#This Row],[生年月日]],\"mmdd\")","v":"0100"},null,null,{"$f":"IF(ISBLANK(課題[[#This Row],[生年月日]]),\"\",DATEDIF(課題[[#This Row],[生年月日]],TODAY(),\"Y\"))","v":""}]
[null,null,{"$f":"IF(ISBLANK(課題[[#This Row],[生年月日]]),0,MONTH(課題[[#This Row],[生年月日]]))","v":0},{"$f":"TEXT(課題[[#This Row],[生年月日]],\"mmdd\")","v":"0100"},null,null,{"$f":"IF(ISBLANK(課題[[#This Row],[生年月日]]),\"\",DATEDIF(課題[[#This Row],[生年月日]],TODAY(),\"Y\"))","v":""}]
[null,null,{"$f":"IF(ISBLANK(課題[[#This Row],[生年月日]]),0,MONTH(課題[[#This Row],[生年月日]]))","v":0},{"$f":"TEXT(課題[[#This Row],[生年月日]],\"mmdd\")","v":"0100"},null,null,{"$f":"IF(ISBLANK(課題[[#This Row],[生年月日]]),\"\",DATEDIF(課題[[#This Row],[生年月日]],TODAY(),\"Y\"))","v":""}]
[null,null,{"$f":"IF(ISBLANK(課題[[#This Row],[生年月日]]),0,MONTH(課題[[#This Row],[生年月日]]))","v":0},{"$f":"TEXT(課題[[#This Row],[生年月日]],\"mmdd\")","v":"0100"},null,null,{"$f":"IF(ISBLANK(課題[[#This Row],[生年月日]]),\"\",DATEDIF(課題[[#This Row],[生年月日]],TODAY(),\"Y\"))","v":""}]
[null,null,{"$f":"IF(ISBLANK(課題[[#This Row],[生年月日]]),0,MONTH(課題[[#This Row],[生年月日]]))","v":0},{"$f":"TEXT(課題[[#This Row],[生年月日]],\"mmdd\")","v":"0100"},null,null,{"$f":"IF(ISBLANK(課題[[#This Row],[生年月日]]),\"\",DATEDIF(課題[[#This Row],[生年月日]],TODAY(),\"Y\"))","v":""}]
[null,null,{"$f":"IF(ISBLANK(課題[[#This Row],[生年月日]]),0,MONTH(課題[[#This Row],[生年月日]]))","v":0},{"$f":"TEXT(課題[[#This Row],[生年月日]],\"mmdd\")","v":"0100"},null,null,{"$f":"IF(ISBLANK(課題[[#This Row],[生年月日]]),\"\",DATEDIF(課題[[#This Row],[生年月日]],TODAY(),\"Y\"))","v":""}]
[null,null,{"$f":"IF(ISBLANK(課題[[#This Row],[生年月日]]),0,MONTH(課題[[#This Row],[生年月日]]))","v":0},{"$f":"TEXT(課題[[#This Row],[生年月日]],\"mmdd\")","v":"0100"},null,null,{"$f":"IF(ISBLANK(課題[[#This Row],[生年月日]]),\"\",DATEDIF(課題[[#This Row],[生年月日]],TODAY(),\"Y\"))","v":""}]
[null,null,{"$f":"IF(ISBLANK(課題[[#This Row],[生年月日]]),0,MONTH(課題[[#This Row],[生年月日]]))","v":0},{"$f":"TEXT(課題[[#This Row],[生年月日]],\"mmdd\")","v":"0100"},null,null,{"$f":"IF(ISBLANK(課題[[#This Row],[生年月日]]),\"\",DATEDIF(課題[[#This Row],[生年月日]],TODAY(),\"Y\"))","v":""}]
[null,null,{"$f":"IF(ISBLANK(課題[[#This Row],[生年月日]]),0,MONTH(課題[[#This Row],[生年月日]]))","v":0},{"$f":"TEXT(課題[[#This Row],[生年月日]],\"mmdd\")","v":"0100"},null,null,{"$f":"IF(ISBLANK(課題[[#This Row],[生年月日]]),\"\",DATEDIF(課題[[#This Row],[生年月日]],TODAY(),\"Y\"))","v":""}]
[null,null,{"$f":"IF(ISBLANK(課題[[#This Row],[生年月日]]),0,MONTH(課題[[#This Row],[生年月日]]))","v":0},{"$f":"TEXT(課題[[#This Row],[生年月日]],\"mmdd\")","v":"0100"},null,null,{"$f":"IF(ISBLANK(課題[[#This Row],[生年月日]]),\"\",DATEDIF(課題[[#This Row],[生年月日]],TODAY(),\"Y\"))","v":""}]
[null,null,{"$f":"IF(ISBLANK(課題[[#This Row],[生年月日]]),0,MONTH(課題[[#This Row],[生年月日]]))","v":0},{"$f":"TEXT(課題[[#This Row],[生年月日]],\"mmdd\")","v":"0100"},null,null,{"$f":"IF(ISBLANK(課題[[#This Row],[生年月日]]),\"\",DATEDIF(課題[[#This Row],[生年月日]],TODAY(),\"Y\"))","v":""}]
[null,null,{"$f":"IF(ISBLANK(課題[[#This Row],[生年月日]]),0,MONTH(課題[[#This Row],[生年月日]]))","v":0},{"$f":"TEXT(課題[[#This Row],[生年月日]],\"mmdd\")","v":"0100"},null,null,{"$f":"IF(ISBLANK(課題[[#This Row],[生年月日]]),\"\",DATEDIF(課題[[#This Row],[生年月日]],TODAY(),\"Y\"))","v":""}]
[null,null,{"$f":"IF(ISBLANK(課題[[#This Row],[生年月日]]),0,MONTH(課題[[#This Row],[生年月日]]))","v":0},{"$f":"TEXT(課題[[#This Row],[生年月日]],\"mmdd\")","v":"0100"},null,null,{"$f":"IF(ISBLANK(課題[[#This Row],[生年月日]]),\"\",DATEDIF(課題[[#This Row],[生年月日]],TODAY(),\"Y\"))","v":""}]
[null,null,{"$f":"IF(ISBLANK(課題[[#This Row],[生年月日]]),0,MONTH(課題[[#This Row],[生年月日]]))","v":0},{"$f":"TEXT(課題[[#This Row],[生年月日]],\"mmdd\")","v":"0100"},null,null,{"$f":"IF(ISBLANK(課題[[#This Row],[生年月日]]),\"\",DATEDIF(課題[[#This Row],[生年月日]],TODAY(),\"Y\"))","v":""}]
[null,null,{"$f":"IF(ISBLANK(課題[[#This Row],[生年月日]]),0,MONTH(課題[[#This Row],[生年月日]]))","v":0},{"$f":"TEXT(課題[[#This Row],[生年月日]],\"mmdd\")","v":"0100"},null,null,{"$f":"IF(ISBLANK(課題[[#This Row],[生年月日]]),\"\",DATEDIF(課題[[#This Row],[生年月日]],TODAY(),\"Y\"))","v":""}]

{"sheet":"カレンダー","index":1,"n_rows":37,"n_cols":8,"rows_kept":37,"cut":false,"hidden":false,"merged":[[3,1,3,3]]}
[]
[null,2015,{"$f":"UPPER(CHOOSE(MoMonthNum,\"1 月\",\"2 月\",\"3 月\",\"4 月\",\"5 月\",\"6 月\",\"7 月\",\"8 月\",\"9 月\",\"10 月\",\"11 月\",\"12 月\"))","v":"12 月"},null,null,12]
[null,null,null,"　　↑表示月の全員にメールしたい場合はこちらをクリックしてください。"]
[null,{"$f":"MoYear & \" 年 \" & MoMonth","v":"2015 年 12 月"}]
[null,"日曜日","月曜日","火曜日","水曜日","木曜日","金曜日","土曜日"]
[null,{"$f":"IF(WEEKDAY(DATEVALUE(MoYear&\"/\"&MoMonthNum&\"/1\"))=COLUMN(A$1),1,IF(LEN(A6)>0,A6+1,\"\"))","v":""},{"$f":"IF(WEEKDAY(DATEVALUE(MoYear&\"/\"&MoMonthNum&\"/1\"))=COLUMN(B$1),1,IF(LEN(B6)>0,B6+1,\"\"))","v":""},1,2,3,4,5]
[null,{"$f":"IF(LEN(B6)=0,\"\",IF(COUNTIF(課題[月日],TEXT(MoMonthNum,\"00\") & TEXT(B6,\"00\"))>0,VLOOKUP(TEXT(MoMonthNum,\"00\") & TEXT(B6,\"00\"),名簿!$D:$G,2,)&\"(\"&VLOOKUP(TEXT(MoMonthNum,\"00\") & TEXT(B6,\"00\"),名簿!$D:$J,6,)&\")\",\"\"))","v":""},{"$f":"IF(LEN(C6)=0,\"\",IF(COUNTIF(課題[月日],TEXT(MoMonthNum,\"00\") & TEXT(C6,\"00\"))>0,VLOOKUP(TEXT(MoMonthNum,\"00\") & TEXT(C6,\"00\"),名簿!$D:$G,2,)&\"(\"&VLOOKUP(TEXT(MoMonthNum,\"00\") & TEXT(C6,\"00\"),名簿!$D:$J,6,)&\")\",\"\"))","v":""},{"$f":"IF(LEN(D6)=0,\"\",IF(COUNTIF(課題[月日],TEXT(MoMonthNum,\"00\") & TEXT(D6,\"00\"))>0,VLOOKUP(TEXT(MoMonthNum,\"00\") & TEXT(D6,\"00\"),名簿!$D:$G,2,)&\"(\"&VLOOKUP(TEXT(MoMonthNum,\"00\") & TEXT(D6,\"00\"),名簿!$D:$J,6,)&\")\",\"\"))","v":""},{"$f":"IF(LEN(E6)=0,\"\",IF(COUNTIF(課題[月日],TEXT(MoMonthNum,\"00\") & TEXT(E6,\"00\"))>0,VLOOKUP(TEXT(MoMonthNum,\"00\") & TEXT(E6,\"00\"),名簿!$D:$G,2,)&\"(\"&VLOOKUP(TEXT(MoMonthNum,\"00\") & TEXT(E6,\"00\"),名簿!$D:$J,6,)&\")\",\"\"))","v":""},{"$f":"IF(LEN(F6)=0,\"\",IF(COUNTIF(課題[月日],TEXT(MoMonthNum,\"00\") & TEXT(F6,\"00\"))>0,VLOOKUP(TEXT(MoMonthNum,\"00\") & TEXT(F6,\"00\"),名簿!$D:$G,2,)&\"(\"&VLOOKUP(TEXT(MoMonthNum,\"00\") & TEXT(F6,\"00\"),名簿!$D:$J,6,)&\")\",\"\"))","v":""},{"$f":"IF(LEN(G6)=0,\"\",IF(COUNTIF(課題[月日],TEXT(MoMonthNum,\"00\") & TEXT(G6,\"00\"))>0,VLOOKUP(TEXT(MoMonthNum,\"00\") & TEXT(G6,\"00\"),名簿!$D:$G,2,)&\"(\"&VLOOKUP(TEXT(MoMonthNum,\"00\") & TEXT(G6,\"00\"),名簿!$D:$J,6,)&\")\",\"\"))","v":""},{"$f":"IF(LEN(H6)=0,\"\",IF(COUNTIF(課題[月日],TEXT(MoMonthNum,\"00\") & TEXT(H6,\"00\"))>0,VLOOKUP(TEXT(MoMonthNum,\"00\") & TEXT(H6,\"00\"),名簿!$D:$G,2,)&\"(\"&VLOOKUP(TEXT(MoMonthNum,\"00\") & TEXT(H6,\"00\"),名簿!$D:$J,6,)&\")\",\"\"))","v":""}]
[null,{"$f":"IF(LEN(B6)=0,\"\",IF(COUNTIF(課題[月日],TEXT(MoMonthNum,\"00\") & TEXT(B6,\"00\"))>0,VLOOKUP(TEXT(MoMonthNum,\"00\") & TEXT(B6,\"00\"),名簿!$D:$J,7,),\"\"))","v":""},{"$f":"IF(LEN(C6)=0,\"\",IF(COUNTIF(課題[月日],TEXT(MoMonthNum,\"00\") & TEXT(C6,\"00\"))>0,VLOOKUP(TEXT(MoMonthNum,\"00\") & TEXT(C6,\"00\"),名簿!$D:$J,7,),\"\"))","v":""},{"$f":"IF(LEN(D6)=0,\"\",IF(COUNTIF(課題[月日],TEXT(MoMonthNum,\"00\") & TEXT(D6,\"00\"))>0,VLOOKUP(TEXT(MoMonthNum,\"00\") & TEXT(D6,\"00\"),名簿!$D:$J,7,),\"\"))","v":""},{"$f":"IF(LEN(E6)=0,\"\",IF(COUNTIF(課題[月日],TEXT(MoMonthNum,\"00\") & TEXT(E6,\"00\"))>0,VLOOKUP(TEXT(MoMonthNum,\"00\") & TEXT(E6,\"00\"),名簿!$D:$J,7,),\"\"))","v":""},{"$f":"IF(LEN(F6)=0,\"\",IF(COUNTIF(課題[月日],TEXT(MoMonthNum,\"00\") & TEXT(F6,\"00\"))>0,VLOOKUP(TEXT(MoMonthNum,\"00\") & TEXT(F6,\"00\"),名簿!$D:$J,7,),\"\"))","v":""},{"$f":"IF(LEN(G6)=0,\"\",IF(COUNTIF(課題[月日],TEXT(MoMonthNum,\"00\") & TEXT(G6,\"00\"))>0,VLOOKUP(TEXT(MoMonthNum,\"00\") & TEXT(G6,\"00\"),名簿!$D:$J,7,),\"\"))","v":""},{"$f":"IF(LEN(H6)=0,\"\",IF(COUNTIF(課題[月日],TEXT(MoMonthNum,\"00\") & TEXT(H6,\"00\"))>0,VLOOKUP(TEXT(MoMonthNum,\"00\") & TEXT(H6,\"00\"),名簿!$D:$J,7,),\"\"))","v":""}]
[null,{"$f":"IF(LEN(B7)=0,\"\",IF(COUNTIF(課題[月日],TEXT(MoMonthNum,\"00\") & TEXT(B6,\"00\"))>1,\"他　\" & COUNTIF(課題[月日],TEXT(MoMonthNum,\"00\") & TEXT(B6,\"00\"))-1 & \"名\",\"\"))","v":""},{"$f":"IF(LEN(C7)=0,\"\",IF(COUNTIF(課題[月日],TEXT(MoMonthNum,\"00\") & TEXT(C6,\"00\"))>1,\"他　\" & COUNTIF(課題[月日],TEXT(MoMonthNum,\"00\") & TEXT(C6,\"00\"))-1 & \"名\",\"\"))","v":""},{"$f":"IF(LEN(D7)=0,\"\",IF(COUNTIF(課題[月日],TEXT(MoMonthNum,\"00\") & TEXT(D6,\"00\"))>1,\"他　\" & COUNTIF(課題[月日],TEXT(MoMonthNum,\"00\") & TEXT(D6,\"00\"))-1 & \"名\",\"\"))","v":""},{"$f":"IF(LEN(E7)=0,\"\",IF(COUNTIF(課題[月日],TEXT(MoMonthNum,\"00\") & TEXT(E6,\"00\"))>1,\"他　\" & COUNTIF(課題[月日],TEXT(MoMonthNum,\"00\") & TEXT(E6,\"00\"))-1 & \"名\",\"\"))","v":""},{"$f":"IF(LEN(F7)=0,\"\",IF(COUNTIF(課題[月日],TEXT(MoMonthNum,\"00\") & TEXT(F6,\"00\"))>1,\"他　\" & COUNTIF(課題[月日],TEXT(MoMonthNum,\"00\") & TEXT(F6,\"00\"))-1 & \"名\",\"\"))","v":""},{"$f":"IF(LEN(G7)=0,\"\",IF(COUNTIF(課題[月日],TEXT(MoMonthNum,\"00\") & TEXT(G6,\"00\"))>1,\"他　\" & COUNTIF(課題[月日],TEXT(MoMonthNum,\"00\") & TEXT(G6,\"00\"))-1 & \"名\",\"\"))","v":""},{"$f":"IF(LEN(H7)=0,\"\",IF(COUNTIF(課題[月日],TEXT(MoMonthNum,\"00\") & TEXT(H6,\"00\"))>1,\"他　\" & COUNTIF(課題[月日],TEXT(MoMonthNum,\"00\") & TEXT(H6,\"00\"))-1 & \"名\",\"\"))","v":""}]
[]
[null,{"$f":"IF(LEN(H6)>0,IF(H6=DAY(DATE(MoYear,MoMonthNum+1,0)),\"\",H6+1),\"\")","v":6},{"$f":"IF(LEN(B11)>0,IF(B11=DAY(DATE(MoYear,MoMonthNum+1,0)),\"\",B11+1),\"\")","v":7},8,9,10,11,12]
[null,{"$f":"IF(LEN(B11)=0,\"\",IF(COUNTIF(課題[月日],TEXT(MoMonthNum,\"00\") & TEXT(B11,\"00\"))>0,VLOOKUP(TEXT(MoMonthNum,\"00\") & TEXT(B11,\"00\"),名簿!$D:$G,2,)&\"(\"&VLOOKUP(TEXT(MoMonthNum,\"00\") & TEXT(B11,\"00\"),名簿!$D:$J,6,)&\")\",\"\"))","v":""},{"$f":"IF(LEN(C11)=0,\"\",IF(COUNTIF(課題[月日],TEXT(MoMonthNum,\"00\") & TEXT(C11,\"00\"))>0,VLOOKUP(TEXT(MoMonthNum,\"00\") & TEXT(C11,\"00\"),名簿!$D:$G,2,)&\"(\"&VLOOKUP(TEXT(MoMonthNum,\"00\") & TEXT(C11,\"00\"),名簿!$D:$J,6,)&\")\",\"\"))","v":""},{"$f":"IF(LEN(D11)=0,\"\",IF(COUNTIF(課題[月日],TEXT(MoMonthNum,\"00\") & TEXT(D11,\"00\"))>0,VLOOKUP(TEXT(MoMonthNum,\"00\") & TEXT(D11,\"00\"),名簿!$D:$G,2,)&\"(\"&VLOOKUP(TEXT(MoMonthNum,\"00\") & TEXT(D11,\"00\"),名簿!$D:$J,6,)&\")\",\"\"))","v":""},{"$f":"IF(LEN(E11)=0,\"\",IF(COUNTIF(課題[月日],TEXT(MoMonthNum,\"00\") & TEXT(E11,\"00\"))>0,VLOOKUP(TEXT(MoMonthNum,\"00\") & TEXT(E11,\"00\"),名簿!$D:$G,2,)&\"(\"&VLOOKUP(TEXT(MoMonthNum,\"00\") & TEXT(E11,\"00\"),名簿!$D:$J,6,)&\")\",\"\"))","v":""},{"$f":"IF(LEN(F11)=0,\"\",IF(COUNTIF(課題[月日],TEXT(MoMonthNum,\"00\") & TEXT(F11,\"00\"))>0,VLOOKUP(TEXT(MoMonthNum,\"00\") & TEXT(F11,\"00\"),名簿!$D:$G,2,)&\"(\"&VLOOKUP(TEXT(MoMonthNum,\"00\") & TEXT(F11,\"00\"),名簿!$D:$J,6,)&\")\",\"\"))","v":""},{"$f":"IF(LEN(G11)=0,\"\",IF(COUNTIF(課題[月日],TEXT(MoMonthNum,\"00\") & TEXT(G11,\"00\"))>0,VLOOKUP(TEXT(MoMonthNum,\"00\") & TEXT(G11,\"00\"),名簿!$D:$G,2,)&\"(\"&VLOOKUP(TEXT(MoMonthNum,\"00\") & TEXT(G11,\"00\"),名簿!$D:$J,6,)&\")\",\"\"))","v":""},{"$f":"IF(LEN(H11)=0,\"\",IF(COUNTIF(課題[月日],TEXT(MoMonthNum,\"00\") & TEXT(H11,\"00\"))>0,VLOOKUP(TEXT(MoMonthNum,\"00\") & TEXT(H11,\"00\"),名簿!$D:$G,2,)&\"(\"&VLOOKUP(TEXT(MoMonthNum,\"00\") & TEXT(H11,\"00\"),名簿!$D:$J,6,)&\")\",\"\"))","v":""}]
[null,{"$f":"IF(LEN(B11)=0,\"\",IF(COUNTIF(課題[月日],TEXT(MoMonthNum,\"00\") & TEXT(B11,\"00\"))>0,VLOOKUP(TEXT(MoMonthNum,\"00\") & TEXT(B11,\"00\"),名簿!$D:$J,7,),\"\"))","v":""},{"$f":"IF(LEN(C11)=0,\"\",IF(COUNTIF(課題[月日],TEXT(MoMonthNum,\"00\") & TEXT(C11,\"00\"))>0,VLOOKUP(TEXT(MoMonthNum,\"00\") & TEXT(C11,\"00\"),名簿!$D:$J,7,),\"\"))","v":""},{"$f":"IF(LEN(D11)=0,\"\",IF(COUNTIF(課題[月日],TEXT(MoMonthNum,\"00\") & TEXT(D11,\"00\"))>0,VLOOKUP(TEXT(MoMonthNum,\"00\") & TEXT(D11,\"00\"),名簿!$D:$J,7,),\"\"))","v":""},{"$f":"IF(LEN(E11)=0,\"\",IF(COUNTIF(課題[月日],TEXT(MoMonthNum,\"00\") & TEXT(E11,\"00\"))>0,VLOOKUP(TEXT(MoMonthNum,\"00\") & TEXT(E11,\"00\"),名簿!$D:$J,7,),\"\"))","v":""},{"$f":"IF(LEN(F11)=0,\"\",IF(COUNTIF(課題[月日],TEXT(MoMonthNum,\"00\") & TEXT(F11,\"00\"))>0,VLOOKUP(TEXT(MoMonthNum,\"00\") & TEXT(F11,\"00\"),名簿!$D:$J,7,),\"\"))","v":""},{"$f":"IF(LEN(G11)=0,\"\",IF(COUNTIF(課題[月日],TEXT(MoMonthNum,\"00\") & TEXT(G11,\"00\"))>0,VLOOKUP(TEXT(MoMonthNum,\"00\") & TEXT(G11,\"00\"),名簿!$D:$J,7,),\"\"))","v":""},{"$f":"IF(LEN(H11)=0,\"\",IF(COUNTIF(課題[月日],TEXT(MoMonthNum,\"00\") & TEXT(H11,\"00\"))>0,VLOOKUP(TEXT(MoMonthNum,\"00\") & TEXT(H11,\"00\"),名簿!$D:$J,7,),\"\"))","v":""}]
[null,{"$f":"IF(LEN(B12)=0,\"\",IF(COUNTIF(課題[月日],TEXT(MoMonthNum,\"00\") & TEXT(B11,\"00\"))>1,\"他　\" & COUNTIF(課題[月日],TEXT(MoMonthNum,\"00\") & TEXT(B11,\"00\"))-1 & \"名\",\"\"))","v":""},{"$f":"IF(LEN(C12)=0,\"\",IF(COUNTIF(課題[月日],TEXT(MoMonthNum,\"00\") & TEXT(C11,\"00\"))>1,\"他　\" & COUNTIF(課題[月日],TEXT(MoMonthNum,\"00\") & TEXT(C11,\"00\"))-1 & \"名\",\"\"))","v":""},{"$f":"IF(LEN(D12)=0,\"\",IF(COUNTIF(課題[月日],TEXT(MoMonthNum,\"00\") & TEXT(D11,\"00\"))>1,\"他　\" & COUNTIF(課題[月日],TEXT(MoMonthNum,\"00\") & TEXT(D11,\"00\"))-1 & \"名\",\"\"))","v":""},{"$f":"IF(LEN(E12)=0,\"\",IF(COUNTIF(課題[月日],TEXT(MoMonthNum,\"00\") & TEXT(E11,\"00\"))>1,\"他　\" & COUNTIF(課題[月日],TEXT(MoMonthNum,\"00\") & TEXT(E11,\"00\"))-1 & \"名\",\"\"))","v":""},{"$f":"IF(LEN(F12)=0,\"\",IF(COUNTIF(課題[月日],TEXT(MoMonthNum,\"00\") & TEXT(F11,\"00\"))>1,\"他　\" & COUNTIF(課題[月日],TEXT(MoMonthNum,\"00\") & TEXT(F11,\"00\"))-1 & \"名\",\"\"))","v":""},{"$f":"IF(LEN(G12)=0,\"\",IF(COUNTIF(課題[月日],TEXT(MoMonthNum,\"00\") & TEXT(G11,\"00\"))>1,\"他　\" & COUNTIF(課題[月日],TEXT(MoMonthNum,\"00\") & TEXT(G11,\"00\"))-1 & \"名\",\"\"))","v":""},{"$f":"IF(LEN(H12)=0,\"\",IF(COUNTIF(課題[月日],TEXT(MoMonthNum,\"00\") & TEXT(H11,\"00\"))>1,\"他　\" & COUNTIF(課題[月日],TEXT(MoMonthNum,\"00\") & TEXT(H11,\"00\"))-1 & \"名\",\"\"))","v":""}]
[]
[null,{"$f":"IF(LEN(H11)>0,IF(H11=DAY(DATE(MoYear,MoMonthNum+1,0)),\"\",H11+1),\"\")","v":13},{"$f":"IF(LEN(B16)>0,IF(B16=DAY(DATE(MoYear,MoMonthNum+1,0)),\"\",B16+1),\"\")","v":14},{"$f":"IF(LEN(C16)>0,IF(C16=DAY(DATE(MoYear,MoMonthNum+1,0)),\"\",C16+1),\"\")","v":15},16,17,18,19]
[null,{"$f":"IF(LEN(B16)=0,\"\",IF(COUNTIF(課題[月日],TEXT(MoMonthNum,\"00\") & TEXT(B16,\"00\"))>0,VLOOKUP(TEXT(MoMonthNum,\"00\") & TEXT(B16,\"00\"),名簿!$D:$G,2,)&\"(\"&VLOOKUP(TEXT(MoMonthNum,\"00\") & TEXT(B16,\"00\"),名簿!$D:$J,6,)&\")\",\"\"))","v":""},{"$f":"IF(LEN(C16)=0,\"\",IF(COUNTIF(課題[月日],TEXT(MoMonthNum,\"00\") & TEXT(C16,\"00\"))>0,VLOOKUP(TEXT(MoMonthNum,\"00\") & TEXT(C16,\"00\"),名簿!$D:$G,2,)&\"(\"&VLOOKUP(TEXT(MoMonthNum,\"00\") & TEXT(C16,\"00\"),名簿!$D:$J,6,)&\")\",\"\"))","v":""},{"$f":"IF(LEN(D16)=0,\"\",IF(COUNTIF(課題[月日],TEXT(MoMonthNum,\"00\") & TEXT(D16,\"00\"))>0,VLOOKUP(TEXT(MoMonthNum,\"00\") & TEXT(D16,\"00\"),名簿!$D:$G,2,)&\"(\"&VLOOKUP(TEXT(MoMonthNum,\"00\") & TEXT(D16,\"00\"),名簿!$D:$J,6,)&\")\",\"\"))","v":""},{"$f":"IF(LEN(E16)=0,\"\",IF(COUNTIF(課題[月日],TEXT(MoMonthNum,\"00\") & TEXT(E16,\"00\"))>0,VLOOKUP(TEXT(MoMonthNum,\"00\") & TEXT(E16,\"00\"),名簿!$D:$G,2,)&\"(\"&VLOOKUP(TEXT(MoMonthNum,\"00\") & TEXT(E16,\"00\"),名簿!$D:$J,6,)&\")\",\"\"))","v":""},{"$f":"IF(LEN(F16)=0,\"\",IF(COUNTIF(課題[月日],TEXT(MoMonthNum,\"00\") & TEXT(F16,\"00\"))>0,VLOOKUP(TEXT(MoMonthNum,\"00\") & TEXT(F16,\"00\"),名簿!$D:$G,2,)&\"(\"&VLOOKUP(TEXT(MoMonthNum,\"00\") & TEXT(F16,\"00\"),名簿!$D:$J,6,)&\")\",\"\"))","v":""},{"$f":"IF(LEN(G16)=0,\"\",IF(COUNTIF(課題[月日],TEXT(MoMonthNum,\"00\") & TEXT(G16,\"00\"))>0,VLOOKUP(TEXT(MoMonthNum,\"00\") & TEXT(G16,\"00\"),名簿!$D:$G,2,)&\"(\"&VLOOKUP(TEXT(MoMonthNum,\"00\") & TEXT(G16,\"00\"),名簿!$D:$J,6,)&\")\",\"\"))","v":""},{"$f":"IF(LEN(H16)=0,\"\",IF(COUNTIF(課題[月日],TEXT(MoMonthNum,\"00\") & TEXT(H16,\"00\"))>0,VLOOKUP(TEXT(MoMonthNum,\"00\") & TEXT(H16,\"00\"),名簿!$D:$G,2,)&\"(\"&VLOOKUP(TEXT(MoMonthNum,\"00\") & TEXT(H16,\"00\"),名簿!$D:$J,6,)&\")\",\"\"))","v":""}]
[null,{"$f":"IF(LEN(B16)=0,\"\",IF(COUNTIF(課題[月日],TEXT(MoMonthNum,\"00\") & TEXT(B16,\"00\"))>0,VLOOKUP(TEXT(MoMonthNum,\"00\") & TEXT(B16,\"00\"),名簿!$D:$J,7,),\"\"))","v":""},{"$f":"IF(LEN(C16)=0,\"\",IF(COUNTIF(課題[月日],TEXT(MoMonthNum,\"00\") & TEXT(C16,\"00\"))>0,VLOOKUP(TEXT(MoMonthNum,\"00\") & TEXT(C16,\"00\"),名簿!$D:$J,7,),\"\"))","v":""},{"$f":"IF(LEN(D16)=0,\"\",IF(COUNTIF(課題[月日],TEXT(MoMonthNum,\"00\") & TEXT(D16,\"00\"))>0,VLOOKUP(TEXT(MoMonthNum,\"00\") & TEXT(D16,\"00\"),名簿!$D:$J,7,),\"\"))","v":""},{"$f":"IF(LEN(E16)=0,\"\",IF(COUNTIF(課題[月日],TEXT(MoMonthNum,\"00\") & TEXT(E16,\"00\"))>0,VLOOKUP(TEXT(MoMonthNum,\"00\") & TEXT(E16,\"00\"),名簿!$D:$J,7,),\"\"))","v":""},{"$f":"IF(LEN(F16)=0,\"\",IF(COUNTIF(課題[月日],TEXT(MoMonthNum,\"00\") & TEXT(F16,\"00\"))>0,VLOOKUP(TEXT(MoMonthNum,\"00\") & TEXT(F16,\"00\"),名簿!$D:$J,7,),\"\"))","v":""},{"$f":"IF(LEN(G16)=0,\"\",IF(COUNTIF(課題[月日],TEXT(MoMonthNum,\"00\") & TEXT(G16,\"00\"))>0,VLOOKUP(TEXT(MoMonthNum,\"00\") & TEXT(G16,\"00\"),名簿!$D:$J,7,),\"\"))","v":""},{"$f":"IF(LEN(H16)=0,\"\",IF(COUNTIF(課題[月日],TEXT(MoMonthNum,\"00\") & TEXT(H16,\"00\"))>0,VLOOKUP(TEXT(MoMonthNum,\"00\") & TEXT(H16,\"00\"),名簿!$D:$J,7,),\"\"))","v":""}]
[null,{"$f":"IF(LEN(B17)=0,\"\",IF(COUNTIF(課題[月日],TEXT(MoMonthNum,\"00\") & TEXT(B16,\"00\"))>1,\"他　\" & COUNTIF(課題[月日],TEXT(MoMonthNum,\"00\") & TEXT(B16,\"00\"))-1 & \"名\",\"\"))","v":""},{"$f":"IF(LEN(C17)=0,\"\",IF(COUNTIF(課題[月日],TEXT(MoMonthNum,\"00\") & TEXT(C16,\"00\"))>1,\"他　\" & COUNTIF(課題[月日],TEXT(MoMonthNum,\"00\") & TEXT(C16,\"00\"))-1 & \"名\",\"\"))","v":""},{"$f":"IF(LEN(D17)=0,\"\",IF(COUNTIF(課題[月日],TEXT(MoMonthNum,\"00\") & TEXT(D16,\"00\"))>1,\"他　\" & COUNTIF(課題[月日],TEXT(MoMonthNum,\"00\") & TEXT(D16,\"00\"))-1 & \"名\",\"\"))","v":""},{"$f":"IF(LEN(E17)=0,\"\",IF(COUNTIF(課題[月日],TEXT(MoMonthNum,\"00\") & TEXT(E16,\"00\"))>1,\"他　\" & COUNTIF(課題[月日],TEXT(MoMonthNum,\"00\") & TEXT(E16,\"00\"))-1 & \"名\",\"\"))","v":""},{"$f":"IF(LEN(F17)=0,\"\",IF(COUNTIF(課題[月日],TEXT(MoMonthNum,\"00\") & TEXT(F16,\"00\"))>1,\"他　\" & COUNTIF(課題[月日],TEXT(MoMonthNum,\"00\") & TEXT(F16,\"00\"))-1 & \"名\",\"\"))","v":""},{"$f":"IF(LEN(G17)=0,\"\",IF(COUNTIF(課題[月日],TEXT(MoMonthNum,\"00\") & TEXT(G16,\"00\"))>1,\"他　\" & COUNTIF(課題[月日],TEXT(MoMonthNum,\"00\") & TEXT(G16,\"00\"))-1 & \"名\",\"\"))","v":""},{"$f":"IF(LEN(H17)=0,\"\",IF(COUNTIF(課題[月日],TEXT(MoMonthNum,\"00\") & TEXT(H16,\"00\"))>1,\"他　\" & COUNTIF(課題[月日],TEXT(MoMonthNum,\"00\") & TEXT(H16,\"00\"))-1 & \"名\",\"\"))","v":""}]
[]
[null,{"$f":"IF(LEN(H16)>0,IF(H16=DAY(DATE(MoYear,MoMonthNum+1,0)),\"\",H16+1),\"\")","v":20},{"$f":"IF(LEN(B21)>0,IF(B21=DAY(DATE(MoYear,MoMonthNum+1,0)),\"\",B21+1),\"\")","v":21},22,23,24,25,26]
[null,{"$f":"IF(LEN(B21)=0,\"\",IF(COUNTIF(課題[月日],TEXT(MoMonthNum,\"00\") & TEXT(B21,\"00\"))>0,VLOOKUP(TEXT(MoMonthNum,\"00\") & TEXT(B21,\"00\"),名簿!$D:$G,2,)&\"(\"&VLOOKUP(TEXT(MoMonthNum,\"00\") & TEXT(B21,\"00\"),名簿!$D:$J,6,)&\")\",\"\"))","v":""},{"$f":"IF(LEN(C21)=0,\"\",IF(COUNTIF(課題[月日],TEXT(MoMonthNum,\"00\") & TEXT(C21,\"00\"))>0,VLOOKUP(TEXT(MoMonthNum,\"00\") & TEXT(C21,\"00\"),名簿!$D:$G,2,)&\"(\"&VLOOKUP(TEXT(MoMonthNum,\"00\") & TEXT(C21,\"00\"),名簿!$D:$J,6,)&\")\",\"\"))","v":""},{"$f":"IF(LEN(D21)=0,\"\",IF(COUNTIF(課題[月日],TEXT(MoMonthNum,\"00\") & TEXT(D21,\"00\"))>0,VLOOKUP(TEXT(MoMonthNum,\"00\") & TEXT(D21,\"00\"),名簿!$D:$G,2,)&\"(\"&VLOOKUP(TEXT(MoMonthNum,\"00\") & TEXT(D21,\"00\"),名簿!$D:$J,6,)&\")\",\"\"))","v":""},{"$f":"IF(LEN(E21)=0,\"\",IF(COUNTIF(課題[月日],TEXT(MoMonthNum,\"00\") & TEXT(E21,\"00\"))>0,VLOOKUP(TEXT(MoMonthNum,\"00\") & TEXT(E21,\"00\"),名簿!$D:$G,2,)&\"(\"&VLOOKUP(TEXT(MoMonthNum,\"00\") & TEXT(E21,\"00\"),名簿!$D:$J,6,)&\")\",\"\"))","v":""},{"$f":"IF(LEN(F21)=0,\"\",IF(COUNTIF(課題[月日],TEXT(MoMonthNum,\"00\") & TEXT(F21,\"00\"))>0,VLOOKUP(TEXT(MoMonthNum,\"00\") & TEXT(F21,\"00\"),名簿!$D:$G,2,)&\"(\"&VLOOKUP(TEXT(MoMonthNum,\"00\") & TEXT(F21,\"00\"),名簿!$D:$J,6,)&\")\",\"\"))","v":""},{"$f":"IF(LEN(G21)=0,\"\",IF(COUNTIF(課題[月日],TEXT(MoMonthNum,\"00\") & TEXT(G21,\"00\"))>0,VLOOKUP(TEXT(MoMonthNum,\"00\") & TEXT(G21,\"00\"),名簿!$D:$G,2,)&\"(\"&VLOOKUP(TEXT(MoMonthNum,\"00\") & TEXT(G21,\"00\"),名簿!$D:$J,6,)&\")\",\"\"))","v":""},{"$f":"IF(LEN(H21)=0,\"\",IF(COUNTIF(課題[月日],TEXT(MoMonthNum,\"00\") & TEXT(H21,\"00\"))>0,VLOOKUP(TEXT(MoMonthNum,\"00\") & TEXT(H21,\"00\"),名簿!$D:$G,2,)&\"(\"&VLOOKUP(TEXT(MoMonthNum,\"00\") & TEXT(H21,\"00\"),名簿!$D:$J,6,)&\")\",\"\"))","v":""}]
[null,{"$f":"IF(LEN(B21)=0,\"\",IF(COUNTIF(課題[月日],TEXT(MoMonthNum,\"00\") & TEXT(B21,\"00\"))>0,VLOOKUP(TEXT(MoMonthNum,\"00\") & TEXT(B21,\"00\"),名簿!$D:$J,7,),\"\"))","v":""},{"$f":"IF(LEN(C21)=0,\"\",IF(COUNTIF(課題[月日],TEXT(MoMonthNum,\"00\") & TEXT(C21,\"00\"))>0,VLOOKUP(TEXT(MoMonthNum,\"00\") & TEXT(C21,\"00\"),名簿!$D:$J,7,),\"\"))","v":""},{"$f":"IF(LEN(D21)=0,\"\",IF(COUNTIF(課題[月日],TEXT(MoMonthNum,\"00\") & TEXT(D21,\"00\"))>0,VLOOKUP(TEXT(MoMonthNum,\"00\") & TEXT(D21,\"00\"),名簿!$D:$J,7,),\"\"))","v":""},{"$f":"IF(LEN(E21)=0,\"\",IF(COUNTIF(課題[月日],TEXT(MoMonthNum,\"00\") & TEXT(E21,\"00\"))>0,VLOOKUP(TEXT(MoMonthNum,\"00\") & TEXT(E21,\"00\"),名簿!$D:$J,7,),\"\"))","v":""},{"$f":"IF(LEN(F21)=0,\"\",IF(COUNTIF(課題[月日],TEXT(MoMonthNum,\"00\") & TEXT(F21,\"00\"))>0,VLOOKUP(TEXT(MoMonthNum,\"00\") & TEXT(F21,\"00\"),名簿!$D:$J,7,),\"\"))","v":""},{"$f":"IF(LEN(G21)=0,\"\",IF(COUNTIF(課題[月日],TEXT(MoMonthNum,\"00\") & TEXT(G21,\"00\"))>0,VLOOKUP(TEXT(MoMonthNum,\"00\") & TEXT(G21,\"00\"),名簿!$D:$J,7,),\"\"))","v":""},{"$f":"IF(LEN(H21)=0,\"\",IF(COUNTIF(課題[月日],TEXT(MoMonthNum,\"00\") & TEXT(H21,\"00\"))>0,VLOOKUP(TEXT(MoMonthNum,\"00\") & TEXT(H21,\"00\"),名簿!$D:$J,7,),\"\"))","v":""}]
[null,{"$f":"IF(LEN(B22)=0,\"\",IF(COUNTIF(課題[月日],TEXT(MoMonthNum,\"00\") & TEXT(B21,\"00\"))>1,\"他　\" & COUNTIF(課題[月日],TEXT(MoMonthNum,\"00\") & TEXT(B21,\"00\"))-1 & \"名\",\"\"))","v":""},{"$f":"IF(LEN(C22)=0,\"\",IF(COUNTIF(課題[月日],TEXT(MoMonthNum,\"00\") & TEXT(C21,\"00\"))>1,\"他　\" & COUNTIF(課題[月日],TEXT(MoMonthNum,\"00\") & TEXT(C21,\"00\"))-1 & \"名\",\"\"))","v":""},{"$f":"IF(LEN(D22)=0,\"\",IF(COUNTIF(課題[月日],TEXT(MoMonthNum,\"00\") & TEXT(D21,\"00\"))>1,\"他　\" & COUNTIF(課題[月日],TEXT(MoMonthNum,\"00\") & TEXT(D21,\"00\"))-1 & \"名\",\"\"))","v":""},{"$f":"IF(LEN(E22)=0,\"\",IF(COUNTIF(課題[月日],TEXT(MoMonthNum,\"00\") & TEXT(E21,\"00\"))>1,\"他　\" & COUNTIF(課題[月日],TEXT(MoMonthNum,\"00\") & TEXT(E21,\"00\"))-1 & \"名\",\"\"))","v":""},{"$f":"IF(LEN(F22)=0,\"\",IF(COUNTIF(課題[月日],TEXT(MoMonthNum,\"00\") & TEXT(F21,\"00\"))>1,\"他　\" & COUNTIF(課題[月日],TEXT(MoMonthNum,\"00\") & TEXT(F21,\"00\"))-1 & \"名\",\"\"))","v":""},{"$f":"IF(LEN(G22)=0,\"\",IF(COUNTIF(課題[月日],TEXT(MoMonthNum,\"00\") & TEXT(G21,\"00\"))>1,\"他　\" & COUNTIF(課題[月日],TEXT(MoMonthNum,\"00\") & TEXT(G21,\"00\"))-1 & \"名\",\"\"))","v":""},{"$f":"IF(LEN(H22)=0,\"\",IF(COUNTIF(課題[月日],TEXT(MoMonthNum,\"00\") & TEXT(H21,\"00\"))>1,\"他　\" & COUNTIF(課題[月日],TEXT(MoMonthNum,\"00\") & TEXT(H21,\"00\"))-1 & \"名\",\"\"))","v":""}]
[]
[null,{"$f":"IF(LEN(H21)>0,IF(H21=DAY(DATE(MoYear,MoMonthNum+1,0)),\"\",H21+1),\"\")","v":27},{"$f":"IF(LEN(B26)>0,IF(B26=DAY(DATE(MoYear,MoMonthNum+1,0)),\"\",B26+1),\"\")","v":28},29,30,31,"",""]
[null,{"$f":"IF(LEN(B26)=0,\"\",IF(COUNTIF(課題[月日],TEXT(MoMonthNum,\"00\") & TEXT(B26,\"00\"))>0,VLOOKUP(TEXT(MoMonthNum,\"00\") & TEXT(B26,\"00\"),名簿!$D:$G,2,)&\"(\"&VLOOKUP(TEXT(MoMonthNum,\"00\") & TEXT(B26,\"00\"),名簿!$D:$J,6,)&\")\",\"\"))","v":""},{"$f":"IF(LEN(C26)=0,\"\",IF(COUNTIF(課題[月日],TEXT(MoMonthNum,\"00\") & TEXT(C26,\"00\"))>0,VLOOKUP(TEXT(MoMonthNum,\"00\") & TEXT(C26,\"00\"),名簿!$D:$G,2,)&\"(\"&VLOOKUP(TEXT(MoMonthNum,\"00\") & TEXT(C26,\"00\"),名簿!$D:$J,6,)&\")\",\"\"))","v":""},{"$f":"IF(LEN(D26)=0,\"\",IF(COUNTIF(課題[月日],TEXT(MoMonthNum,\"00\") & TEXT(D26,\"00\"))>0,VLOOKUP(TEXT(MoMonthNum,\"00\") & TEXT(D26,\"00\"),名簿!$D:$G,2,)&\"(\"&VLOOKUP(TEXT(MoMonthNum,\"00\") & TEXT(D26,\"00\"),名簿!$D:$J,6,)&\")\",\"\"))","v":""},{"$f":"IF(LEN(E26)=0,\"\",IF(COUNTIF(課題[月日],TEXT(MoMonthNum,\"00\") & TEXT(E26,\"00\"))>0,VLOOKUP(TEXT(MoMonthNum,\"00\") & TEXT(E26,\"00\"),名簿!$D:$G,2,)&\"(\"&VLOOKUP(TEXT(MoMonthNum,\"00\") & TEXT(E26,\"00\"),名簿!$D:$J,6,)&\")\",\"\"))","v":""},{"$f":"IF(LEN(F26)=0,\"\",IF(COUNTIF(課題[月日],TEXT(MoMonthNum,\"00\") & TEXT(F26,\"00\"))>0,VLOOKUP(TEXT(MoMonthNum,\"00\") & TEXT(F26,\"00\"),名簿!$D:$G,2,)&\"(\"&VLOOKUP(TEXT(MoMonthNum,\"00\") & TEXT(F26,\"00\"),名簿!$D:$J,6,)&\")\",\"\"))","v":""},{"$f":"IF(LEN(G26)=0,\"\",IF(COUNTIF(課題[月日],TEXT(MoMonthNum,\"00\") & TEXT(G26,\"00\"))>0,VLOOKUP(TEXT(MoMonthNum,\"00\") & TEXT(G26,\"00\"),名簿!$D:$G,2,)&\"(\"&VLOOKUP(TEXT(MoMonthNum,\"00\") & TEXT(G26,\"00\"),名簿!$D:$J,6,)&\")\",\"\"))","v":""},{"$f":"IF(LEN(H26)=0,\"\",IF(COUNTIF(課題[月日],TEXT(MoMonthNum,\"00\") & TEXT(H26,\"00\"))>0,VLOOKUP(TEXT(MoMonthNum,\"00\") & TEXT(H26,\"00\"),名簿!$D:$G,2,)&\"(\"&VLOOKUP(TEXT(MoMonthNum,\"00\") & TEXT(H26,\"00\"),名簿!$D:$J,6,)&\")\",\"\"))","v":""}]
[null,{"$f":"IF(LEN(B26)=0,\"\",IF(COUNTIF(課題[月日],TEXT(MoMonthNum,\"00\") & TEXT(B26,\"00\"))>0,VLOOKUP(TEXT(MoMonthNum,\"00\") & TEXT(B26,\"00\"),名簿!$D:$J,7,),\"\"))","v":""},{"$f":"IF(LEN(C26)=0,\"\",IF(COUNTIF(課題[月日],TEXT(MoMonthNum,\"00\") & TEXT(C26,\"00\"))>0,VLOOKUP(TEXT(MoMonthNum,\"00\") & TEXT(C26,\"00\"),名簿!$D:$J,7,),\"\"))","v":""},{"$f":"IF(LEN(D26)=0,\"\",IF(COUNTIF(課題[月日],TEXT(MoMonthNum,\"00\") & TEXT(D26,\"00\"))>0,VLOOKUP(TEXT(MoMonthNum,\"00\") & TEXT(D26,\"00\"),名簿!$D:$J,7,),\"\"))","v":""},{"$f":"IF(LEN(E26)=0,\"\",IF(COUNTIF(課題[月日],TEXT(MoMonthNum,\"00\") & TEXT(E26,\"00\"))>0,VLOOKUP(TEXT(MoMonthNum,\"00\") & TEXT(E26,\"00\"),名簿!$D:$J,7,),\"\"))","v":""},{"$f":"IF(LEN(F26)=0,\"\",IF(COUNTIF(課題[月日],TEXT(MoMonthNum,\"00\") & TEXT(F26,\"00\"))>0,VLOOKUP(TEXT(MoMonthNum,\"00\") & TEXT(F26,\"00\"),名簿!$D:$J,7,),\"\"))","v":""},{"$f":"IF(LEN(G26)=0,\"\",IF(COUNTIF(課題[月日],TEXT(MoMonthNum,\"00\") & TEXT(G26,\"00\"))>0,VLOOKUP(TEXT(MoMonthNum,\"00\") & TEXT(G26,\"00\"),名簿!$D:$J,7,),\"\"))","v":""},{"$f":"IF(LEN(H26)=0,\"\",IF(COUNTIF(課題[月日],TEXT(MoMonthNum,\"00\") & TEXT(H26,\"00\"))>0,VLOOKUP(TEXT(MoMonthNum,\"00\") & TEXT(H26,\"00\"),名簿!$D:$J,7,),\"\"))","v":""}]
[null,{"$f":"IF(LEN(B27)=0,\"\",IF(COUNTIF(課題[月日],TEXT(MoMonthNum,\"00\") & TEXT(B26,\"00\"))>1,\"他　\" & COUNTIF(課題[月日],TEXT(MoMonthNum,\"00\") & TEXT(B26,\"00\"))-1 & \"名\",\"\"))","v":""},{"$f":"IF(LEN(C27)=0,\"\",IF(COUNTIF(課題[月日],TEXT(MoMonthNum,\"00\") & TEXT(C26,\"00\"))>1,\"他　\" & COUNTIF(課題[月日],TEXT(MoMonthNum,\"00\") & TEXT(C26,\"00\"))-1 & \"名\",\"\"))","v":""},{"$f":"IF(LEN(D27)=0,\"\",IF(COUNTIF(課題[月日],TEXT(MoMonthNum,\"00\") & TEXT(D26,\"00\"))>1,\"他　\" & COUNTIF(課題[月日],TEXT(MoMonthNum,\"00\") & TEXT(D26,\"00\"))-1 & \"名\",\"\"))","v":""},{"$f":"IF(LEN(E27)=0,\"\",IF(COUNTIF(課題[月日],TEXT(MoMonthNum,\"00\") & TEXT(E26,\"00\"))>1,\"他　\" & COUNTIF(課題[月日],TEXT(MoMonthNum,\"00\") & TEXT(E26,\"00\"))-1 & \"名\",\"\"))","v":""},{"$f":"IF(LEN(F27)=0,\"\",IF(COUNTIF(課題[月日],TEXT(MoMonthNum,\"00\") & TEXT(F26,\"00\"))>1,\"他　\" & COUNTIF(課題[月日],TEXT(MoMonthNum,\"00\") & TEXT(F26,\"00\"))-1 & \"名\",\"\"))","v":""},{"$f":"IF(LEN(G27)=0,\"\",IF(COUNTIF(課題[月日],TEXT(MoMonthNum,\"00\") & TEXT(G26,\"00\"))>1,\"他　\" & COUNTIF(課題[月日],TEXT(MoMonthNum,\"00\") & TEXT(G26,\"00\"))-1 & \"名\",\"\"))","v":""},{"$f":"IF(LEN(H27)=0,\"\",IF(COUNTIF(課題[月日],TEXT(MoMonthNum,\"00\") & TEXT(H26,\"00\"))>1,\"他　\" & COUNTIF(課題[月日],TEXT(MoMonthNum,\"00\") & TEXT(H26,\"00\"))-1 & \"名\",\"\"))","v":""}]
[]
[null,{"$f":"IF(LEN(H26)>0,IF(H26=DAY(DATE(MoYear,MoMonthNum+1,0)),\"\",H26+1),\"\")","v":""},{"$f":"IF(LEN(B31)>0,IF(B31=DAY(DATE(MoYear,MoMonthNum+1,0)),\"\",B31+1),\"\")","v":""},"","","","",""]
[null,{"$f":"IF(LEN(B31)=0,\"\",IF(COUNTIF(課題[月日],TEXT(MoMonthNum,\"00\") & TEXT(B31,\"00\"))>0,VLOOKUP(TEXT(MoMonthNum,\"00\") & TEXT(B31,\"00\"),名簿!$D:$G,2,)&\"(\"&VLOOKUP(TEXT(MoMonthNum,\"00\") & TEXT(B31,\"00\"),名簿!$D:$J,6,)&\")\",\"\"))","v":""},{"$f":"IF(LEN(C31)=0,\"\",IF(COUNTIF(課題[月日],TEXT(MoMonthNum,\"00\") & TEXT(C31,\"00\"))>0,VLOOKUP(TEXT(MoMonthNum,\"00\") & TEXT(C31,\"00\"),名簿!$D:$G,2,)&\"(\"&VLOOKUP(TEXT(MoMonthNum,\"00\") & TEXT(C31,\"00\"),名簿!$D:$J,6,)&\")\",\"\"))","v":""},{"$f":"IF(LEN(D31)=0,\"\",IF(COUNTIF(課題[月日],TEXT(MoMonthNum,\"00\") & TEXT(D31,\"00\"))>0,VLOOKUP(TEXT(MoMonthNum,\"00\") & TEXT(D31,\"00\"),名簿!$D:$G,2,)&\"(\"&VLOOKUP(TEXT(MoMonthNum,\"00\") & TEXT(D31,\"00\"),名簿!$D:$J,6,)&\")\",\"\"))","v":""},{"$f":"IF(LEN(E31)=0,\"\",IF(COUNTIF(課題[月日],TEXT(MoMonthNum,\"00\") & TEXT(E31,\"00\"))>0,VLOOKUP(TEXT(MoMonthNum,\"00\") & TEXT(E31,\"00\"),名簿!$D:$G,2,)&\"(\"&VLOOKUP(TEXT(MoMonthNum,\"00\") & TEXT(E31,\"00\"),名簿!$D:$J,6,)&\")\",\"\"))","v":""},{"$f":"IF(LEN(F31)=0,\"\",IF(COUNTIF(課題[月日],TEXT(MoMonthNum,\"00\") & TEXT(F31,\"00\"))>0,VLOOKUP(TEXT(MoMonthNum,\"00\") & TEXT(F31,\"00\"),名簿!$D:$G,2,)&\"(\"&VLOOKUP(TEXT(MoMonthNum,\"00\") & TEXT(F31,\"00\"),名簿!$D:$J,6,)&\")\",\"\"))","v":""},{"$f":"IF(LEN(G31)=0,\"\",IF(COUNTIF(課題[月日],TEXT(MoMonthNum,\"00\") & TEXT(G31,\"00\"))>0,VLOOKUP(TEXT(MoMonthNum,\"00\") & TEXT(G31,\"00\"),名簿!$D:$G,2,)&\"(\"&VLOOKUP(TEXT(MoMonthNum,\"00\") & TEXT(G31,\"00\"),名簿!$D:$J,6,)&\")\",\"\"))","v":""},{"$f":"IF(LEN(H31)=0,\"\",IF(COUNTIF(課題[月日],TEXT(MoMonthNum,\"00\") & TEXT(H31,\"00\"))>0,VLOOKUP(TEXT(MoMonthNum,\"00\") & TEXT(H31,\"00\"),名簿!$D:$G,2,)&\"(\"&VLOOKUP(TEXT(MoMonthNum,\"00\") & TEXT(H31,\"00\"),名簿!$D:$J,6,)&\")\",\"\"))","v":""}]
[null,{"$f":"IF(LEN(B31)=0,\"\",IF(COUNTIF(課題[月日],TEXT(MoMonthNum,\"00\") & TEXT(B31,\"00\"))>0,VLOOKUP(TEXT(MoMonthNum,\"00\") & TEXT(B31,\"00\"),名簿!$D:$J,7,),\"\"))","v":""},{"$f":"IF(LEN(C31)=0,\"\",IF(COUNTIF(課題[月日],TEXT(MoMonthNum,\"00\") & TEXT(C31,\"00\"))>0,VLOOKUP(TEXT(MoMonthNum,\"00\") & TEXT(C31,\"00\"),名簿!$D:$J,7,),\"\"))","v":""},{"$f":"IF(LEN(D31)=0,\"\",IF(COUNTIF(課題[月日],TEXT(MoMonthNum,\"00\") & TEXT(D31,\"00\"))>0,VLOOKUP(TEXT(MoMonthNum,\"00\") & TEXT(D31,\"00\"),名簿!$D:$J,7,),\"\"))","v":""},{"$f":"IF(LEN(E31)=0,\"\",IF(COUNTIF(課題[月日],TEXT(MoMonthNum,\"00\") & TEXT(E31,\"00\"))>0,VLOOKUP(TEXT(MoMonthNum,\"00\") & TEXT(E31,\"00\"),名簿!$D:$J,7,),\"\"))","v":""},{"$f":"IF(LEN(F31)=0,\"\",IF(COUNTIF(課題[月日],TEXT(MoMonthNum,\"00\") & TEXT(F31,\"00\"))>0,VLOOKUP(TEXT(MoMonthNum,\"00\") & TEXT(F31,\"00\"),名簿!$D:$J,7,),\"\"))","v":""},{"$f":"IF(LEN(G31)=0,\"\",IF(COUNTIF(課題[月日],TEXT(MoMonthNum,\"00\") & TEXT(G31,\"00\"))>0,VLOOKUP(TEXT(MoMonthNum,\"00\") & TEXT(G31,\"00\"),名簿!$D:$J,7,),\"\"))","v":""},{"$f":"IF(LEN(H31)=0,\"\",IF(COUNTIF(課題[月日],TEXT(MoMonthNum,\"00\") & TEXT(H31,\"00\"))>0,VLOOKUP(TEXT(MoMonthNum,\"00\") & TEXT(H31,\"00\"),名簿!$D:$J,7,),\"\"))","v":""}]
[null,{"$f":"IF(LEN(B32)=0,\"\",IF(COUNTIF(課題[月日],TEXT(MoMonthNum,\"00\") & TEXT(B31,\"00\"))>1,\"他　\" & COUNTIF(課題[月日],TEXT(MoMonthNum,\"00\") & TEXT(B31,\"00\"))-1 & \"名\",\"\"))","v":""},{"$f":"IF(LEN(C32)=0,\"\",IF(COUNTIF(課題[月日],TEXT(MoMonthNum,\"00\") & TEXT(C31,\"00\"))>1,\"他　\" & COUNTIF(課題[月日],TEXT(MoMonthNum,\"00\") & TEXT(C31,\"00\"))-1 & \"名\",\"\"))","v":""},{"$f":"IF(LEN(D32)=0,\"\",IF(COUNTIF(課題[月日],TEXT(MoMonthNum,\"00\") & TEXT(D31,\"00\"))>1,\"他　\" & COUNTIF(課題[月日],TEXT(MoMonthNum,\"00\") & TEXT(D31,\"00\"))-1 & \"名\",\"\"))","v":""},{"$f":"IF(LEN(E32)=0,\"\",IF(COUNTIF(課題[月日],TEXT(MoMonthNum,\"00\") & TEXT(E31,\"00\"))>1,\"他　\" & COUNTIF(課題[月日],TEXT(MoMonthNum,\"00\") & TEXT(E31,\"00\"))-1 & \"名\",\"\"))","v":""},{"$f":"IF(LEN(F32)=0,\"\",IF(COUNTIF(課題[月日],TEXT(MoMonthNum,\"00\") & TEXT(F31,\"00\"))>1,\"他　\" & COUNTIF(課題[月日],TEXT(MoMonthNum,\"00\") & TEXT(F31,\"00\"))-1 & \"名\",\"\"))","v":""},{"$f":"IF(LEN(G32)=0,\"\",IF(COUNTIF(課題[月日],TEXT(MoMonthNum,\"00\") & TEXT(G31,\"00\"))>1,\"他　\" & COUNTIF(課題[月日],TEXT(MoMonthNum,\"00\") & TEXT(G31,\"00\"))-1 & \"名\",\"\"))","v":""},{"$f":"IF(LEN(H32)=0,\"\",IF(COUNTIF(課題[月日],TEXT(MoMonthNum,\"00\") & TEXT(H31,\"00\"))>1,\"他　\" & COUNTIF(課題[月日],TEXT(MoMonthNum,\"00\") & TEXT(H31,\"00\"))-1 & \"名\",\"\"))","v":""}]
[]
[]
[null,null,null,null,null,null,null,"提供 ： 一般社団法人中小企業財務・総務コンサルタント協会"]

{"sheet":"メール","index":2,"n_rows":10,"n_cols":3,"rows_kept":10,"cut":false,"hidden":false,"merged":[]}
[null,"メール（ひな形）"]
[]
[null,"タイトル："]
[]
[null,"内　容："]
[]
[null,"差出人："]
[]
[]
[null,null,"提供 ： 一般社団法人中小企業財務・総務コンサルタント協会"]

{"sheet":"説明","index":3,"n_rows":37,"n_cols":16,"rows_kept":37,"cut":false,"hidden":false,"merged":[]}
["アニバーサリー管理　操作説明",null,null,null,null,null,null,null,null,null,null,null,null,null,null,"2016-01-12"]
[]
["この“アニバーサリー管理”は、名簿に登録された誕生日をカレンダーで表示し、その誕生日の方にOutlookからメールを送信するまでのシステムとなっております。"]
["従って、Outlookがインストールされていることが前提となり、送信はあくまで使用者が行います。"]
["勿論、誕生日以外でも使えますので、ご自身の用途に合わせてご使用ください。"]
[]
["シートは「名簿」「カレンダー」「メール」と分かれております。通常は「カレンダー」シートをご覧いただくようになります。"]
[]
["①","まず最初に「名簿」シートをクリックしてください。"]
[]
["②","社員さんやお客様の情報を登録します。"]
[null,null,"・「№」・・・会社の社員番号や、お客様番号等を入力してください。無ければ1から順に番号を振って構いません。"]
[null,null,"・「月」「月日」・・・「生年月日」より自動計算されます。関数が入っておりますので何もせず右項目へ移動してください。"]
[null,null,"・「氏名」・・・氏名を入力してください。入力必須です。"]
[null,null,"・「生年月日」・・・生年月日を入力してください。入力必須です。　　入力例）“1972/5/1”、“S50/12/12”"]
[null,null,"・「年齢」・・・「生年月日」より自動計算されます。関数が入っておりますので何もせず右項目へ移動してください。"]
[null,null,"・「役職」・・・役職を入力してください。空白でも構いません。"]
[null,null,"・「部署」・・・部署を入力してください。空白でも構いません。"]
[null,null,"・「メールアドレス」・・・送信先のメールアドレスを入力してください。入力必須です。"]
[null,null,"・「補足」・・・社員さんやお客様の補足事項があればご使用ください。"]
[]
["③","次に、「メール」シートをクリックしてください。ここは共通の文言を登録しておく雛形を作成するイメージです。"]
[null,null,"・「タイトル」・・・誕生日に送るメールのタイトルを入力してください。"]
[null,null,"・「本文」・・・誕生日に送るメールの本文を入力してください。"]
[null,null,null," 年月の右横の✉ボタンをクリックした場合、本文そのままが、各日の✉ボタンをクリックした場合、本文の前に「氏名」＋“様”を追記して"]
[null,null,null," 表示させます。"]
[null,null,"・「差出人」・・・差出人名を入力してください。本文最後に追記して表示させます。"]
[null,null,null," 　入力例）“代表取締役　○○　○○”、“株式会社◎◎◎　　○○　○○”"]
[]
["④","「カレンダー」シートをクリックしてください。通常、情報が登録済みであれば、「カレンダー」シートを常時表示してください。"]
[null,"年と月の「▲」「▼」ボタンをクリックし、送りたい年月にしてください。"]
[null,null,"表示されている年月の誕生日の方一斉にメールしたい場合・・・年月の右横の✉ボタンをクリック⇒Outlookを起動し、その月の方のアドレスが送信先に表示"]
[null,null,"表示されている日の誕生日の方にメールしたい場合・・・各日のセル内の✉ボタンをクリック⇒一人ずつOutlookを起動し、アドレス等表示"]
[]
["⑤","起動したOutlookのメールの内容を確認後、送信ボタンをクリックしてください。"]
[]
[null,null,null,null,null,null,null,null,null,null,null,null,null,null,null,"一般社団法人中小企業財務・総務コンサルタント協会"]